BEGIN:VCALENDAR
VERSION:2.0
PRODID:-//First Unitarian Universalist Society in Newton - ECPv6.15.17.1//NONSGML v1.0//EN
CALSCALE:GREGORIAN
METHOD:PUBLISH
X-ORIGINAL-URL:https://fuusn.org
X-WR-CALDESC:Events for First Unitarian Universalist Society in Newton
REFRESH-INTERVAL;VALUE=DURATION:PT1H
X-Robots-Tag:noindex
X-PUBLISHED-TTL:PT1H
BEGIN:VTIMEZONE
TZID:America/New_York
BEGIN:DAYLIGHT
TZOFFSETFROM:-0500
TZOFFSETTO:-0400
TZNAME:EDT
DTSTART:20220313T070000
END:DAYLIGHT
BEGIN:STANDARD
TZOFFSETFROM:-0400
TZOFFSETTO:-0500
TZNAME:EST
DTSTART:20221106T060000
END:STANDARD
BEGIN:DAYLIGHT
TZOFFSETFROM:-0500
TZOFFSETTO:-0400
TZNAME:EDT
DTSTART:20230312T070000
END:DAYLIGHT
BEGIN:STANDARD
TZOFFSETFROM:-0400
TZOFFSETTO:-0500
TZNAME:EST
DTSTART:20231105T060000
END:STANDARD
BEGIN:DAYLIGHT
TZOFFSETFROM:-0500
TZOFFSETTO:-0400
TZNAME:EDT
DTSTART:20240310T070000
END:DAYLIGHT
BEGIN:STANDARD
TZOFFSETFROM:-0400
TZOFFSETTO:-0500
TZNAME:EST
DTSTART:20241103T060000
END:STANDARD
END:VTIMEZONE
BEGIN:VEVENT
DTSTART;TZID=America/New_York:20231203T170000
DTEND;TZID=America/New_York:20231203T193000
DTSTAMP:20260423T153253
CREATED:20230816T175519Z
LAST-MODIFIED:20230927T174329Z
UID:10000795-1701622800-1701631800@fuusn.org
SUMMARY:All8 Arts Workshop Series
DESCRIPTION:Once a month between October through May for two hours\, youth in 7th grade and older together with adults are invited to participate in an exploration of all eight UU principles through photography\, creative writing\, fine art\, collage\, digital art\, and sculpting. Members of our Racial Justice Ministry team will be facilitating this program.
URL:https://fuusn.org/event/all8-arts-workshop-series/2023-12-03/
LOCATION:Parish Hall and Kitchen
CATEGORIES:Classes,Religious Exploration
END:VEVENT
BEGIN:VEVENT
DTSTART;TZID=America/New_York:20231206T183000
DTEND;TZID=America/New_York:20231206T193000
DTSTAMP:20260423T153253
CREATED:20230823T182047Z
LAST-MODIFIED:20230823T182602Z
UID:10000331-1701887400-1701891000@fuusn.org
SUMMARY:Tai Chi Class
DESCRIPTION:Come and participate in this traditional form known as “Six Harmonies\, Eight Methods” and experience for yourself this extraordinary gift from China’s rich cultural heritage. Joe Lyons\, Instructor.
URL:https://fuusn.org/event/tai-chi-class/2023-12-06/
LOCATION:Headstart Room
CATEGORIES:Classes,Rentals
END:VEVENT
BEGIN:VEVENT
DTSTART;TZID=America/New_York:20231207T163000
DTEND;TZID=America/New_York:20231207T190000
DTSTAMP:20260423T153253
CREATED:20230910T132709Z
LAST-MODIFIED:20230910T132709Z
UID:10000703-1701966600-1701975600@fuusn.org
SUMMARY:Creationdance
DESCRIPTION:
URL:https://fuusn.org/event/creationdance/2023-12-07/
LOCATION:Headstart Room
CATEGORIES:Classes
END:VEVENT
BEGIN:VEVENT
DTSTART;TZID=America/New_York:20231213T183000
DTEND;TZID=America/New_York:20231213T193000
DTSTAMP:20260423T153253
CREATED:20230823T182047Z
LAST-MODIFIED:20230823T182602Z
UID:10000332-1702492200-1702495800@fuusn.org
SUMMARY:Tai Chi Class
DESCRIPTION:Come and participate in this traditional form known as “Six Harmonies\, Eight Methods” and experience for yourself this extraordinary gift from China’s rich cultural heritage. Joe Lyons\, Instructor.
URL:https://fuusn.org/event/tai-chi-class/2023-12-13/
LOCATION:Headstart Room
CATEGORIES:Classes,Rentals
END:VEVENT
BEGIN:VEVENT
DTSTART;TZID=America/New_York:20231214T150000
DTEND;TZID=America/New_York:20231214T170000
DTSTAMP:20260423T153253
CREATED:20231128T195734Z
LAST-MODIFIED:20231128T195734Z
UID:10001025-1702566000-1702573200@fuusn.org
SUMMARY:Soul Matters Small Group Meeting - 2nd Thursdays (online)
DESCRIPTION:
URL:https://fuusn.org/event/soul-matters-small-group-meeting-2nd-thursdays-online/
LOCATION:Online
CATEGORIES:Classes,Religious Exploration
END:VEVENT
BEGIN:VEVENT
DTSTART;TZID=America/New_York:20231214T163000
DTEND;TZID=America/New_York:20231214T190000
DTSTAMP:20260423T153253
CREATED:20230910T132709Z
LAST-MODIFIED:20230910T132709Z
UID:10000704-1702571400-1702580400@fuusn.org
SUMMARY:Creationdance
DESCRIPTION:
URL:https://fuusn.org/event/creationdance/2023-12-14/
LOCATION:Headstart Room
CATEGORIES:Classes
END:VEVENT
BEGIN:VEVENT
DTSTART;TZID=America/New_York:20231220T183000
DTEND;TZID=America/New_York:20231220T193000
DTSTAMP:20260423T153253
CREATED:20230823T182047Z
LAST-MODIFIED:20230823T182602Z
UID:10000333-1703097000-1703100600@fuusn.org
SUMMARY:Tai Chi Class
DESCRIPTION:Come and participate in this traditional form known as “Six Harmonies\, Eight Methods” and experience for yourself this extraordinary gift from China’s rich cultural heritage. Joe Lyons\, Instructor.
URL:https://fuusn.org/event/tai-chi-class/2023-12-20/
LOCATION:Headstart Room
CATEGORIES:Classes,Rentals
END:VEVENT
BEGIN:VEVENT
DTSTART;TZID=America/New_York:20231227T183000
DTEND;TZID=America/New_York:20231227T193000
DTSTAMP:20260423T153253
CREATED:20230823T182047Z
LAST-MODIFIED:20230823T182602Z
UID:10000334-1703701800-1703705400@fuusn.org
SUMMARY:Tai Chi Class
DESCRIPTION:Come and participate in this traditional form known as “Six Harmonies\, Eight Methods” and experience for yourself this extraordinary gift from China’s rich cultural heritage. Joe Lyons\, Instructor.
URL:https://fuusn.org/event/tai-chi-class/2023-12-27/
LOCATION:Headstart Room
CATEGORIES:Classes,Rentals
END:VEVENT
END:VCALENDAR