BEGIN:VCALENDAR
VERSION:2.0
PRODID:-//First Unitarian Universalist Society in Newton - ECPv6.15.17.1//NONSGML v1.0//EN
CALSCALE:GREGORIAN
METHOD:PUBLISH
X-ORIGINAL-URL:https://fuusn.org
X-WR-CALDESC:Events for First Unitarian Universalist Society in Newton
REFRESH-INTERVAL;VALUE=DURATION:PT1H
X-Robots-Tag:noindex
X-PUBLISHED-TTL:PT1H
BEGIN:VTIMEZONE
TZID:America/New_York
BEGIN:DAYLIGHT
TZOFFSETFROM:-0500
TZOFFSETTO:-0400
TZNAME:EDT
DTSTART:20230312T070000
END:DAYLIGHT
BEGIN:STANDARD
TZOFFSETFROM:-0400
TZOFFSETTO:-0500
TZNAME:EST
DTSTART:20231105T060000
END:STANDARD
BEGIN:DAYLIGHT
TZOFFSETFROM:-0500
TZOFFSETTO:-0400
TZNAME:EDT
DTSTART:20240310T070000
END:DAYLIGHT
BEGIN:STANDARD
TZOFFSETFROM:-0400
TZOFFSETTO:-0500
TZNAME:EST
DTSTART:20241103T060000
END:STANDARD
BEGIN:DAYLIGHT
TZOFFSETFROM:-0500
TZOFFSETTO:-0400
TZNAME:EDT
DTSTART:20250309T070000
END:DAYLIGHT
BEGIN:STANDARD
TZOFFSETFROM:-0400
TZOFFSETTO:-0500
TZNAME:EST
DTSTART:20251102T060000
END:STANDARD
END:VTIMEZONE
BEGIN:VEVENT
DTSTART;TZID=America/New_York:20240303T170000
DTEND;TZID=America/New_York:20240303T193000
DTSTAMP:20260423T071522
CREATED:20230816T175519Z
LAST-MODIFIED:20230927T174329Z
UID:10000798-1709485200-1709494200@fuusn.org
SUMMARY:All8 Arts Workshop Series
DESCRIPTION:Once a month between October through May for two hours\, youth in 7th grade and older together with adults are invited to participate in an exploration of all eight UU principles through photography\, creative writing\, fine art\, collage\, digital art\, and sculpting. Members of our Racial Justice Ministry team will be facilitating this program.
URL:https://fuusn.org/event/all8-arts-workshop-series/2024-03-03/
LOCATION:Parish Hall and Kitchen
CATEGORIES:Classes,Religious Exploration
END:VEVENT
BEGIN:VEVENT
DTSTART;TZID=America/New_York:20240305T160000
DTEND;TZID=America/New_York:20240305T180000
DTSTAMP:20260423T071522
CREATED:20240205T215640Z
LAST-MODIFIED:20240205T220132Z
UID:10001267-1709654400-1709661600@fuusn.org
SUMMARY:Living the Pledge to End Racism Workshop
DESCRIPTION:Barbara Deck and Christopher Krebs invite you to consider joining our next Living the Pledge to End Racism workshop series starting on February 27th. The Living the Pledge workshop involves six two-hour virtual sessions all on Zoom spread over 6 weeks. It is customized as an intimate small group experience for FUUSN folks and others who want to maximize their learning and personal transformation around racism and take the next step in building a Beloved Community at FUUSN or in their local community. \nRead More
URL:https://fuusn.org/event/living-the-pledge-to-end-racism-workshop-2/2024-03-05/
LOCATION:Online
CATEGORIES:Classes
END:VEVENT
BEGIN:VEVENT
DTSTART;TZID=America/New_York:20240306T183000
DTEND;TZID=America/New_York:20240306T193000
DTSTAMP:20260423T071522
CREATED:20230823T182047Z
LAST-MODIFIED:20230823T182602Z
UID:10000344-1709749800-1709753400@fuusn.org
SUMMARY:Tai Chi Class
DESCRIPTION:Come and participate in this traditional form known as “Six Harmonies\, Eight Methods” and experience for yourself this extraordinary gift from China’s rich cultural heritage. Joe Lyons\, Instructor.
URL:https://fuusn.org/event/tai-chi-class/2024-03-06/
LOCATION:Headstart Room
CATEGORIES:Classes,Rentals
END:VEVENT
BEGIN:VEVENT
DTSTART;TZID=America/New_York:20240307T190000
DTEND;TZID=America/New_York:20240307T210000
DTSTAMP:20260423T071522
CREATED:20240220T201057Z
LAST-MODIFIED:20240220T201057Z
UID:10001339-1709838000-1709845200@fuusn.org
SUMMARY:Online Presentation of Article II of the UUA Bylaws
DESCRIPTION:This year’s UUA General Assembly will include a special vote by delegates on new wording for our principles and purposes as stated in our UUA by-laws\, known as “Article II.” This vote finalizes a multi-year process that includes considerable work by the Article II Study Commission and the UUA Board of Trustees. Article II has not been updated since the 1980s. Congregations are encouraged to be in rigorous conversation about Article II. It is important that we all engage with one another\, ask questions\, share thoughts and concerns\, and prepare for the final vote to be held at the 2024 General Assembly. \nRegister Here \n 
URL:https://fuusn.org/event/online-presentation-of-article-ii-of-the-uua-bylaws/
LOCATION:Online
CATEGORIES:Classes
END:VEVENT
BEGIN:VEVENT
DTSTART;TZID=America/New_York:20240312T160000
DTEND;TZID=America/New_York:20240312T180000
DTSTAMP:20260423T071522
CREATED:20240205T215640Z
LAST-MODIFIED:20240205T220132Z
UID:10001268-1710259200-1710266400@fuusn.org
SUMMARY:Living the Pledge to End Racism Workshop
DESCRIPTION:Barbara Deck and Christopher Krebs invite you to consider joining our next Living the Pledge to End Racism workshop series starting on February 27th. The Living the Pledge workshop involves six two-hour virtual sessions all on Zoom spread over 6 weeks. It is customized as an intimate small group experience for FUUSN folks and others who want to maximize their learning and personal transformation around racism and take the next step in building a Beloved Community at FUUSN or in their local community. \nRead More
URL:https://fuusn.org/event/living-the-pledge-to-end-racism-workshop-2/2024-03-12/
LOCATION:Online
CATEGORIES:Classes
END:VEVENT
BEGIN:VEVENT
DTSTART;TZID=America/New_York:20240313T183000
DTEND;TZID=America/New_York:20240313T193000
DTSTAMP:20260423T071522
CREATED:20230823T182047Z
LAST-MODIFIED:20230823T182602Z
UID:10000345-1710354600-1710358200@fuusn.org
SUMMARY:Tai Chi Class
DESCRIPTION:Come and participate in this traditional form known as “Six Harmonies\, Eight Methods” and experience for yourself this extraordinary gift from China’s rich cultural heritage. Joe Lyons\, Instructor.
URL:https://fuusn.org/event/tai-chi-class/2024-03-13/
LOCATION:Headstart Room
CATEGORIES:Classes,Rentals
END:VEVENT
BEGIN:VEVENT
DTSTART;TZID=America/New_York:20240319T160000
DTEND;TZID=America/New_York:20240319T180000
DTSTAMP:20260423T071522
CREATED:20240205T215640Z
LAST-MODIFIED:20240205T220132Z
UID:10001269-1710864000-1710871200@fuusn.org
SUMMARY:Living the Pledge to End Racism Workshop
DESCRIPTION:Barbara Deck and Christopher Krebs invite you to consider joining our next Living the Pledge to End Racism workshop series starting on February 27th. The Living the Pledge workshop involves six two-hour virtual sessions all on Zoom spread over 6 weeks. It is customized as an intimate small group experience for FUUSN folks and others who want to maximize their learning and personal transformation around racism and take the next step in building a Beloved Community at FUUSN or in their local community. \nRead More
URL:https://fuusn.org/event/living-the-pledge-to-end-racism-workshop-2/2024-03-19/
LOCATION:Online
CATEGORIES:Classes
END:VEVENT
BEGIN:VEVENT
DTSTART;TZID=America/New_York:20240320T183000
DTEND;TZID=America/New_York:20240320T193000
DTSTAMP:20260423T071522
CREATED:20230823T182047Z
LAST-MODIFIED:20230823T182602Z
UID:10000346-1710959400-1710963000@fuusn.org
SUMMARY:Tai Chi Class
DESCRIPTION:Come and participate in this traditional form known as “Six Harmonies\, Eight Methods” and experience for yourself this extraordinary gift from China’s rich cultural heritage. Joe Lyons\, Instructor.
URL:https://fuusn.org/event/tai-chi-class/2024-03-20/
LOCATION:Headstart Room
CATEGORIES:Classes,Rentals
END:VEVENT
BEGIN:VEVENT
DTSTART;TZID=America/New_York:20240326T160000
DTEND;TZID=America/New_York:20240326T180000
DTSTAMP:20260423T071522
CREATED:20240205T215640Z
LAST-MODIFIED:20240205T220132Z
UID:10001270-1711468800-1711476000@fuusn.org
SUMMARY:Living the Pledge to End Racism Workshop
DESCRIPTION:Barbara Deck and Christopher Krebs invite you to consider joining our next Living the Pledge to End Racism workshop series starting on February 27th. The Living the Pledge workshop involves six two-hour virtual sessions all on Zoom spread over 6 weeks. It is customized as an intimate small group experience for FUUSN folks and others who want to maximize their learning and personal transformation around racism and take the next step in building a Beloved Community at FUUSN or in their local community. \nRead More
URL:https://fuusn.org/event/living-the-pledge-to-end-racism-workshop-2/2024-03-26/
LOCATION:Online
CATEGORIES:Classes
END:VEVENT
BEGIN:VEVENT
DTSTART;TZID=America/New_York:20240327T183000
DTEND;TZID=America/New_York:20240327T193000
DTSTAMP:20260423T071522
CREATED:20230823T182047Z
LAST-MODIFIED:20230823T182602Z
UID:10000347-1711564200-1711567800@fuusn.org
SUMMARY:Tai Chi Class
DESCRIPTION:Come and participate in this traditional form known as “Six Harmonies\, Eight Methods” and experience for yourself this extraordinary gift from China’s rich cultural heritage. Joe Lyons\, Instructor.
URL:https://fuusn.org/event/tai-chi-class/2024-03-27/
LOCATION:Headstart Room
CATEGORIES:Classes,Rentals
END:VEVENT
END:VCALENDAR