BEGIN:VCALENDAR
VERSION:2.0
PRODID:-//First Unitarian Universalist Society in Newton - ECPv6.15.17.1//NONSGML v1.0//EN
CALSCALE:GREGORIAN
METHOD:PUBLISH
X-WR-CALNAME:First Unitarian Universalist Society in Newton
X-ORIGINAL-URL:https://fuusn.org
X-WR-CALDESC:Events for First Unitarian Universalist Society in Newton
REFRESH-INTERVAL;VALUE=DURATION:PT1H
X-Robots-Tag:noindex
X-PUBLISHED-TTL:PT1H
BEGIN:VTIMEZONE
TZID:America/New_York
BEGIN:DAYLIGHT
TZOFFSETFROM:-0500
TZOFFSETTO:-0400
TZNAME:EDT
DTSTART:20230312T070000
END:DAYLIGHT
BEGIN:STANDARD
TZOFFSETFROM:-0400
TZOFFSETTO:-0500
TZNAME:EST
DTSTART:20231105T060000
END:STANDARD
BEGIN:DAYLIGHT
TZOFFSETFROM:-0500
TZOFFSETTO:-0400
TZNAME:EDT
DTSTART:20240310T070000
END:DAYLIGHT
BEGIN:STANDARD
TZOFFSETFROM:-0400
TZOFFSETTO:-0500
TZNAME:EST
DTSTART:20241103T060000
END:STANDARD
BEGIN:DAYLIGHT
TZOFFSETFROM:-0500
TZOFFSETTO:-0400
TZNAME:EDT
DTSTART:20250309T070000
END:DAYLIGHT
BEGIN:STANDARD
TZOFFSETFROM:-0400
TZOFFSETTO:-0500
TZNAME:EST
DTSTART:20251102T060000
END:STANDARD
END:VTIMEZONE
BEGIN:VEVENT
DTSTART;TZID=America/New_York:20241117T120000
DTEND;TZID=America/New_York:20241117T130000
DTSTAMP:20260421T101307
CREATED:20240311T134732Z
LAST-MODIFIED:20240826T155112Z
UID:10001414-1731844800-1731848400@fuusn.org
SUMMARY:Over 60s Presentation: Understanding New Cancer Therapies and Their Importance for Older Adults
DESCRIPTION:Dr. Kevin Hartshorn\, Professor of Medicine at Boston Medical Center\, activist and poet\, will talk about new developments in treatments for cancers. Everyone welcome! \nAlliance Room: 12- 1 pm. Finger food lunch.
URL:https://fuusn.org/event/over-60s-presentation-3/
LOCATION:Alliance Room\, 1326 Washington St.\, West Newton\, MA\, 02465\, United States
CATEGORIES:Classes,Over 60s
END:VEVENT
END:VCALENDAR