BEGIN:VCALENDAR
VERSION:2.0
PRODID:-//First Unitarian Universalist Society in Newton - ECPv6.15.17.1//NONSGML v1.0//EN
CALSCALE:GREGORIAN
METHOD:PUBLISH
X-ORIGINAL-URL:https://fuusn.org
X-WR-CALDESC:Events for First Unitarian Universalist Society in Newton
REFRESH-INTERVAL;VALUE=DURATION:PT1H
X-Robots-Tag:noindex
X-PUBLISHED-TTL:PT1H
BEGIN:VTIMEZONE
TZID:America/New_York
BEGIN:DAYLIGHT
TZOFFSETFROM:-0500
TZOFFSETTO:-0400
TZNAME:EDT
DTSTART:20240310T070000
END:DAYLIGHT
BEGIN:STANDARD
TZOFFSETFROM:-0400
TZOFFSETTO:-0500
TZNAME:EST
DTSTART:20241103T060000
END:STANDARD
BEGIN:DAYLIGHT
TZOFFSETFROM:-0500
TZOFFSETTO:-0400
TZNAME:EDT
DTSTART:20250309T070000
END:DAYLIGHT
BEGIN:STANDARD
TZOFFSETFROM:-0400
TZOFFSETTO:-0500
TZNAME:EST
DTSTART:20251102T060000
END:STANDARD
BEGIN:DAYLIGHT
TZOFFSETFROM:-0500
TZOFFSETTO:-0400
TZNAME:EDT
DTSTART:20260308T070000
END:DAYLIGHT
BEGIN:STANDARD
TZOFFSETFROM:-0400
TZOFFSETTO:-0500
TZNAME:EST
DTSTART:20261101T060000
END:STANDARD
END:VTIMEZONE
BEGIN:VEVENT
DTSTART;TZID=America/New_York:20250118T093000
DTEND;TZID=America/New_York:20250118T120000
DTSTAMP:20260421T042707
CREATED:20250109T151348Z
LAST-MODIFIED:20250109T151348Z
UID:10003741-1737192600-1737201600@fuusn.org
SUMMARY:New to Unitarian Universalism Class
DESCRIPTION:The New to Unitarian Universalism class from 9:30 AM to Noon in the Children’s Chapel is an opportunity to learn more about Unitarian Universalism and FUUSN and to find out more about becoming a member of our congregation. It’s a great opportunity to learn more about us\, and we strongly urge you to attend.  Please RSVP.
URL:https://fuusn.org/event/new-to-unitarian-universalism-class/
LOCATION:Chapel
CATEGORIES:Adult Classes,Classes,Front Page,Religious Exploration
END:VEVENT
BEGIN:VEVENT
DTSTART;TZID=America/New_York:20250126T120000
DTEND;TZID=America/New_York:20250126T133000
DTSTAMP:20260421T042707
CREATED:20250119T201759Z
LAST-MODIFIED:20250119T201759Z
UID:10003745-1737892800-1737898200@fuusn.org
SUMMARY:Greeter Team Training
DESCRIPTION:We are seeking new members for our team of people who welcome visitors and newcomers to FUUSN each week before the service. If you are extroverted\, love FUUSN\, and can volunteer at least twice a month\, please join current greeters for a training on how to best welcome and engage visitors. Sign up here. Current greeters\, please sign up as well.
URL:https://fuusn.org/event/greeter-team-training/
LOCATION:FUUSN\, 1326 Washington St.\, West Newton\, MA\, 02465\, United States
CATEGORIES:Classes,Volunteer
END:VEVENT
END:VCALENDAR