BEGIN:VCALENDAR
VERSION:2.0
PRODID:-//First Unitarian Universalist Society in Newton - ECPv6.15.17.1//NONSGML v1.0//EN
CALSCALE:GREGORIAN
METHOD:PUBLISH
X-WR-CALNAME:First Unitarian Universalist Society in Newton
X-ORIGINAL-URL:https://fuusn.org
X-WR-CALDESC:Events for First Unitarian Universalist Society in Newton
REFRESH-INTERVAL;VALUE=DURATION:PT1H
X-Robots-Tag:noindex
X-PUBLISHED-TTL:PT1H
BEGIN:VTIMEZONE
TZID:America/New_York
BEGIN:DAYLIGHT
TZOFFSETFROM:-0500
TZOFFSETTO:-0400
TZNAME:EDT
DTSTART:20250309T070000
END:DAYLIGHT
BEGIN:STANDARD
TZOFFSETFROM:-0400
TZOFFSETTO:-0500
TZNAME:EST
DTSTART:20251102T060000
END:STANDARD
BEGIN:DAYLIGHT
TZOFFSETFROM:-0500
TZOFFSETTO:-0400
TZNAME:EDT
DTSTART:20260308T070000
END:DAYLIGHT
BEGIN:STANDARD
TZOFFSETFROM:-0400
TZOFFSETTO:-0500
TZNAME:EST
DTSTART:20261101T060000
END:STANDARD
BEGIN:DAYLIGHT
TZOFFSETFROM:-0500
TZOFFSETTO:-0400
TZNAME:EDT
DTSTART:20270314T070000
END:DAYLIGHT
BEGIN:STANDARD
TZOFFSETFROM:-0400
TZOFFSETTO:-0500
TZNAME:EST
DTSTART:20271107T060000
END:STANDARD
END:VTIMEZONE
BEGIN:VEVENT
DTSTART;TZID=America/New_York:20260425T090000
DTEND;TZID=America/New_York:20260425T120000
DTSTAMP:20260421T165406
CREATED:20260327T183424Z
LAST-MODIFIED:20260327T183424Z
UID:10004661-1777107600-1777118400@fuusn.org
SUMMARY:Charles River Cleanup
DESCRIPTION:Please join other FUUSNites in the Annual Clean-up along the Charles. We will be assigned a location in Newton where we will pick up trash and return the walking paths to their natural beauty. This is a quick and easy way to engage your environmental spirit and love of nature. We anticipate fielding a team of a dozen or more volunteers. Ages 8+ are welcome. \nPlease contact Betsy Harper to sign up and crwa.org to register.  You will be requested to sign a waiver. Please use “FUUSN” as your group affiliation
URL:https://fuusn.org/event/charles-river-cleanup-3/
LOCATION:Offsite
CATEGORIES:Front Page
END:VEVENT
BEGIN:VEVENT
DTSTART;TZID=America/New_York:20260806T170000
DTEND;TZID=America/New_York:20260806T190000
DTSTAMP:20260421T165406
CREATED:20260403T173525Z
LAST-MODIFIED:20260403T173525Z
UID:10004667-1786035600-1786042800@fuusn.org
SUMMARY:Annual Summer BBQ
DESCRIPTION:Update your FUUSN friends and greet newcomers with what you’ve been up to this summer. Bring something to grill and a side dish and beverages to our summer BBQ.
URL:https://fuusn.org/event/annual-summer-bbq-2/
LOCATION:Offsite
CATEGORIES:Front Page
END:VEVENT
END:VCALENDAR