BEGIN:VCALENDAR
VERSION:2.0
PRODID:-//First Unitarian Universalist Society in Newton - ECPv6.15.17.1//NONSGML v1.0//EN
CALSCALE:GREGORIAN
METHOD:PUBLISH
X-WR-CALNAME:First Unitarian Universalist Society in Newton
X-ORIGINAL-URL:https://fuusn.org
X-WR-CALDESC:Events for First Unitarian Universalist Society in Newton
REFRESH-INTERVAL;VALUE=DURATION:PT1H
X-Robots-Tag:noindex
X-PUBLISHED-TTL:PT1H
BEGIN:VTIMEZONE
TZID:America/New_York
BEGIN:DAYLIGHT
TZOFFSETFROM:-0500
TZOFFSETTO:-0400
TZNAME:EDT
DTSTART:20220313T070000
END:DAYLIGHT
BEGIN:STANDARD
TZOFFSETFROM:-0400
TZOFFSETTO:-0500
TZNAME:EST
DTSTART:20221106T060000
END:STANDARD
BEGIN:DAYLIGHT
TZOFFSETFROM:-0500
TZOFFSETTO:-0400
TZNAME:EDT
DTSTART:20230312T070000
END:DAYLIGHT
BEGIN:STANDARD
TZOFFSETFROM:-0400
TZOFFSETTO:-0500
TZNAME:EST
DTSTART:20231105T060000
END:STANDARD
BEGIN:DAYLIGHT
TZOFFSETFROM:-0500
TZOFFSETTO:-0400
TZNAME:EDT
DTSTART:20240310T070000
END:DAYLIGHT
BEGIN:STANDARD
TZOFFSETFROM:-0400
TZOFFSETTO:-0500
TZNAME:EST
DTSTART:20241103T060000
END:STANDARD
BEGIN:DAYLIGHT
TZOFFSETFROM:-0500
TZOFFSETTO:-0400
TZNAME:EDT
DTSTART:20250309T070000
END:DAYLIGHT
BEGIN:STANDARD
TZOFFSETFROM:-0400
TZOFFSETTO:-0500
TZNAME:EST
DTSTART:20251102T060000
END:STANDARD
BEGIN:DAYLIGHT
TZOFFSETFROM:-0500
TZOFFSETTO:-0400
TZNAME:EDT
DTSTART:20260308T070000
END:DAYLIGHT
BEGIN:STANDARD
TZOFFSETFROM:-0400
TZOFFSETTO:-0500
TZNAME:EST
DTSTART:20261101T060000
END:STANDARD
BEGIN:DAYLIGHT
TZOFFSETFROM:-0500
TZOFFSETTO:-0400
TZNAME:EDT
DTSTART:20270314T070000
END:DAYLIGHT
BEGIN:STANDARD
TZOFFSETFROM:-0400
TZOFFSETTO:-0500
TZNAME:EST
DTSTART:20271107T060000
END:STANDARD
END:VTIMEZONE
BEGIN:VEVENT
DTSTART;TZID=America/New_York:20260317T190000
DTEND;TZID=America/New_York:20260317T210000
DTSTAMP:20260421T201735
CREATED:20251015T132345Z
LAST-MODIFIED:20251015T132345Z
UID:10004571-1773774000-1773781200@fuusn.org
SUMMARY:Operations Council Meeting
DESCRIPTION:
URL:https://fuusn.org/event/operations-council-meeting-2/2026-03-17/
LOCATION:Alliance Room\, 1326 Washington St.\, West Newton\, MA\, 02465\, United States
CATEGORIES:Meetings,Operations Council
END:VEVENT
BEGIN:VEVENT
DTSTART;TZID=America/New_York:20260217T190000
DTEND;TZID=America/New_York:20260217T210000
DTSTAMP:20260421T201735
CREATED:20251015T132345Z
LAST-MODIFIED:20251015T132345Z
UID:10004570-1771354800-1771362000@fuusn.org
SUMMARY:Operations Council Meeting
DESCRIPTION:
URL:https://fuusn.org/event/operations-council-meeting-2/2026-02-17/
LOCATION:Alliance Room\, 1326 Washington St.\, West Newton\, MA\, 02465\, United States
CATEGORIES:Meetings,Operations Council
END:VEVENT
BEGIN:VEVENT
DTSTART;TZID=America/New_York:20260120T190000
DTEND;TZID=America/New_York:20260120T210000
DTSTAMP:20260421T201735
CREATED:20251015T132345Z
LAST-MODIFIED:20251015T132345Z
UID:10004569-1768935600-1768942800@fuusn.org
SUMMARY:Operations Council Meeting
DESCRIPTION:
URL:https://fuusn.org/event/operations-council-meeting-2/2026-01-20/
LOCATION:Alliance Room\, 1326 Washington St.\, West Newton\, MA\, 02465\, United States
CATEGORIES:Meetings,Operations Council
END:VEVENT
BEGIN:VEVENT
DTSTART;TZID=America/New_York:20251216T190000
DTEND;TZID=America/New_York:20251216T210000
DTSTAMP:20260421T201735
CREATED:20251015T132345Z
LAST-MODIFIED:20251015T132345Z
UID:10004568-1765911600-1765918800@fuusn.org
SUMMARY:Operations Council Meeting
DESCRIPTION:
URL:https://fuusn.org/event/operations-council-meeting-2/2025-12-16/
LOCATION:Alliance Room\, 1326 Washington St.\, West Newton\, MA\, 02465\, United States
CATEGORIES:Meetings,Operations Council
END:VEVENT
BEGIN:VEVENT
DTSTART;TZID=America/New_York:20251118T190000
DTEND;TZID=America/New_York:20251118T210000
DTSTAMP:20260421T201735
CREATED:20251015T132345Z
LAST-MODIFIED:20251015T132345Z
UID:10004567-1763492400-1763499600@fuusn.org
SUMMARY:Operations Council Meeting
DESCRIPTION:
URL:https://fuusn.org/event/operations-council-meeting-2/2025-11-18/
LOCATION:Alliance Room\, 1326 Washington St.\, West Newton\, MA\, 02465\, United States
CATEGORIES:Meetings,Operations Council
END:VEVENT
BEGIN:VEVENT
DTSTART;TZID=America/New_York:20251021T190000
DTEND;TZID=America/New_York:20251021T210000
DTSTAMP:20260421T201735
CREATED:20251015T132345Z
LAST-MODIFIED:20251015T132345Z
UID:10004566-1761073200-1761080400@fuusn.org
SUMMARY:Operations Council Meeting
DESCRIPTION:
URL:https://fuusn.org/event/operations-council-meeting-2/2025-10-21/
LOCATION:Alliance Room\, 1326 Washington St.\, West Newton\, MA\, 02465\, United States
CATEGORIES:Meetings,Operations Council
END:VEVENT
BEGIN:VEVENT
DTSTART;TZID=America/New_York:20241217T190000
DTEND;TZID=America/New_York:20241217T210000
DTSTAMP:20260421T201735
CREATED:20240925T184903Z
LAST-MODIFIED:20240925T184906Z
UID:10003097-1734462000-1734469200@fuusn.org
SUMMARY:Operations Council Meeting
DESCRIPTION:Meeting minutes may be found here.
URL:https://fuusn.org/event/operations-council-meeting-2-4/
LOCATION:Chapel
CATEGORIES:Meetings,Operations Council
END:VEVENT
BEGIN:VEVENT
DTSTART;TZID=America/New_York:20240911T114500
DTEND;TZID=America/New_York:20240911T141500
DTSTAMP:20260421T201735
CREATED:20240911T174447Z
LAST-MODIFIED:20240911T174447Z
UID:10003247-1726055100-1726064100@fuusn.org
SUMMARY:Governance Overview
DESCRIPTION:
URL:https://fuusn.org/event/governance-overview/
LOCATION:Chapel
CATEGORIES:Board Meetings,Meetings,Operations Council
END:VEVENT
BEGIN:VEVENT
DTSTART;TZID=America/New_York:20240606T190000
DTEND;TZID=America/New_York:20240606T200000
DTSTAMP:20260421T201735
CREATED:20240604T115603Z
LAST-MODIFIED:20240604T115603Z
UID:10002249-1717700400-1717704000@fuusn.org
SUMMARY:Fiscal Year 2025 Budget Q&A
DESCRIPTION:Karen Bottar and Neil MacGaffey of the Finance Committee are holding a Zoom session on Thursday\, June 6th from 7:00 to 8:00pm. They will be available to answer any questions you have about the budget. Please drop in anytime during the hour that is convenient for you. If you are not available on the 6th\, please feel free to contact Karen or Neil\, and they can arrange to answer your questions. \nHere are the budget and a narrative explaining key points of the budget and how it meets the board’s priorities for the coming year.
URL:https://fuusn.org/event/fiscal-year-2025-budget-qa/
LOCATION:Online
CATEGORIES:Meetings,Operations Council
END:VEVENT
BEGIN:VEVENT
DTSTART;TZID=America/New_York:20240220T190000
DTEND;TZID=America/New_York:20240220T210000
DTSTAMP:20260421T201735
CREATED:20240215T172143Z
LAST-MODIFIED:20240215T172147Z
UID:10000907-1708455600-1708462800@fuusn.org
SUMMARY:Operations Council Meeting
DESCRIPTION:Meeting minutes may be found here.
URL:https://fuusn.org/event/operations-council-meeting-2-3/
LOCATION:MA
CATEGORIES:Meetings,Operations Council
END:VEVENT
BEGIN:VEVENT
DTSTART;TZID=America/New_York:20231219T190000
DTEND;TZID=America/New_York:20231219T210000
DTSTAMP:20260421T201735
CREATED:20231128T200148Z
LAST-MODIFIED:20231128T200207Z
UID:10000905-1703012400-1703019600@fuusn.org
SUMMARY:Joint Board and Operations Council Meeting
DESCRIPTION:Meeting minutes may be found here.
URL:https://fuusn.org/event/operations-council-meeting-2-2/
LOCATION:MA
CATEGORIES:Board Meetings,Meetings,Operations Council
END:VEVENT
BEGIN:VEVENT
DTSTART;TZID=America/New_York:20231017T190000
DTEND;TZID=America/New_York:20231017T210000
DTSTAMP:20260421T201735
CREATED:20230919T152822Z
LAST-MODIFIED:20230919T152822Z
UID:10000710-1697569200-1697576400@fuusn.org
SUMMARY:Operations Council Meeting
DESCRIPTION:
URL:https://fuusn.org/event/operations-council-meeting/
LOCATION:Chapel
CATEGORIES:Operations Council
END:VEVENT
END:VCALENDAR