BEGIN:VCALENDAR
VERSION:2.0
PRODID:-//First Unitarian Universalist Society in Newton - ECPv6.15.17.1//NONSGML v1.0//EN
CALSCALE:GREGORIAN
METHOD:PUBLISH
X-ORIGINAL-URL:https://fuusn.org
X-WR-CALDESC:Events for First Unitarian Universalist Society in Newton
REFRESH-INTERVAL;VALUE=DURATION:PT1H
X-Robots-Tag:noindex
X-PUBLISHED-TTL:PT1H
BEGIN:VTIMEZONE
TZID:America/New_York
BEGIN:DAYLIGHT
TZOFFSETFROM:-0500
TZOFFSETTO:-0400
TZNAME:EDT
DTSTART:20250309T070000
END:DAYLIGHT
BEGIN:STANDARD
TZOFFSETFROM:-0400
TZOFFSETTO:-0500
TZNAME:EST
DTSTART:20251102T060000
END:STANDARD
BEGIN:DAYLIGHT
TZOFFSETFROM:-0500
TZOFFSETTO:-0400
TZNAME:EDT
DTSTART:20260308T070000
END:DAYLIGHT
BEGIN:STANDARD
TZOFFSETFROM:-0400
TZOFFSETTO:-0500
TZNAME:EST
DTSTART:20261101T060000
END:STANDARD
BEGIN:DAYLIGHT
TZOFFSETFROM:-0500
TZOFFSETTO:-0400
TZNAME:EDT
DTSTART:20270314T070000
END:DAYLIGHT
BEGIN:STANDARD
TZOFFSETFROM:-0400
TZOFFSETTO:-0500
TZNAME:EST
DTSTART:20271107T060000
END:STANDARD
END:VTIMEZONE
BEGIN:VEVENT
DTSTART;TZID=America/New_York:20260304T190000
DTEND;TZID=America/New_York:20260304T210000
DTSTAMP:20260421T140909
CREATED:20250521T164959Z
LAST-MODIFIED:20250521T165216Z
UID:10004143-1772650800-1772658000@fuusn.org
SUMMARY:Choir Rehearsal
DESCRIPTION:
URL:https://fuusn.org/event/choir-rehearsal-6/2026-03-04/
LOCATION:Parish Hall
CATEGORIES:Choir Rehearsals
END:VEVENT
BEGIN:VEVENT
DTSTART;TZID=America/New_York:20260306T174500
DTEND;TZID=America/New_York:20260306T183000
DTSTAMP:20260421T140909
CREATED:20260108T164310Z
LAST-MODIFIED:20260331T134359Z
UID:10004616-1772819100-1772821800@fuusn.org
SUMMARY:Zoom Vespers
DESCRIPTION:Come to Vespers for music\, readings and conversation. The service runs from 6:00 pm to 6:30 pm. Pre-service music begins around 5:45 pm \nJoin Zoom Meeting \nzoom.us/j/97030763647
URL:https://fuusn.org/event/zoom-vespers-5/2026-03-06/
LOCATION:Online
CATEGORIES:Music Meetings,Public Events,Vespers
END:VEVENT
BEGIN:VEVENT
DTSTART;TZID=America/New_York:20260307T090000
DTEND;TZID=America/New_York:20260307T120000
DTSTAMP:20260421T140909
CREATED:20250708T142436Z
LAST-MODIFIED:20250708T142436Z
UID:10004178-1772874000-1772884800@fuusn.org
SUMMARY:Band Rehearsal
DESCRIPTION:
URL:https://fuusn.org/event/band-rehearsal-13/2026-03-07/
LOCATION:Sanctuary
CATEGORIES:Choir Rehearsals,Music Meetings
END:VEVENT
BEGIN:VEVENT
DTSTART;TZID=America/New_York:20260308T153000
DTEND;TZID=America/New_York:20260308T170000
DTSTAMP:20260421T140909
CREATED:20250708T154258Z
LAST-MODIFIED:20250708T154928Z
UID:10004197-1772983800-1772989200@fuusn.org
SUMMARY:JourneySongs Hospice Choir Rehearsal
DESCRIPTION:Rehearsals are open to JourneySongs members.  Singers interested in joining may learn more at JourneySongs.org.
URL:https://fuusn.org/event/journey-songs-hospice-choir-rehearsal/2026-03-08/
LOCATION:Chapel
CATEGORIES:JourneySongs
END:VEVENT
BEGIN:VEVENT
DTSTART;TZID=America/New_York:20260311T190000
DTEND;TZID=America/New_York:20260311T210000
DTSTAMP:20260421T140909
CREATED:20250521T164959Z
LAST-MODIFIED:20250521T165216Z
UID:10004144-1773255600-1773262800@fuusn.org
SUMMARY:Choir Rehearsal
DESCRIPTION:
URL:https://fuusn.org/event/choir-rehearsal-6/2026-03-11/
LOCATION:Parish Hall
CATEGORIES:Choir Rehearsals
END:VEVENT
BEGIN:VEVENT
DTSTART;TZID=America/New_York:20260318T190000
DTEND;TZID=America/New_York:20260318T210000
DTSTAMP:20260421T140909
CREATED:20250521T164959Z
LAST-MODIFIED:20250521T165216Z
UID:10004145-1773860400-1773867600@fuusn.org
SUMMARY:Choir Rehearsal
DESCRIPTION:
URL:https://fuusn.org/event/choir-rehearsal-6/2026-03-18/
LOCATION:Parish Hall
CATEGORIES:Choir Rehearsals
END:VEVENT
BEGIN:VEVENT
DTSTART;TZID=America/New_York:20260320T174500
DTEND;TZID=America/New_York:20260320T183000
DTSTAMP:20260421T140909
CREATED:20260108T164310Z
LAST-MODIFIED:20260331T134359Z
UID:10004617-1774028700-1774031400@fuusn.org
SUMMARY:Zoom Vespers
DESCRIPTION:Come to Vespers for music\, readings and conversation. The service runs from 6:00 pm to 6:30 pm. Pre-service music begins around 5:45 pm \nJoin Zoom Meeting \nzoom.us/j/97030763647
URL:https://fuusn.org/event/zoom-vespers-5/2026-03-20/
LOCATION:Online
CATEGORIES:Music Meetings,Public Events,Vespers
END:VEVENT
BEGIN:VEVENT
DTSTART;TZID=America/New_York:20260322T113000
DTEND;TZID=America/New_York:20260322T130000
DTSTAMP:20260421T140909
CREATED:20250708T142436Z
LAST-MODIFIED:20250708T142436Z
UID:10004179-1774179000-1774184400@fuusn.org
SUMMARY:Band Rehearsal
DESCRIPTION:
URL:https://fuusn.org/event/band-rehearsal-13/2026-03-22/
LOCATION:Sanctuary
CATEGORIES:Choir Rehearsals,Music Meetings
END:VEVENT
BEGIN:VEVENT
DTSTART;TZID=America/New_York:20260322T153000
DTEND;TZID=America/New_York:20260322T170000
DTSTAMP:20260421T140909
CREATED:20250708T154258Z
LAST-MODIFIED:20250708T154928Z
UID:10004198-1774193400-1774198800@fuusn.org
SUMMARY:JourneySongs Hospice Choir Rehearsal
DESCRIPTION:Rehearsals are open to JourneySongs members.  Singers interested in joining may learn more at JourneySongs.org.
URL:https://fuusn.org/event/journey-songs-hospice-choir-rehearsal/2026-03-22/
LOCATION:Chapel
CATEGORIES:JourneySongs
END:VEVENT
BEGIN:VEVENT
DTSTART;TZID=America/New_York:20260325T190000
DTEND;TZID=America/New_York:20260325T210000
DTSTAMP:20260421T140909
CREATED:20250521T164959Z
LAST-MODIFIED:20250521T165216Z
UID:10004146-1774465200-1774472400@fuusn.org
SUMMARY:Choir Rehearsal
DESCRIPTION:
URL:https://fuusn.org/event/choir-rehearsal-6/2026-03-25/
LOCATION:Parish Hall
CATEGORIES:Choir Rehearsals
END:VEVENT
BEGIN:VEVENT
DTSTART;TZID=America/New_York:20260327T174500
DTEND;TZID=America/New_York:20260327T183000
DTSTAMP:20260421T140909
CREATED:20260108T164310Z
LAST-MODIFIED:20260331T134359Z
UID:10004618-1774633500-1774636200@fuusn.org
SUMMARY:Zoom Vespers
DESCRIPTION:Come to Vespers for music\, readings and conversation. The service runs from 6:00 pm to 6:30 pm. Pre-service music begins around 5:45 pm \nJoin Zoom Meeting \nzoom.us/j/97030763647
URL:https://fuusn.org/event/zoom-vespers-5/2026-03-27/
LOCATION:Online
CATEGORIES:Music Meetings,Public Events,Vespers
END:VEVENT
BEGIN:VEVENT
DTSTART;TZID=America/New_York:20260329T113000
DTEND;TZID=America/New_York:20260329T130000
DTSTAMP:20260421T140909
CREATED:20250708T142436Z
LAST-MODIFIED:20250708T142436Z
UID:10004180-1774783800-1774789200@fuusn.org
SUMMARY:Band Rehearsal
DESCRIPTION:
URL:https://fuusn.org/event/band-rehearsal-13/2026-03-29/
LOCATION:Sanctuary
CATEGORIES:Choir Rehearsals,Music Meetings
END:VEVENT
END:VCALENDAR