BEGIN:VCALENDAR
VERSION:2.0
PRODID:-//First Unitarian Universalist Society in Newton - ECPv6.15.17.1//NONSGML v1.0//EN
CALSCALE:GREGORIAN
METHOD:PUBLISH
X-WR-CALNAME:First Unitarian Universalist Society in Newton
X-ORIGINAL-URL:https://fuusn.org
X-WR-CALDESC:Events for First Unitarian Universalist Society in Newton
REFRESH-INTERVAL;VALUE=DURATION:PT1H
X-Robots-Tag:noindex
X-PUBLISHED-TTL:PT1H
BEGIN:VTIMEZONE
TZID:America/New_York
BEGIN:DAYLIGHT
TZOFFSETFROM:-0500
TZOFFSETTO:-0400
TZNAME:EDT
DTSTART:20250309T070000
END:DAYLIGHT
BEGIN:STANDARD
TZOFFSETFROM:-0400
TZOFFSETTO:-0500
TZNAME:EST
DTSTART:20251102T060000
END:STANDARD
BEGIN:DAYLIGHT
TZOFFSETFROM:-0500
TZOFFSETTO:-0400
TZNAME:EDT
DTSTART:20260308T070000
END:DAYLIGHT
BEGIN:STANDARD
TZOFFSETFROM:-0400
TZOFFSETTO:-0500
TZNAME:EST
DTSTART:20261101T060000
END:STANDARD
BEGIN:DAYLIGHT
TZOFFSETFROM:-0500
TZOFFSETTO:-0400
TZNAME:EDT
DTSTART:20270314T070000
END:DAYLIGHT
BEGIN:STANDARD
TZOFFSETFROM:-0400
TZOFFSETTO:-0500
TZNAME:EST
DTSTART:20271107T060000
END:STANDARD
END:VTIMEZONE
BEGIN:VEVENT
DTSTART;TZID=America/New_York:20260422T190000
DTEND;TZID=America/New_York:20260422T210000
DTSTAMP:20260421T125539
CREATED:20250521T164959Z
LAST-MODIFIED:20250521T165216Z
UID:10004150-1776884400-1776891600@fuusn.org
SUMMARY:Choir Rehearsal
DESCRIPTION:
URL:https://fuusn.org/event/choir-rehearsal-6/2026-04-22/
LOCATION:Parish Hall
CATEGORIES:Choir Rehearsals
END:VEVENT
BEGIN:VEVENT
DTSTART;TZID=America/New_York:20260424T174500
DTEND;TZID=America/New_York:20260424T183000
DTSTAMP:20260421T125539
CREATED:20260108T164310Z
LAST-MODIFIED:20260331T134359Z
UID:10004621-1777052700-1777055400@fuusn.org
SUMMARY:Zoom Vespers
DESCRIPTION:Come to Vespers for music\, readings and conversation. The service runs from 6:00 pm to 6:30 pm. Pre-service music begins around 5:45 pm \nJoin Zoom Meeting \nzoom.us/j/97030763647
URL:https://fuusn.org/event/zoom-vespers-5/2026-04-24/
LOCATION:Online
CATEGORIES:Music Meetings,Public Events,Vespers
END:VEVENT
BEGIN:VEVENT
DTSTART;TZID=America/New_York:20260426T153000
DTEND;TZID=America/New_York:20260426T170000
DTSTAMP:20260421T125539
CREATED:20250708T154258Z
LAST-MODIFIED:20250708T154928Z
UID:10004200-1777217400-1777222800@fuusn.org
SUMMARY:JourneySongs Hospice Choir Rehearsal
DESCRIPTION:Rehearsals are open to JourneySongs members.  Singers interested in joining may learn more at JourneySongs.org.
URL:https://fuusn.org/event/journey-songs-hospice-choir-rehearsal/2026-04-26/
LOCATION:Chapel
CATEGORIES:JourneySongs
END:VEVENT
BEGIN:VEVENT
DTSTART;TZID=America/New_York:20260428T190000
DTEND;TZID=America/New_York:20260428T210000
DTSTAMP:20260421T125539
CREATED:20260417T160334Z
LAST-MODIFIED:20260417T160337Z
UID:10004151-1777402800-1777410000@fuusn.org
SUMMARY:Choir Rehearsal
DESCRIPTION:
URL:https://fuusn.org/event/choir-rehearsal-6-5/
LOCATION:Parish Hall
CATEGORIES:Choir Rehearsals
END:VEVENT
END:VCALENDAR