BEGIN:VCALENDAR
VERSION:2.0
PRODID:-//First Unitarian Universalist Society in Newton - ECPv6.15.17.1//NONSGML v1.0//EN
CALSCALE:GREGORIAN
METHOD:PUBLISH
X-WR-CALNAME:First Unitarian Universalist Society in Newton
X-ORIGINAL-URL:https://fuusn.org
X-WR-CALDESC:Events for First Unitarian Universalist Society in Newton
REFRESH-INTERVAL;VALUE=DURATION:PT1H
X-Robots-Tag:noindex
X-PUBLISHED-TTL:PT1H
BEGIN:VTIMEZONE
TZID:America/New_York
BEGIN:DAYLIGHT
TZOFFSETFROM:-0500
TZOFFSETTO:-0400
TZNAME:EDT
DTSTART:20230312T070000
END:DAYLIGHT
BEGIN:STANDARD
TZOFFSETFROM:-0400
TZOFFSETTO:-0500
TZNAME:EST
DTSTART:20231105T060000
END:STANDARD
BEGIN:DAYLIGHT
TZOFFSETFROM:-0500
TZOFFSETTO:-0400
TZNAME:EDT
DTSTART:20240310T070000
END:DAYLIGHT
BEGIN:STANDARD
TZOFFSETFROM:-0400
TZOFFSETTO:-0500
TZNAME:EST
DTSTART:20241103T060000
END:STANDARD
BEGIN:DAYLIGHT
TZOFFSETFROM:-0500
TZOFFSETTO:-0400
TZNAME:EDT
DTSTART:20250309T070000
END:DAYLIGHT
BEGIN:STANDARD
TZOFFSETFROM:-0400
TZOFFSETTO:-0500
TZNAME:EST
DTSTART:20251102T060000
END:STANDARD
END:VTIMEZONE
BEGIN:VEVENT
DTSTART;TZID=America/New_York:20241204T193000
DTEND;TZID=America/New_York:20241204T210000
DTSTAMP:20260422T102247
CREATED:20240621T140919Z
LAST-MODIFIED:20240903T143020Z
UID:10003175-1733340600-1733346000@fuusn.org
SUMMARY:Choir Rehearsal
DESCRIPTION:
URL:https://fuusn.org/event/choir-rehearsals/2024-12-04/
LOCATION:Parish Hall
CATEGORIES:Choir Rehearsals
END:VEVENT
BEGIN:VEVENT
DTSTART;TZID=America/New_York:20241201T153000
DTEND;TZID=America/New_York:20241201T170000
DTSTAMP:20260422T102247
CREATED:20240911T175511Z
LAST-MODIFIED:20240911T175511Z
UID:10003250-1733067000-1733072400@fuusn.org
SUMMARY:JourneySongs Rehearsal
DESCRIPTION:
URL:https://fuusn.org/event/journeysongs-rehearsal-2/2024-12-01/
LOCATION:Chapel
CATEGORIES:JourneySongs,Music Meetings
END:VEVENT
BEGIN:VEVENT
DTSTART;TZID=America/New_York:20241201T114500
DTEND;TZID=America/New_York:20241201T130000
DTSTAMP:20260422T102247
CREATED:20240812T150407Z
LAST-MODIFIED:20240812T150407Z
UID:10003112-1733053500-1733058000@fuusn.org
SUMMARY:Band Rehearsal
DESCRIPTION:
URL:https://fuusn.org/event/band-rehearsal/2024-12-01/
LOCATION:Sanctuary
CATEGORIES:Choir Rehearsals,Music Meetings
END:VEVENT
BEGIN:VEVENT
DTSTART;TZID=America/New_York:20241129T180000
DTEND;TZID=America/New_York:20241129T183000
DTSTAMP:20260422T102247
CREATED:20240727T205307Z
LAST-MODIFIED:20241001T191740Z
UID:10003064-1732903200-1732905000@fuusn.org
SUMMARY:Zoom Vespers
DESCRIPTION:Come to Zoom Vespers on Fridays for music\, readings\, and conversation. The service runs from 6 to 6:30pm. Pre-service music begins around 5:47pm. Vespers dates: August 30\, Sept. 6\, 13\, 27\, Oct. 4\, 18\, 25\, Nov. 1\, 8\, 29\, Dec. 20. Info: music@fuusn.org.
URL:https://fuusn.org/event/zoom-vespers-2/2024-11-29/
LOCATION:Online
CATEGORIES:Front Page,Music Meetings
END:VEVENT
BEGIN:VEVENT
DTSTART;TZID=America/New_York:20241127T193000
DTEND;TZID=America/New_York:20241127T210000
DTSTAMP:20260422T102247
CREATED:20240621T140919Z
LAST-MODIFIED:20240903T143020Z
UID:10003174-1732735800-1732741200@fuusn.org
SUMMARY:Choir Rehearsal
DESCRIPTION:
URL:https://fuusn.org/event/choir-rehearsals/2024-11-27/
LOCATION:Parish Hall
CATEGORIES:Choir Rehearsals
END:VEVENT
BEGIN:VEVENT
DTSTART;TZID=America/New_York:20241124T114500
DTEND;TZID=America/New_York:20241124T130000
DTSTAMP:20260422T102247
CREATED:20240812T150407Z
LAST-MODIFIED:20240812T150407Z
UID:10003111-1732448700-1732453200@fuusn.org
SUMMARY:Band Rehearsal
DESCRIPTION:
URL:https://fuusn.org/event/band-rehearsal/2024-11-24/
LOCATION:Sanctuary
CATEGORIES:Choir Rehearsals,Music Meetings
END:VEVENT
BEGIN:VEVENT
DTSTART;TZID=America/New_York:20241120T193000
DTEND;TZID=America/New_York:20241120T210000
DTSTAMP:20260422T102247
CREATED:20240621T140919Z
LAST-MODIFIED:20240903T143020Z
UID:10003173-1732131000-1732136400@fuusn.org
SUMMARY:Choir Rehearsal
DESCRIPTION:
URL:https://fuusn.org/event/choir-rehearsals/2024-11-20/
LOCATION:Parish Hall
CATEGORIES:Choir Rehearsals
END:VEVENT
BEGIN:VEVENT
DTSTART;TZID=America/New_York:20241117T153000
DTEND;TZID=America/New_York:20241117T170000
DTSTAMP:20260422T102247
CREATED:20240911T175511Z
LAST-MODIFIED:20240911T175511Z
UID:10003249-1731857400-1731862800@fuusn.org
SUMMARY:JourneySongs Rehearsal
DESCRIPTION:
URL:https://fuusn.org/event/journeysongs-rehearsal-2/2024-11-17/
LOCATION:Chapel
CATEGORIES:JourneySongs,Music Meetings
END:VEVENT
BEGIN:VEVENT
DTSTART;TZID=America/New_York:20241117T114500
DTEND;TZID=America/New_York:20241117T130000
DTSTAMP:20260422T102247
CREATED:20240812T150407Z
LAST-MODIFIED:20240812T150407Z
UID:10003110-1731843900-1731848400@fuusn.org
SUMMARY:Band Rehearsal
DESCRIPTION:
URL:https://fuusn.org/event/band-rehearsal/2024-11-17/
LOCATION:Sanctuary
CATEGORIES:Choir Rehearsals,Music Meetings
END:VEVENT
BEGIN:VEVENT
DTSTART;TZID=America/New_York:20241113T193000
DTEND;TZID=America/New_York:20241113T210000
DTSTAMP:20260422T102247
CREATED:20240621T140919Z
LAST-MODIFIED:20240903T143020Z
UID:10003172-1731526200-1731531600@fuusn.org
SUMMARY:Choir Rehearsal
DESCRIPTION:
URL:https://fuusn.org/event/choir-rehearsals/2024-11-13/
LOCATION:Parish Hall
CATEGORIES:Choir Rehearsals
END:VEVENT
BEGIN:VEVENT
DTSTART;TZID=America/New_York:20241110T114500
DTEND;TZID=America/New_York:20241110T130000
DTSTAMP:20260422T102247
CREATED:20241105T143305Z
LAST-MODIFIED:20241105T150014Z
UID:10003109-1731239100-1731243600@fuusn.org
SUMMARY:Choir Rehearsal
DESCRIPTION:
URL:https://fuusn.org/event/band-rehearsal-2/
LOCATION:Sanctuary
CATEGORIES:Choir Rehearsals,Music Meetings
END:VEVENT
BEGIN:VEVENT
DTSTART;TZID=America/New_York:20241108T180000
DTEND;TZID=America/New_York:20241108T183000
DTSTAMP:20260422T102247
CREATED:20240727T205307Z
LAST-MODIFIED:20241001T191740Z
UID:10003063-1731088800-1731090600@fuusn.org
SUMMARY:Zoom Vespers
DESCRIPTION:Come to Zoom Vespers on Fridays for music\, readings\, and conversation. The service runs from 6 to 6:30pm. Pre-service music begins around 5:47pm. Vespers dates: August 30\, Sept. 6\, 13\, 27\, Oct. 4\, 18\, 25\, Nov. 1\, 8\, 29\, Dec. 20. Info: music@fuusn.org.
URL:https://fuusn.org/event/zoom-vespers-2/2024-11-08/
LOCATION:Online
CATEGORIES:Front Page,Music Meetings
END:VEVENT
BEGIN:VEVENT
DTSTART;TZID=America/New_York:20241106T193000
DTEND;TZID=America/New_York:20241106T210000
DTSTAMP:20260422T102247
CREATED:20240621T140919Z
LAST-MODIFIED:20240903T143020Z
UID:10003171-1730921400-1730926800@fuusn.org
SUMMARY:Choir Rehearsal
DESCRIPTION:
URL:https://fuusn.org/event/choir-rehearsals/2024-11-06/
LOCATION:Parish Hall
CATEGORIES:Choir Rehearsals
END:VEVENT
BEGIN:VEVENT
DTSTART;TZID=America/New_York:20241103T153000
DTEND;TZID=America/New_York:20241103T170000
DTSTAMP:20260422T102247
CREATED:20240911T175511Z
LAST-MODIFIED:20240911T175511Z
UID:10003248-1730647800-1730653200@fuusn.org
SUMMARY:JourneySongs Rehearsal
DESCRIPTION:
URL:https://fuusn.org/event/journeysongs-rehearsal-2/2024-11-03/
LOCATION:Chapel
CATEGORIES:JourneySongs,Music Meetings
END:VEVENT
BEGIN:VEVENT
DTSTART;TZID=America/New_York:20241103T114500
DTEND;TZID=America/New_York:20241103T130000
DTSTAMP:20260422T102247
CREATED:20240812T150407Z
LAST-MODIFIED:20240812T150407Z
UID:10003108-1730634300-1730638800@fuusn.org
SUMMARY:Band Rehearsal
DESCRIPTION:
URL:https://fuusn.org/event/band-rehearsal/2024-11-03/
LOCATION:Sanctuary
CATEGORIES:Choir Rehearsals,Music Meetings
END:VEVENT
BEGIN:VEVENT
DTSTART;TZID=America/New_York:20241103T114500
DTEND;TZID=America/New_York:20241103T130000
DTSTAMP:20260422T102247
CREATED:20240812T145827Z
LAST-MODIFIED:20240812T145827Z
UID:10003103-1730634300-1730638800@fuusn.org
SUMMARY:Choir Rehearsal
DESCRIPTION:
URL:https://fuusn.org/event/choir-rehearsal-2/2024-11-03/
LOCATION:Sanctuary
CATEGORIES:Choir Rehearsals,Music Meetings
END:VEVENT
BEGIN:VEVENT
DTSTART;TZID=America/New_York:20241101T180000
DTEND;TZID=America/New_York:20241101T183000
DTSTAMP:20260422T102247
CREATED:20240727T205307Z
LAST-MODIFIED:20241001T191740Z
UID:10003062-1730484000-1730485800@fuusn.org
SUMMARY:Zoom Vespers
DESCRIPTION:Come to Zoom Vespers on Fridays for music\, readings\, and conversation. The service runs from 6 to 6:30pm. Pre-service music begins around 5:47pm. Vespers dates: August 30\, Sept. 6\, 13\, 27\, Oct. 4\, 18\, 25\, Nov. 1\, 8\, 29\, Dec. 20. Info: music@fuusn.org.
URL:https://fuusn.org/event/zoom-vespers-2/2024-11-01/
LOCATION:Online
CATEGORIES:Front Page,Music Meetings
END:VEVENT
BEGIN:VEVENT
DTSTART;TZID=America/New_York:20241030T193000
DTEND;TZID=America/New_York:20241030T210000
DTSTAMP:20260422T102247
CREATED:20240621T140919Z
LAST-MODIFIED:20240903T143020Z
UID:10003170-1730316600-1730322000@fuusn.org
SUMMARY:Choir Rehearsal
DESCRIPTION:
URL:https://fuusn.org/event/choir-rehearsals/2024-10-30/
LOCATION:Parish Hall
CATEGORIES:Choir Rehearsals
END:VEVENT
BEGIN:VEVENT
DTSTART;TZID=America/New_York:20241027T114500
DTEND;TZID=America/New_York:20241027T130000
DTSTAMP:20260422T102247
CREATED:20240812T150407Z
LAST-MODIFIED:20240812T150407Z
UID:10003107-1730029500-1730034000@fuusn.org
SUMMARY:Band Rehearsal
DESCRIPTION:
URL:https://fuusn.org/event/band-rehearsal/2024-10-27/
LOCATION:Sanctuary
CATEGORIES:Choir Rehearsals,Music Meetings
END:VEVENT
BEGIN:VEVENT
DTSTART;TZID=America/New_York:20241027T114500
DTEND;TZID=America/New_York:20241027T130000
DTSTAMP:20260422T102247
CREATED:20240812T145827Z
LAST-MODIFIED:20240812T145827Z
UID:10003102-1730029500-1730034000@fuusn.org
SUMMARY:Choir Rehearsal
DESCRIPTION:
URL:https://fuusn.org/event/choir-rehearsal-2/2024-10-27/
LOCATION:Sanctuary
CATEGORIES:Choir Rehearsals,Music Meetings
END:VEVENT
BEGIN:VEVENT
DTSTART;TZID=America/New_York:20241025T180000
DTEND;TZID=America/New_York:20241025T183000
DTSTAMP:20260422T102247
CREATED:20240727T205307Z
LAST-MODIFIED:20241001T191740Z
UID:10003061-1729879200-1729881000@fuusn.org
SUMMARY:Zoom Vespers
DESCRIPTION:Come to Zoom Vespers on Fridays for music\, readings\, and conversation. The service runs from 6 to 6:30pm. Pre-service music begins around 5:47pm. Vespers dates: August 30\, Sept. 6\, 13\, 27\, Oct. 4\, 18\, 25\, Nov. 1\, 8\, 29\, Dec. 20. Info: music@fuusn.org.
URL:https://fuusn.org/event/zoom-vespers-2/2024-10-25/
LOCATION:Online
CATEGORIES:Front Page,Music Meetings
END:VEVENT
BEGIN:VEVENT
DTSTART;TZID=America/New_York:20241023T193000
DTEND;TZID=America/New_York:20241023T210000
DTSTAMP:20260422T102247
CREATED:20240621T140919Z
LAST-MODIFIED:20240903T143020Z
UID:10003169-1729711800-1729717200@fuusn.org
SUMMARY:Choir Rehearsal
DESCRIPTION:
URL:https://fuusn.org/event/choir-rehearsals/2024-10-23/
LOCATION:Parish Hall
CATEGORIES:Choir Rehearsals
END:VEVENT
BEGIN:VEVENT
DTSTART;TZID=America/New_York:20241020T150000
DTEND;TZID=America/New_York:20241020T170000
DTSTAMP:20260422T102247
CREATED:20240819T165100Z
LAST-MODIFIED:20240903T144704Z
UID:10003132-1729436400-1729443600@fuusn.org
SUMMARY:JourneySongs Rehearsal
DESCRIPTION:
URL:https://fuusn.org/event/journeysongs-rehearsal/2024-10-20/
LOCATION:Chapel
CATEGORIES:JourneySongs,Music Meetings
END:VEVENT
BEGIN:VEVENT
DTSTART;TZID=America/New_York:20241020T114500
DTEND;TZID=America/New_York:20241020T130000
DTSTAMP:20260422T102247
CREATED:20240812T150407Z
LAST-MODIFIED:20240812T150407Z
UID:10003106-1729424700-1729429200@fuusn.org
SUMMARY:Band Rehearsal
DESCRIPTION:
URL:https://fuusn.org/event/band-rehearsal/2024-10-20/
LOCATION:Sanctuary
CATEGORIES:Choir Rehearsals,Music Meetings
END:VEVENT
BEGIN:VEVENT
DTSTART;TZID=America/New_York:20241018T180000
DTEND;TZID=America/New_York:20241018T183000
DTSTAMP:20260422T102247
CREATED:20240727T205307Z
LAST-MODIFIED:20241001T191740Z
UID:10003060-1729274400-1729276200@fuusn.org
SUMMARY:Zoom Vespers
DESCRIPTION:Come to Zoom Vespers on Fridays for music\, readings\, and conversation. The service runs from 6 to 6:30pm. Pre-service music begins around 5:47pm. Vespers dates: August 30\, Sept. 6\, 13\, 27\, Oct. 4\, 18\, 25\, Nov. 1\, 8\, 29\, Dec. 20. Info: music@fuusn.org.
URL:https://fuusn.org/event/zoom-vespers-2/2024-10-18/
LOCATION:Online
CATEGORIES:Front Page,Music Meetings
END:VEVENT
BEGIN:VEVENT
DTSTART;TZID=America/New_York:20241016T193000
DTEND;TZID=America/New_York:20241016T210000
DTSTAMP:20260422T102247
CREATED:20240621T140919Z
LAST-MODIFIED:20240903T143020Z
UID:10003168-1729107000-1729112400@fuusn.org
SUMMARY:Choir Rehearsal
DESCRIPTION:
URL:https://fuusn.org/event/choir-rehearsals/2024-10-16/
LOCATION:Parish Hall
CATEGORIES:Choir Rehearsals
END:VEVENT
BEGIN:VEVENT
DTSTART;TZID=America/New_York:20241009T193000
DTEND;TZID=America/New_York:20241009T210000
DTSTAMP:20260422T102247
CREATED:20240621T140919Z
LAST-MODIFIED:20240903T143020Z
UID:10003167-1728502200-1728507600@fuusn.org
SUMMARY:Choir Rehearsal
DESCRIPTION:
URL:https://fuusn.org/event/choir-rehearsals/2024-10-09/
LOCATION:Parish Hall
CATEGORIES:Choir Rehearsals
END:VEVENT
BEGIN:VEVENT
DTSTART;TZID=America/New_York:20241006T150000
DTEND;TZID=America/New_York:20241006T170000
DTSTAMP:20260422T102247
CREATED:20240819T165100Z
LAST-MODIFIED:20240903T144704Z
UID:10003131-1728226800-1728234000@fuusn.org
SUMMARY:JourneySongs Rehearsal
DESCRIPTION:
URL:https://fuusn.org/event/journeysongs-rehearsal/2024-10-06/
LOCATION:Chapel
CATEGORIES:JourneySongs,Music Meetings
END:VEVENT
BEGIN:VEVENT
DTSTART;TZID=America/New_York:20241004T180000
DTEND;TZID=America/New_York:20241004T183000
DTSTAMP:20260422T102247
CREATED:20240727T205307Z
LAST-MODIFIED:20241001T191740Z
UID:10003059-1728064800-1728066600@fuusn.org
SUMMARY:Zoom Vespers
DESCRIPTION:Come to Zoom Vespers on Fridays for music\, readings\, and conversation. The service runs from 6 to 6:30pm. Pre-service music begins around 5:47pm. Vespers dates: August 30\, Sept. 6\, 13\, 27\, Oct. 4\, 18\, 25\, Nov. 1\, 8\, 29\, Dec. 20. Info: music@fuusn.org.
URL:https://fuusn.org/event/zoom-vespers-2/2024-10-04/
LOCATION:Online
CATEGORIES:Front Page,Music Meetings
END:VEVENT
BEGIN:VEVENT
DTSTART;TZID=America/New_York:20241002T193000
DTEND;TZID=America/New_York:20241002T210000
DTSTAMP:20260422T102247
CREATED:20240621T140919Z
LAST-MODIFIED:20240903T143020Z
UID:10003166-1727897400-1727902800@fuusn.org
SUMMARY:Choir Rehearsal
DESCRIPTION:
URL:https://fuusn.org/event/choir-rehearsals/2024-10-02/
LOCATION:Parish Hall
CATEGORIES:Choir Rehearsals
END:VEVENT
END:VCALENDAR