BEGIN:VCALENDAR
VERSION:2.0
PRODID:-//First Unitarian Universalist Society in Newton - ECPv6.15.17.1//NONSGML v1.0//EN
CALSCALE:GREGORIAN
METHOD:PUBLISH
X-ORIGINAL-URL:https://fuusn.org
X-WR-CALDESC:Events for First Unitarian Universalist Society in Newton
REFRESH-INTERVAL;VALUE=DURATION:PT1H
X-Robots-Tag:noindex
X-PUBLISHED-TTL:PT1H
BEGIN:VTIMEZONE
TZID:America/New_York
BEGIN:DAYLIGHT
TZOFFSETFROM:-0500
TZOFFSETTO:-0400
TZNAME:EDT
DTSTART:20230312T070000
END:DAYLIGHT
BEGIN:STANDARD
TZOFFSETFROM:-0400
TZOFFSETTO:-0500
TZNAME:EST
DTSTART:20231105T060000
END:STANDARD
BEGIN:DAYLIGHT
TZOFFSETFROM:-0500
TZOFFSETTO:-0400
TZNAME:EDT
DTSTART:20240310T070000
END:DAYLIGHT
BEGIN:STANDARD
TZOFFSETFROM:-0400
TZOFFSETTO:-0500
TZNAME:EST
DTSTART:20241103T060000
END:STANDARD
BEGIN:DAYLIGHT
TZOFFSETFROM:-0500
TZOFFSETTO:-0400
TZNAME:EDT
DTSTART:20250309T070000
END:DAYLIGHT
BEGIN:STANDARD
TZOFFSETFROM:-0400
TZOFFSETTO:-0500
TZNAME:EST
DTSTART:20251102T060000
END:STANDARD
END:VTIMEZONE
BEGIN:VEVENT
DTSTART;TZID=America/New_York:20241018T180000
DTEND;TZID=America/New_York:20241018T183000
DTSTAMP:20260422T130530
CREATED:20240727T205307Z
LAST-MODIFIED:20241001T191740Z
UID:10003060-1729274400-1729276200@fuusn.org
SUMMARY:Zoom Vespers
DESCRIPTION:Come to Zoom Vespers on Fridays for music\, readings\, and conversation. The service runs from 6 to 6:30pm. Pre-service music begins around 5:47pm. Vespers dates: August 30\, Sept. 6\, 13\, 27\, Oct. 4\, 18\, 25\, Nov. 1\, 8\, 29\, Dec. 20. Info: music@fuusn.org.
URL:https://fuusn.org/event/zoom-vespers-2/2024-10-18/
LOCATION:Online
CATEGORIES:Front Page,Music Meetings
END:VEVENT
BEGIN:VEVENT
DTSTART;TZID=America/New_York:20241016T193000
DTEND;TZID=America/New_York:20241016T210000
DTSTAMP:20260422T130530
CREATED:20240621T140919Z
LAST-MODIFIED:20240903T143020Z
UID:10003168-1729107000-1729112400@fuusn.org
SUMMARY:Choir Rehearsal
DESCRIPTION:
URL:https://fuusn.org/event/choir-rehearsals/2024-10-16/
LOCATION:Parish Hall
CATEGORIES:Choir Rehearsals
END:VEVENT
BEGIN:VEVENT
DTSTART;TZID=America/New_York:20241009T193000
DTEND;TZID=America/New_York:20241009T210000
DTSTAMP:20260422T130530
CREATED:20240621T140919Z
LAST-MODIFIED:20240903T143020Z
UID:10003167-1728502200-1728507600@fuusn.org
SUMMARY:Choir Rehearsal
DESCRIPTION:
URL:https://fuusn.org/event/choir-rehearsals/2024-10-09/
LOCATION:Parish Hall
CATEGORIES:Choir Rehearsals
END:VEVENT
BEGIN:VEVENT
DTSTART;TZID=America/New_York:20241006T150000
DTEND;TZID=America/New_York:20241006T170000
DTSTAMP:20260422T130530
CREATED:20240819T165100Z
LAST-MODIFIED:20240903T144704Z
UID:10003131-1728226800-1728234000@fuusn.org
SUMMARY:JourneySongs Rehearsal
DESCRIPTION:
URL:https://fuusn.org/event/journeysongs-rehearsal/2024-10-06/
LOCATION:Chapel
CATEGORIES:JourneySongs,Music Meetings
END:VEVENT
BEGIN:VEVENT
DTSTART;TZID=America/New_York:20241004T180000
DTEND;TZID=America/New_York:20241004T183000
DTSTAMP:20260422T130530
CREATED:20240727T205307Z
LAST-MODIFIED:20241001T191740Z
UID:10003059-1728064800-1728066600@fuusn.org
SUMMARY:Zoom Vespers
DESCRIPTION:Come to Zoom Vespers on Fridays for music\, readings\, and conversation. The service runs from 6 to 6:30pm. Pre-service music begins around 5:47pm. Vespers dates: August 30\, Sept. 6\, 13\, 27\, Oct. 4\, 18\, 25\, Nov. 1\, 8\, 29\, Dec. 20. Info: music@fuusn.org.
URL:https://fuusn.org/event/zoom-vespers-2/2024-10-04/
LOCATION:Online
CATEGORIES:Front Page,Music Meetings
END:VEVENT
BEGIN:VEVENT
DTSTART;TZID=America/New_York:20241002T193000
DTEND;TZID=America/New_York:20241002T210000
DTSTAMP:20260422T130530
CREATED:20240621T140919Z
LAST-MODIFIED:20240903T143020Z
UID:10003166-1727897400-1727902800@fuusn.org
SUMMARY:Choir Rehearsal
DESCRIPTION:
URL:https://fuusn.org/event/choir-rehearsals/2024-10-02/
LOCATION:Parish Hall
CATEGORIES:Choir Rehearsals
END:VEVENT
BEGIN:VEVENT
DTSTART;TZID=America/New_York:20240929T114500
DTEND;TZID=America/New_York:20240929T130000
DTSTAMP:20260422T130530
CREATED:20240812T145827Z
LAST-MODIFIED:20240812T145827Z
UID:10003101-1727610300-1727614800@fuusn.org
SUMMARY:Choir Rehearsal
DESCRIPTION:
URL:https://fuusn.org/event/choir-rehearsal-2/2024-09-29/
LOCATION:Sanctuary
CATEGORIES:Choir Rehearsals,Music Meetings
END:VEVENT
BEGIN:VEVENT
DTSTART;TZID=America/New_York:20240927T180000
DTEND;TZID=America/New_York:20240927T183000
DTSTAMP:20260422T130530
CREATED:20240727T205307Z
LAST-MODIFIED:20241001T191740Z
UID:10003058-1727460000-1727461800@fuusn.org
SUMMARY:Zoom Vespers
DESCRIPTION:Come to Zoom Vespers on Fridays for music\, readings\, and conversation. The service runs from 6 to 6:30pm. Pre-service music begins around 5:47pm. Vespers dates: August 30\, Sept. 6\, 13\, 27\, Oct. 4\, 18\, 25\, Nov. 1\, 8\, 29\, Dec. 20. Info: music@fuusn.org.
URL:https://fuusn.org/event/zoom-vespers-2/2024-09-27/
LOCATION:Online
CATEGORIES:Front Page,Music Meetings
END:VEVENT
BEGIN:VEVENT
DTSTART;TZID=America/New_York:20240925T193000
DTEND;TZID=America/New_York:20240925T210000
DTSTAMP:20260422T130530
CREATED:20240621T140919Z
LAST-MODIFIED:20240903T143020Z
UID:10003165-1727292600-1727298000@fuusn.org
SUMMARY:Choir Rehearsal
DESCRIPTION:
URL:https://fuusn.org/event/choir-rehearsals/2024-09-25/
LOCATION:Parish Hall
CATEGORIES:Choir Rehearsals
END:VEVENT
BEGIN:VEVENT
DTSTART;TZID=America/New_York:20240922T150000
DTEND;TZID=America/New_York:20240922T170000
DTSTAMP:20260422T130530
CREATED:20240819T165100Z
LAST-MODIFIED:20240903T144704Z
UID:10003130-1727017200-1727024400@fuusn.org
SUMMARY:JourneySongs Rehearsal
DESCRIPTION:
URL:https://fuusn.org/event/journeysongs-rehearsal/2024-09-22/
LOCATION:Chapel
CATEGORIES:JourneySongs,Music Meetings
END:VEVENT
BEGIN:VEVENT
DTSTART;TZID=America/New_York:20240918T193000
DTEND;TZID=America/New_York:20240918T210000
DTSTAMP:20260422T130530
CREATED:20240621T140919Z
LAST-MODIFIED:20240903T143020Z
UID:10003164-1726687800-1726693200@fuusn.org
SUMMARY:Choir Rehearsal
DESCRIPTION:
URL:https://fuusn.org/event/choir-rehearsals/2024-09-18/
LOCATION:Parish Hall
CATEGORIES:Choir Rehearsals
END:VEVENT
BEGIN:VEVENT
DTSTART;TZID=America/New_York:20240914T090000
DTEND;TZID=America/New_York:20240914T133000
DTSTAMP:20260422T130530
CREATED:20240717T142152Z
LAST-MODIFIED:20240829T152044Z
UID:10003049-1726304400-1726320600@fuusn.org
SUMMARY:Gospel Music Retreat
DESCRIPTION:Come sing great gospel and soul songs with Geoffrey Hicks! Geoff is active as a pianist\, composer\, performer\, lecturer\, recording artist\, arranger and conductor. The Saturday workshop will run from 9am to 1:30pm\, with lunch included. All singers are invited to sing in the service on Sunday Sept. 15 (9am rehearsal). \nWorkshop: FUUSN members: $10 (includes lunch); all others: $15.00 (includes lunch) \nTo register for the workshop and for more information\, email Anne Watson Born at music@fusn.org.
URL:https://fuusn.org/event/music-retreat/
LOCATION:Parish Hall
CATEGORIES:Music Meetings
END:VEVENT
BEGIN:VEVENT
DTSTART;TZID=America/New_York:20240913T180000
DTEND;TZID=America/New_York:20240913T183000
DTSTAMP:20260422T130530
CREATED:20240727T205307Z
LAST-MODIFIED:20241001T191740Z
UID:10003057-1726250400-1726252200@fuusn.org
SUMMARY:Zoom Vespers
DESCRIPTION:Come to Zoom Vespers on Fridays for music\, readings\, and conversation. The service runs from 6 to 6:30pm. Pre-service music begins around 5:47pm. Vespers dates: August 30\, Sept. 6\, 13\, 27\, Oct. 4\, 18\, 25\, Nov. 1\, 8\, 29\, Dec. 20. Info: music@fuusn.org.
URL:https://fuusn.org/event/zoom-vespers-2/2024-09-13/
LOCATION:Online
CATEGORIES:Front Page,Music Meetings
END:VEVENT
BEGIN:VEVENT
DTSTART;TZID=America/New_York:20240911T193000
DTEND;TZID=America/New_York:20240911T210000
DTSTAMP:20260422T130530
CREATED:20240621T140919Z
LAST-MODIFIED:20240903T143020Z
UID:10003163-1726083000-1726088400@fuusn.org
SUMMARY:Choir Rehearsal
DESCRIPTION:
URL:https://fuusn.org/event/choir-rehearsals/2024-09-11/
LOCATION:Parish Hall
CATEGORIES:Choir Rehearsals
END:VEVENT
BEGIN:VEVENT
DTSTART;TZID=America/New_York:20240908T150000
DTEND;TZID=America/New_York:20240908T170000
DTSTAMP:20260422T130530
CREATED:20240819T165100Z
LAST-MODIFIED:20240903T144704Z
UID:10003129-1725807600-1725814800@fuusn.org
SUMMARY:JourneySongs Rehearsal
DESCRIPTION:
URL:https://fuusn.org/event/journeysongs-rehearsal/2024-09-08/
LOCATION:Chapel
CATEGORIES:JourneySongs,Music Meetings
END:VEVENT
BEGIN:VEVENT
DTSTART;TZID=America/New_York:20240906T180000
DTEND;TZID=America/New_York:20240906T183000
DTSTAMP:20260422T130530
CREATED:20240727T205307Z
LAST-MODIFIED:20241001T191740Z
UID:10003056-1725645600-1725647400@fuusn.org
SUMMARY:Zoom Vespers
DESCRIPTION:Come to Zoom Vespers on Fridays for music\, readings\, and conversation. The service runs from 6 to 6:30pm. Pre-service music begins around 5:47pm. Vespers dates: August 30\, Sept. 6\, 13\, 27\, Oct. 4\, 18\, 25\, Nov. 1\, 8\, 29\, Dec. 20. Info: music@fuusn.org.
URL:https://fuusn.org/event/zoom-vespers-2/2024-09-06/
LOCATION:Online
CATEGORIES:Front Page,Music Meetings
END:VEVENT
BEGIN:VEVENT
DTSTART;TZID=America/New_York:20240904T193000
DTEND;TZID=America/New_York:20240904T210000
DTSTAMP:20260422T130530
CREATED:20240621T140919Z
LAST-MODIFIED:20240903T143020Z
UID:10003162-1725478200-1725483600@fuusn.org
SUMMARY:Choir Rehearsal
DESCRIPTION:
URL:https://fuusn.org/event/choir-rehearsals/2024-09-04/
LOCATION:Parish Hall
CATEGORIES:Choir Rehearsals
END:VEVENT
BEGIN:VEVENT
DTSTART;TZID=America/New_York:20240830T180000
DTEND;TZID=America/New_York:20240830T183000
DTSTAMP:20260422T130530
CREATED:20240727T205307Z
LAST-MODIFIED:20241001T191740Z
UID:10003055-1725040800-1725042600@fuusn.org
SUMMARY:Zoom Vespers
DESCRIPTION:Come to Zoom Vespers on Fridays for music\, readings\, and conversation. The service runs from 6 to 6:30pm. Pre-service music begins around 5:47pm. Vespers dates: August 30\, Sept. 6\, 13\, 27\, Oct. 4\, 18\, 25\, Nov. 1\, 8\, 29\, Dec. 20. Info: music@fuusn.org.
URL:https://fuusn.org/event/zoom-vespers-2/2024-08-30/
LOCATION:Online
CATEGORIES:Front Page,Music Meetings
END:VEVENT
BEGIN:VEVENT
DTSTART;TZID=America/New_York:20240829T190000
DTEND;TZID=America/New_York:20240829T210000
DTSTAMP:20260422T130530
CREATED:20240726T144815Z
LAST-MODIFIED:20240726T144815Z
UID:10003053-1724958000-1724965200@fuusn.org
SUMMARY:Music Reading Class
DESCRIPTION:
URL:https://fuusn.org/event/music-reading-class-2/
LOCATION:Chapel
CATEGORIES:Classes,Music Meetings
END:VEVENT
BEGIN:VEVENT
DTSTART;TZID=America/New_York:20240822T190000
DTEND;TZID=America/New_York:20240822T210000
DTSTAMP:20260422T130530
CREATED:20240726T144657Z
LAST-MODIFIED:20240726T144657Z
UID:10003052-1724353200-1724360400@fuusn.org
SUMMARY:Music Reading Class
DESCRIPTION:
URL:https://fuusn.org/event/music-reading-class/
LOCATION:Chapel
CATEGORIES:Adult Classes,Music Meetings
END:VEVENT
BEGIN:VEVENT
DTSTART;TZID=America/New_York:20240818T153000
DTEND;TZID=America/New_York:20240818T170000
DTSTAMP:20260422T130530
CREATED:20231120T155127Z
LAST-MODIFIED:20231120T160439Z
UID:10001009-1723995000-1724000400@fuusn.org
SUMMARY:Journey Songs Hospice Choir Rehearsal
DESCRIPTION:
URL:https://fuusn.org/event/journey-songs-rehearsal-5/
LOCATION:Chapel
CATEGORIES:JourneySongs
END:VEVENT
BEGIN:VEVENT
DTSTART;TZID=America/New_York:20240728T153000
DTEND;TZID=America/New_York:20240728T170000
DTSTAMP:20260422T130530
CREATED:20231120T155025Z
LAST-MODIFIED:20240417T134519Z
UID:10001008-1722180600-1722186000@fuusn.org
SUMMARY:Journey Songs Hospice Choir Rehearsal
DESCRIPTION:
URL:https://fuusn.org/event/journey-songs-rehearsal-4/
LOCATION:Chapel
CATEGORIES:JourneySongs
END:VEVENT
BEGIN:VEVENT
DTSTART;TZID=America/New_York:20240717T193000
DTEND;TZID=America/New_York:20240717T201500
DTSTAMP:20260422T130530
CREATED:20240703T143240Z
LAST-MODIFIED:20240703T143240Z
UID:10003000-1721244600-1721247300@fuusn.org
SUMMARY:Choir Rehearsal for Jacqui James Memorial
DESCRIPTION:
URL:https://fuusn.org/event/choir-rehearsal-for-jacqui-james-memorial/
LOCATION:Chapel
CATEGORIES:Choir Rehearsals,Music Meetings
END:VEVENT
BEGIN:VEVENT
DTSTART;TZID=America/New_York:20240630T153000
DTEND;TZID=America/New_York:20240630T170000
DTSTAMP:20260422T130530
CREATED:20230927T160339Z
LAST-MODIFIED:20240417T134141Z
UID:10000792-1719761400-1719766800@fuusn.org
SUMMARY:JourneySongs Hospice Choir Rehearsal
DESCRIPTION:
URL:https://fuusn.org/event/journey-songs-17/
LOCATION:Parish Hall and Kitchen
CATEGORIES:Choir Rehearsals,JourneySongs
END:VEVENT
BEGIN:VEVENT
DTSTART;TZID=America/New_York:20240609T153000
DTEND;TZID=America/New_York:20240609T170000
DTSTAMP:20260422T130530
CREATED:20230927T160218Z
LAST-MODIFIED:20231120T155651Z
UID:10000791-1717947000-1717952400@fuusn.org
SUMMARY:JourneySongs Hospice Choir Rehearsal
DESCRIPTION:
URL:https://fuusn.org/event/journey-songs-16/
LOCATION:Chapel
CATEGORIES:Choir Rehearsals,JourneySongs
END:VEVENT
BEGIN:VEVENT
DTSTART;TZID=America/New_York:20240522T193000
DTEND;TZID=America/New_York:20240522T210000
DTSTAMP:20260422T130530
CREATED:20230823T175913Z
LAST-MODIFIED:20230823T175913Z
UID:10000173-1716406200-1716411600@fuusn.org
SUMMARY:Choir Practice
DESCRIPTION:
URL:https://fuusn.org/event/choir-practice/2024-05-22/
LOCATION:FUUSN Parish Hall\, 1326 Washington St.\, West Newton\, MA\, 02465\, United States
CATEGORIES:Choir Rehearsals,Music Meetings
END:VEVENT
BEGIN:VEVENT
DTSTART;TZID=America/New_York:20240515T193000
DTEND;TZID=America/New_York:20240515T210000
DTSTAMP:20260422T130530
CREATED:20230823T175913Z
LAST-MODIFIED:20230823T175913Z
UID:10000172-1715801400-1715806800@fuusn.org
SUMMARY:Choir Practice
DESCRIPTION:
URL:https://fuusn.org/event/choir-practice/2024-05-15/
LOCATION:FUUSN Parish Hall\, 1326 Washington St.\, West Newton\, MA\, 02465\, United States
CATEGORIES:Choir Rehearsals,Music Meetings
END:VEVENT
BEGIN:VEVENT
DTSTART;TZID=America/New_York:20240508T193000
DTEND;TZID=America/New_York:20240508T210000
DTSTAMP:20260422T130530
CREATED:20230823T175913Z
LAST-MODIFIED:20230823T175913Z
UID:10000171-1715196600-1715202000@fuusn.org
SUMMARY:Choir Practice
DESCRIPTION:
URL:https://fuusn.org/event/choir-practice/2024-05-08/
LOCATION:FUUSN Parish Hall\, 1326 Washington St.\, West Newton\, MA\, 02465\, United States
CATEGORIES:Choir Rehearsals,Music Meetings
END:VEVENT
BEGIN:VEVENT
DTSTART;TZID=America/New_York:20240505T153000
DTEND;TZID=America/New_York:20240505T170000
DTSTAMP:20260422T130530
CREATED:20231120T154820Z
LAST-MODIFIED:20231120T160645Z
UID:10001006-1714923000-1714928400@fuusn.org
SUMMARY:Journey Songs Hospice Choir Rehearsal
DESCRIPTION:
URL:https://fuusn.org/event/journey-songs-rehearsal-2/
LOCATION:Chapel
CATEGORIES:JourneySongs
END:VEVENT
BEGIN:VEVENT
DTSTART;TZID=America/New_York:20240501T193000
DTEND;TZID=America/New_York:20240501T210000
DTSTAMP:20260422T130530
CREATED:20230823T175913Z
LAST-MODIFIED:20230823T175913Z
UID:10000170-1714591800-1714597200@fuusn.org
SUMMARY:Choir Practice
DESCRIPTION:
URL:https://fuusn.org/event/choir-practice/2024-05-01/
LOCATION:FUUSN Parish Hall\, 1326 Washington St.\, West Newton\, MA\, 02465\, United States
CATEGORIES:Choir Rehearsals,Music Meetings
END:VEVENT
END:VCALENDAR