BEGIN:VCALENDAR
VERSION:2.0
PRODID:-//First Unitarian Universalist Society in Newton - ECPv6.15.17.1//NONSGML v1.0//EN
CALSCALE:GREGORIAN
METHOD:PUBLISH
X-ORIGINAL-URL:https://fuusn.org
X-WR-CALDESC:Events for First Unitarian Universalist Society in Newton
REFRESH-INTERVAL;VALUE=DURATION:PT1H
X-Robots-Tag:noindex
X-PUBLISHED-TTL:PT1H
BEGIN:VTIMEZONE
TZID:America/New_York
BEGIN:DAYLIGHT
TZOFFSETFROM:-0500
TZOFFSETTO:-0400
TZNAME:EDT
DTSTART:20230312T070000
END:DAYLIGHT
BEGIN:STANDARD
TZOFFSETFROM:-0400
TZOFFSETTO:-0500
TZNAME:EST
DTSTART:20231105T060000
END:STANDARD
BEGIN:DAYLIGHT
TZOFFSETFROM:-0500
TZOFFSETTO:-0400
TZNAME:EDT
DTSTART:20240310T070000
END:DAYLIGHT
BEGIN:STANDARD
TZOFFSETFROM:-0400
TZOFFSETTO:-0500
TZNAME:EST
DTSTART:20241103T060000
END:STANDARD
BEGIN:DAYLIGHT
TZOFFSETFROM:-0500
TZOFFSETTO:-0400
TZNAME:EDT
DTSTART:20250309T070000
END:DAYLIGHT
BEGIN:STANDARD
TZOFFSETFROM:-0400
TZOFFSETTO:-0500
TZNAME:EST
DTSTART:20251102T060000
END:STANDARD
END:VTIMEZONE
BEGIN:VEVENT
DTSTART;TZID=America/New_York:20240407T153000
DTEND;TZID=America/New_York:20240407T170000
DTSTAMP:20260422T165952
CREATED:20230927T155438Z
LAST-MODIFIED:20231120T155831Z
UID:10000787-1712503800-1712509200@fuusn.org
SUMMARY:JourneySongs Hospice Choir Rehearsal
DESCRIPTION:
URL:https://fuusn.org/event/journey-songs-12/
LOCATION:Chapel
CATEGORIES:Choir Rehearsals,JourneySongs
END:VEVENT
BEGIN:VEVENT
DTSTART;TZID=America/New_York:20240405T180000
DTEND;TZID=America/New_York:20240405T183000
DTSTAMP:20260422T165952
CREATED:20230901T135816Z
LAST-MODIFIED:20230901T184334Z
UID:10000627-1712340000-1712341800@fuusn.org
SUMMARY:Zoom Vespers 2023-2024
DESCRIPTION:Come to Vespers for  music\, readings and conversation. The service runs from 6 to 6:30 pm. Pre-service music begins around 5:47 pm \nJoin Zoom Meeting \nhttps://zoom.us/j/95067560228 \nMeeting ID: 950 6756 0228
URL:https://fuusn.org/event/zoom-vespers-2023-2024/2024-04-05/
LOCATION:Online
CATEGORIES:Music Meetings
END:VEVENT
BEGIN:VEVENT
DTSTART;TZID=America/New_York:20240403T193000
DTEND;TZID=America/New_York:20240403T210000
DTSTAMP:20260422T165952
CREATED:20230823T175913Z
LAST-MODIFIED:20230823T175913Z
UID:10000166-1712172600-1712178000@fuusn.org
SUMMARY:Choir Practice
DESCRIPTION:
URL:https://fuusn.org/event/choir-practice/2024-04-03/
LOCATION:FUUSN Parish Hall\, 1326 Washington St.\, West Newton\, MA\, 02465\, United States
CATEGORIES:Choir Rehearsals,Music Meetings
END:VEVENT
BEGIN:VEVENT
DTSTART;TZID=America/New_York:20240327T193000
DTEND;TZID=America/New_York:20240327T210000
DTSTAMP:20260422T165952
CREATED:20230823T175913Z
LAST-MODIFIED:20230823T175913Z
UID:10000165-1711567800-1711573200@fuusn.org
SUMMARY:Choir Practice
DESCRIPTION:
URL:https://fuusn.org/event/choir-practice/2024-03-27/
LOCATION:FUUSN Parish Hall\, 1326 Washington St.\, West Newton\, MA\, 02465\, United States
CATEGORIES:Choir Rehearsals,Music Meetings
END:VEVENT
BEGIN:VEVENT
DTSTART;TZID=America/New_York:20240322T180000
DTEND;TZID=America/New_York:20240322T183000
DTSTAMP:20260422T165952
CREATED:20230901T135816Z
LAST-MODIFIED:20230901T184334Z
UID:10000625-1711130400-1711132200@fuusn.org
SUMMARY:Zoom Vespers 2023-2024
DESCRIPTION:Come to Vespers for  music\, readings and conversation. The service runs from 6 to 6:30 pm. Pre-service music begins around 5:47 pm \nJoin Zoom Meeting \nhttps://zoom.us/j/95067560228 \nMeeting ID: 950 6756 0228
URL:https://fuusn.org/event/zoom-vespers-2023-2024/2024-03-22/
LOCATION:Online
CATEGORIES:Music Meetings
END:VEVENT
BEGIN:VEVENT
DTSTART;TZID=America/New_York:20240320T193000
DTEND;TZID=America/New_York:20240320T210000
DTSTAMP:20260422T165952
CREATED:20230823T175913Z
LAST-MODIFIED:20230823T175913Z
UID:10000164-1710963000-1710968400@fuusn.org
SUMMARY:Choir Practice
DESCRIPTION:
URL:https://fuusn.org/event/choir-practice/2024-03-20/
LOCATION:FUUSN Parish Hall\, 1326 Washington St.\, West Newton\, MA\, 02465\, United States
CATEGORIES:Choir Rehearsals,Music Meetings
END:VEVENT
BEGIN:VEVENT
DTSTART;TZID=America/New_York:20240317T153000
DTEND;TZID=America/New_York:20240317T170000
DTSTAMP:20260422T165952
CREATED:20230927T155339Z
LAST-MODIFIED:20231120T155916Z
UID:10000786-1710689400-1710694800@fuusn.org
SUMMARY:JourneySongs Hospice Choir Rehearsal
DESCRIPTION:
URL:https://fuusn.org/event/journey-songs-11/
LOCATION:Chapel
CATEGORIES:Choir Rehearsals,JourneySongs
END:VEVENT
BEGIN:VEVENT
DTSTART;TZID=America/New_York:20240315T180000
DTEND;TZID=America/New_York:20240315T183000
DTSTAMP:20260422T165952
CREATED:20240304T152542Z
LAST-MODIFIED:20240304T152546Z
UID:10000623-1710525600-1710527400@fuusn.org
SUMMARY:Zoom Vespers 2023-2024
DESCRIPTION:Come to Vespers for  music\, readings and conversation. The service runs from 6 to 6:30 pm. Pre-service music begins around 5:47 pm \nJoin Zoom Meeting \nhttps://zoom.us/j/95067560228 \nMeeting ID: 950 6756 0228
URL:https://fuusn.org/event/zoom-vespers-2023-2024-2/
LOCATION:Online
CATEGORIES:Music Meetings
END:VEVENT
BEGIN:VEVENT
DTSTART;TZID=America/New_York:20240313T193000
DTEND;TZID=America/New_York:20240313T210000
DTSTAMP:20260422T165952
CREATED:20230823T175913Z
LAST-MODIFIED:20230823T175913Z
UID:10000163-1710358200-1710363600@fuusn.org
SUMMARY:Choir Practice
DESCRIPTION:
URL:https://fuusn.org/event/choir-practice/2024-03-13/
LOCATION:FUUSN Parish Hall\, 1326 Washington St.\, West Newton\, MA\, 02465\, United States
CATEGORIES:Choir Rehearsals,Music Meetings
END:VEVENT
BEGIN:VEVENT
DTSTART;TZID=America/New_York:20240306T193000
DTEND;TZID=America/New_York:20240306T210000
DTSTAMP:20260422T165952
CREATED:20230823T175913Z
LAST-MODIFIED:20230823T175913Z
UID:10000162-1709753400-1709758800@fuusn.org
SUMMARY:Choir Practice
DESCRIPTION:
URL:https://fuusn.org/event/choir-practice/2024-03-06/
LOCATION:FUUSN Parish Hall\, 1326 Washington St.\, West Newton\, MA\, 02465\, United States
CATEGORIES:Choir Rehearsals,Music Meetings
END:VEVENT
BEGIN:VEVENT
DTSTART;TZID=America/New_York:20240303T153000
DTEND;TZID=America/New_York:20240303T170000
DTSTAMP:20260422T165952
CREATED:20230927T155233Z
LAST-MODIFIED:20231120T160004Z
UID:10000785-1709479800-1709485200@fuusn.org
SUMMARY:JourneySongs Hospice Choir Rehearsal
DESCRIPTION:
URL:https://fuusn.org/event/journey-songs-10/
LOCATION:Chapel
CATEGORIES:Choir Rehearsals,JourneySongs
END:VEVENT
BEGIN:VEVENT
DTSTART;TZID=America/New_York:20240228T193000
DTEND;TZID=America/New_York:20240228T210000
DTSTAMP:20260422T165952
CREATED:20230823T175913Z
LAST-MODIFIED:20230823T175913Z
UID:10000161-1709148600-1709154000@fuusn.org
SUMMARY:Choir Practice
DESCRIPTION:
URL:https://fuusn.org/event/choir-practice/2024-02-28/
LOCATION:FUUSN Parish Hall\, 1326 Washington St.\, West Newton\, MA\, 02465\, United States
CATEGORIES:Choir Rehearsals,Music Meetings
END:VEVENT
BEGIN:VEVENT
DTSTART;TZID=America/New_York:20240223T180000
DTEND;TZID=America/New_York:20240223T183000
DTSTAMP:20260422T165952
CREATED:20230901T135816Z
LAST-MODIFIED:20230901T184334Z
UID:10000621-1708711200-1708713000@fuusn.org
SUMMARY:Zoom Vespers 2023-2024
DESCRIPTION:Come to Vespers for  music\, readings and conversation. The service runs from 6 to 6:30 pm. Pre-service music begins around 5:47 pm \nJoin Zoom Meeting \nhttps://zoom.us/j/95067560228 \nMeeting ID: 950 6756 0228
URL:https://fuusn.org/event/zoom-vespers-2023-2024/2024-02-23/
LOCATION:Online
CATEGORIES:Music Meetings
END:VEVENT
BEGIN:VEVENT
DTSTART;TZID=America/New_York:20240221T193000
DTEND;TZID=America/New_York:20240221T210000
DTSTAMP:20260422T165952
CREATED:20240215T213515Z
LAST-MODIFIED:20240215T213524Z
UID:10000160-1708543800-1708549200@fuusn.org
SUMMARY:Choir Practice - Moved Offsite
DESCRIPTION:
URL:https://fuusn.org/event/choir-practice-3/
LOCATION:FUUSN Parish Hall\, 1326 Washington St.\, West Newton\, MA\, 02465\, United States
CATEGORIES:Choir Rehearsals,Music Meetings
END:VEVENT
BEGIN:VEVENT
DTSTART;TZID=America/New_York:20240221T193000
DTEND;TZID=America/New_York:20240221T210000
DTSTAMP:20260422T165952
CREATED:20230823T175913Z
LAST-MODIFIED:20230823T175913Z
UID:10001927-1708543800-1708549200@fuusn.org
SUMMARY:Choir Practice
DESCRIPTION:
URL:https://fuusn.org/event/choir-practice/2024-02-21/
LOCATION:FUUSN Parish Hall\, 1326 Washington St.\, West Newton\, MA\, 02465\, United States
CATEGORIES:Choir Rehearsals,Music Meetings
END:VEVENT
BEGIN:VEVENT
DTSTART;TZID=America/New_York:20240218T153000
DTEND;TZID=America/New_York:20240218T170000
DTSTAMP:20260422T165952
CREATED:20230927T155140Z
LAST-MODIFIED:20240215T172024Z
UID:10000784-1708270200-1708275600@fuusn.org
SUMMARY:JourneySongs Hospice Choir Rehearsal - New Location
DESCRIPTION:Due to FUUSN’s closure Feb 18th\, JourneySongs has moved its rehearsal to Adelaide of Newton Center Memory Care from 3:30-5:00 PM.\nAdelaide is located at 157 Herrick Road\, Newton Center. Please meet us in the lobby no later than 3:30 PM and we will go to the rehearsal space together.
URL:https://fuusn.org/event/journey-songs-9/
CATEGORIES:Choir Rehearsals,JourneySongs
END:VEVENT
BEGIN:VEVENT
DTSTART;TZID=America/New_York:20240216T180000
DTEND;TZID=America/New_York:20240216T183000
DTSTAMP:20260422T165952
CREATED:20230901T135816Z
LAST-MODIFIED:20230901T184334Z
UID:10000620-1708106400-1708108200@fuusn.org
SUMMARY:Zoom Vespers 2023-2024
DESCRIPTION:Come to Vespers for  music\, readings and conversation. The service runs from 6 to 6:30 pm. Pre-service music begins around 5:47 pm \nJoin Zoom Meeting \nhttps://zoom.us/j/95067560228 \nMeeting ID: 950 6756 0228
URL:https://fuusn.org/event/zoom-vespers-2023-2024/2024-02-16/
LOCATION:Online
CATEGORIES:Music Meetings
END:VEVENT
BEGIN:VEVENT
DTSTART;TZID=America/New_York:20240214T193000
DTEND;TZID=America/New_York:20240214T210000
DTSTAMP:20260422T165952
CREATED:20240213T211933Z
LAST-MODIFIED:20240213T223246Z
UID:10000159-1707939000-1707944400@fuusn.org
SUMMARY:Choir Practice - ON ZOOM THIS WEEK
DESCRIPTION:
URL:https://fuusn.org/event/choir-practice-2/
LOCATION:FUUSN Parish Hall\, 1326 Washington St.\, West Newton\, MA\, 02465\, United States
CATEGORIES:Choir Rehearsals,Music Meetings
END:VEVENT
BEGIN:VEVENT
DTSTART;TZID=America/New_York:20240214T193000
DTEND;TZID=America/New_York:20240214T210000
DTSTAMP:20260422T165952
CREATED:20230823T175913Z
LAST-MODIFIED:20230823T175913Z
UID:10001926-1707939000-1707944400@fuusn.org
SUMMARY:Choir Practice
DESCRIPTION:
URL:https://fuusn.org/event/choir-practice/2024-02-14/
LOCATION:FUUSN Parish Hall\, 1326 Washington St.\, West Newton\, MA\, 02465\, United States
CATEGORIES:Choir Rehearsals,Music Meetings
END:VEVENT
BEGIN:VEVENT
DTSTART;TZID=America/New_York:20240210T100000
DTEND;TZID=America/New_York:20240210T130000
DTSTAMP:20260422T165952
CREATED:20231204T164555Z
LAST-MODIFIED:20240205T161501Z
UID:10001039-1707559200-1707570000@fuusn.org
SUMMARY:FUUSN Band Rehearsal
DESCRIPTION:
URL:https://fuusn.org/event/fuusn-band-rehearsal-5/
LOCATION:Sanctuary
CATEGORIES:Music Meetings
END:VEVENT
BEGIN:VEVENT
DTSTART;TZID=America/New_York:20240207T193000
DTEND;TZID=America/New_York:20240207T210000
DTSTAMP:20260422T165952
CREATED:20230823T175913Z
LAST-MODIFIED:20230823T175913Z
UID:10000158-1707334200-1707339600@fuusn.org
SUMMARY:Choir Practice
DESCRIPTION:
URL:https://fuusn.org/event/choir-practice/2024-02-07/
LOCATION:FUUSN Parish Hall\, 1326 Washington St.\, West Newton\, MA\, 02465\, United States
CATEGORIES:Choir Rehearsals,Music Meetings
END:VEVENT
BEGIN:VEVENT
DTSTART;TZID=America/New_York:20240204T153000
DTEND;TZID=America/New_York:20240204T170000
DTSTAMP:20260422T165952
CREATED:20230927T154835Z
LAST-MODIFIED:20231120T160124Z
UID:10000783-1707060600-1707066000@fuusn.org
SUMMARY:JourneySongs Hospice Choir Rehearsal
DESCRIPTION:
URL:https://fuusn.org/event/journey-songs-8/
LOCATION:Chapel
CATEGORIES:Choir Rehearsals,JourneySongs
END:VEVENT
BEGIN:VEVENT
DTSTART;TZID=America/New_York:20240202T180000
DTEND;TZID=America/New_York:20240202T183000
DTSTAMP:20260422T165952
CREATED:20230901T135816Z
LAST-MODIFIED:20230901T184334Z
UID:10000618-1706896800-1706898600@fuusn.org
SUMMARY:Zoom Vespers 2023-2024
DESCRIPTION:Come to Vespers for  music\, readings and conversation. The service runs from 6 to 6:30 pm. Pre-service music begins around 5:47 pm \nJoin Zoom Meeting \nhttps://zoom.us/j/95067560228 \nMeeting ID: 950 6756 0228
URL:https://fuusn.org/event/zoom-vespers-2023-2024/2024-02-02/
LOCATION:Online
CATEGORIES:Music Meetings
END:VEVENT
BEGIN:VEVENT
DTSTART;TZID=America/New_York:20240131T193000
DTEND;TZID=America/New_York:20240131T210000
DTSTAMP:20260422T165952
CREATED:20230823T175913Z
LAST-MODIFIED:20230823T175913Z
UID:10000157-1706729400-1706734800@fuusn.org
SUMMARY:Choir Practice
DESCRIPTION:
URL:https://fuusn.org/event/choir-practice/2024-01-31/
LOCATION:FUUSN Parish Hall\, 1326 Washington St.\, West Newton\, MA\, 02465\, United States
CATEGORIES:Choir Rehearsals,Music Meetings
END:VEVENT
BEGIN:VEVENT
DTSTART;TZID=America/New_York:20240124T193000
DTEND;TZID=America/New_York:20240124T210000
DTSTAMP:20260422T165952
CREATED:20230823T175913Z
LAST-MODIFIED:20230823T175913Z
UID:10000156-1706124600-1706130000@fuusn.org
SUMMARY:Choir Practice
DESCRIPTION:
URL:https://fuusn.org/event/choir-practice/2024-01-24/
LOCATION:FUUSN Parish Hall\, 1326 Washington St.\, West Newton\, MA\, 02465\, United States
CATEGORIES:Choir Rehearsals,Music Meetings
END:VEVENT
BEGIN:VEVENT
DTSTART;TZID=America/New_York:20240121T153000
DTEND;TZID=America/New_York:20240121T170000
DTSTAMP:20260422T165952
CREATED:20230927T154741Z
LAST-MODIFIED:20231120T160204Z
UID:10000782-1705851000-1705856400@fuusn.org
SUMMARY:JourneySongs Hospice Choir Rehearsal
DESCRIPTION:
URL:https://fuusn.org/event/journey-songs-7/
LOCATION:Chapel
CATEGORIES:JourneySongs
END:VEVENT
BEGIN:VEVENT
DTSTART;TZID=America/New_York:20240119T180000
DTEND;TZID=America/New_York:20240119T183000
DTSTAMP:20260422T165952
CREATED:20230901T135816Z
LAST-MODIFIED:20230901T184334Z
UID:10000616-1705687200-1705689000@fuusn.org
SUMMARY:Zoom Vespers 2023-2024
DESCRIPTION:Come to Vespers for  music\, readings and conversation. The service runs from 6 to 6:30 pm. Pre-service music begins around 5:47 pm \nJoin Zoom Meeting \nhttps://zoom.us/j/95067560228 \nMeeting ID: 950 6756 0228
URL:https://fuusn.org/event/zoom-vespers-2023-2024/2024-01-19/
LOCATION:Online
CATEGORIES:Music Meetings
END:VEVENT
BEGIN:VEVENT
DTSTART;TZID=America/New_York:20240118T190000
DTEND;TZID=America/New_York:20240118T210000
DTSTAMP:20260422T165952
CREATED:20240108T195743Z
LAST-MODIFIED:20240108T195743Z
UID:10001180-1705604400-1705611600@fuusn.org
SUMMARY:FUUSN Band
DESCRIPTION:
URL:https://fuusn.org/event/fuusn-band/
LOCATION:Chapel
CATEGORIES:Music Meetings
END:VEVENT
BEGIN:VEVENT
DTSTART;TZID=America/New_York:20240117T193000
DTEND;TZID=America/New_York:20240117T210000
DTSTAMP:20260422T165952
CREATED:20230823T175913Z
LAST-MODIFIED:20230823T175913Z
UID:10000155-1705519800-1705525200@fuusn.org
SUMMARY:Choir Practice
DESCRIPTION:
URL:https://fuusn.org/event/choir-practice/2024-01-17/
LOCATION:FUUSN Parish Hall\, 1326 Washington St.\, West Newton\, MA\, 02465\, United States
CATEGORIES:Choir Rehearsals,Music Meetings
END:VEVENT
BEGIN:VEVENT
DTSTART;TZID=America/New_York:20240110T193000
DTEND;TZID=America/New_York:20240110T210000
DTSTAMP:20260422T165952
CREATED:20230823T175913Z
LAST-MODIFIED:20230823T175913Z
UID:10000154-1704915000-1704920400@fuusn.org
SUMMARY:Choir Practice
DESCRIPTION:
URL:https://fuusn.org/event/choir-practice/2024-01-10/
LOCATION:FUUSN Parish Hall\, 1326 Washington St.\, West Newton\, MA\, 02465\, United States
CATEGORIES:Choir Rehearsals,Music Meetings
END:VEVENT
END:VCALENDAR