BEGIN:VCALENDAR
VERSION:2.0
PRODID:-//First Unitarian Universalist Society in Newton - ECPv6.15.17.1//NONSGML v1.0//EN
CALSCALE:GREGORIAN
METHOD:PUBLISH
X-WR-CALNAME:First Unitarian Universalist Society in Newton
X-ORIGINAL-URL:https://fuusn.org
X-WR-CALDESC:Events for First Unitarian Universalist Society in Newton
REFRESH-INTERVAL;VALUE=DURATION:PT1H
X-Robots-Tag:noindex
X-PUBLISHED-TTL:PT1H
BEGIN:VTIMEZONE
TZID:America/New_York
BEGIN:DAYLIGHT
TZOFFSETFROM:-0500
TZOFFSETTO:-0400
TZNAME:EDT
DTSTART:20220313T070000
END:DAYLIGHT
BEGIN:STANDARD
TZOFFSETFROM:-0400
TZOFFSETTO:-0500
TZNAME:EST
DTSTART:20221106T060000
END:STANDARD
BEGIN:DAYLIGHT
TZOFFSETFROM:-0500
TZOFFSETTO:-0400
TZNAME:EDT
DTSTART:20230312T070000
END:DAYLIGHT
BEGIN:STANDARD
TZOFFSETFROM:-0400
TZOFFSETTO:-0500
TZNAME:EST
DTSTART:20231105T060000
END:STANDARD
BEGIN:DAYLIGHT
TZOFFSETFROM:-0500
TZOFFSETTO:-0400
TZNAME:EDT
DTSTART:20240310T070000
END:DAYLIGHT
BEGIN:STANDARD
TZOFFSETFROM:-0400
TZOFFSETTO:-0500
TZNAME:EST
DTSTART:20241103T060000
END:STANDARD
BEGIN:DAYLIGHT
TZOFFSETFROM:-0500
TZOFFSETTO:-0400
TZNAME:EDT
DTSTART:20250309T070000
END:DAYLIGHT
BEGIN:STANDARD
TZOFFSETFROM:-0400
TZOFFSETTO:-0500
TZNAME:EST
DTSTART:20251102T060000
END:STANDARD
END:VTIMEZONE
BEGIN:VEVENT
DTSTART;TZID=America/New_York:20240124T193000
DTEND;TZID=America/New_York:20240124T210000
DTSTAMP:20260422T194955
CREATED:20230823T175913Z
LAST-MODIFIED:20230823T175913Z
UID:10000156-1706124600-1706130000@fuusn.org
SUMMARY:Choir Practice
DESCRIPTION:
URL:https://fuusn.org/event/choir-practice/2024-01-24/
LOCATION:FUUSN Parish Hall\, 1326 Washington St.\, West Newton\, MA\, 02465\, United States
CATEGORIES:Choir Rehearsals,Music Meetings
END:VEVENT
BEGIN:VEVENT
DTSTART;TZID=America/New_York:20240121T153000
DTEND;TZID=America/New_York:20240121T170000
DTSTAMP:20260422T194955
CREATED:20230927T154741Z
LAST-MODIFIED:20231120T160204Z
UID:10000782-1705851000-1705856400@fuusn.org
SUMMARY:JourneySongs Hospice Choir Rehearsal
DESCRIPTION:
URL:https://fuusn.org/event/journey-songs-7/
LOCATION:Chapel
CATEGORIES:JourneySongs
END:VEVENT
BEGIN:VEVENT
DTSTART;TZID=America/New_York:20240119T180000
DTEND;TZID=America/New_York:20240119T183000
DTSTAMP:20260422T194955
CREATED:20230901T135816Z
LAST-MODIFIED:20230901T184334Z
UID:10000616-1705687200-1705689000@fuusn.org
SUMMARY:Zoom Vespers 2023-2024
DESCRIPTION:Come to Vespers for  music\, readings and conversation. The service runs from 6 to 6:30 pm. Pre-service music begins around 5:47 pm \nJoin Zoom Meeting \nhttps://zoom.us/j/95067560228 \nMeeting ID: 950 6756 0228
URL:https://fuusn.org/event/zoom-vespers-2023-2024/2024-01-19/
LOCATION:Online
CATEGORIES:Music Meetings
END:VEVENT
BEGIN:VEVENT
DTSTART;TZID=America/New_York:20240118T190000
DTEND;TZID=America/New_York:20240118T210000
DTSTAMP:20260422T194955
CREATED:20240108T195743Z
LAST-MODIFIED:20240108T195743Z
UID:10001180-1705604400-1705611600@fuusn.org
SUMMARY:FUUSN Band
DESCRIPTION:
URL:https://fuusn.org/event/fuusn-band/
LOCATION:Chapel
CATEGORIES:Music Meetings
END:VEVENT
BEGIN:VEVENT
DTSTART;TZID=America/New_York:20240117T193000
DTEND;TZID=America/New_York:20240117T210000
DTSTAMP:20260422T194955
CREATED:20230823T175913Z
LAST-MODIFIED:20230823T175913Z
UID:10000155-1705519800-1705525200@fuusn.org
SUMMARY:Choir Practice
DESCRIPTION:
URL:https://fuusn.org/event/choir-practice/2024-01-17/
LOCATION:FUUSN Parish Hall\, 1326 Washington St.\, West Newton\, MA\, 02465\, United States
CATEGORIES:Choir Rehearsals,Music Meetings
END:VEVENT
BEGIN:VEVENT
DTSTART;TZID=America/New_York:20240110T193000
DTEND;TZID=America/New_York:20240110T210000
DTSTAMP:20260422T194955
CREATED:20230823T175913Z
LAST-MODIFIED:20230823T175913Z
UID:10000154-1704915000-1704920400@fuusn.org
SUMMARY:Choir Practice
DESCRIPTION:
URL:https://fuusn.org/event/choir-practice/2024-01-10/
LOCATION:FUUSN Parish Hall\, 1326 Washington St.\, West Newton\, MA\, 02465\, United States
CATEGORIES:Choir Rehearsals,Music Meetings
END:VEVENT
BEGIN:VEVENT
DTSTART;TZID=America/New_York:20240107T153000
DTEND;TZID=America/New_York:20240107T170000
DTSTAMP:20260422T194955
CREATED:20231120T154704Z
LAST-MODIFIED:20231120T160729Z
UID:10001005-1704641400-1704646800@fuusn.org
SUMMARY:Journey Songs Hospice Choir Rehearsal
DESCRIPTION:
URL:https://fuusn.org/event/journey-songs-rehearsal/
LOCATION:Chapel
CATEGORIES:JourneySongs
END:VEVENT
BEGIN:VEVENT
DTSTART;TZID=America/New_York:20240105T180000
DTEND;TZID=America/New_York:20240105T183000
DTSTAMP:20260422T194955
CREATED:20230901T135816Z
LAST-MODIFIED:20230901T184334Z
UID:10000614-1704477600-1704479400@fuusn.org
SUMMARY:Zoom Vespers 2023-2024
DESCRIPTION:Come to Vespers for  music\, readings and conversation. The service runs from 6 to 6:30 pm. Pre-service music begins around 5:47 pm \nJoin Zoom Meeting \nhttps://zoom.us/j/95067560228 \nMeeting ID: 950 6756 0228
URL:https://fuusn.org/event/zoom-vespers-2023-2024/2024-01-05/
LOCATION:Online
CATEGORIES:Music Meetings
END:VEVENT
BEGIN:VEVENT
DTSTART;TZID=America/New_York:20240103T193000
DTEND;TZID=America/New_York:20240103T210000
DTSTAMP:20260422T194955
CREATED:20230823T175913Z
LAST-MODIFIED:20230823T175913Z
UID:10000153-1704310200-1704315600@fuusn.org
SUMMARY:Choir Practice
DESCRIPTION:
URL:https://fuusn.org/event/choir-practice/2024-01-03/
LOCATION:FUUSN Parish Hall\, 1326 Washington St.\, West Newton\, MA\, 02465\, United States
CATEGORIES:Choir Rehearsals,Music Meetings
END:VEVENT
BEGIN:VEVENT
DTSTART;TZID=America/New_York:20231227T193000
DTEND;TZID=America/New_York:20231227T210000
DTSTAMP:20260422T194955
CREATED:20230823T175913Z
LAST-MODIFIED:20230823T175913Z
UID:10000152-1703705400-1703710800@fuusn.org
SUMMARY:Choir Practice
DESCRIPTION:
URL:https://fuusn.org/event/choir-practice/2023-12-27/
LOCATION:FUUSN Parish Hall\, 1326 Washington St.\, West Newton\, MA\, 02465\, United States
CATEGORIES:Choir Rehearsals,Music Meetings
END:VEVENT
BEGIN:VEVENT
DTSTART;TZID=America/New_York:20231222T180000
DTEND;TZID=America/New_York:20231222T183000
DTSTAMP:20260422T194955
CREATED:20230901T135816Z
LAST-MODIFIED:20230901T184334Z
UID:10000612-1703268000-1703269800@fuusn.org
SUMMARY:Zoom Vespers 2023-2024
DESCRIPTION:Come to Vespers for  music\, readings and conversation. The service runs from 6 to 6:30 pm. Pre-service music begins around 5:47 pm \nJoin Zoom Meeting \nhttps://zoom.us/j/95067560228 \nMeeting ID: 950 6756 0228
URL:https://fuusn.org/event/zoom-vespers-2023-2024/2023-12-22/
LOCATION:Online
CATEGORIES:Music Meetings
END:VEVENT
BEGIN:VEVENT
DTSTART;TZID=America/New_York:20231220T193000
DTEND;TZID=America/New_York:20231220T210000
DTSTAMP:20260422T194955
CREATED:20230823T175913Z
LAST-MODIFIED:20230823T175913Z
UID:10000151-1703100600-1703106000@fuusn.org
SUMMARY:Choir Practice
DESCRIPTION:
URL:https://fuusn.org/event/choir-practice/2023-12-20/
LOCATION:FUUSN Parish Hall\, 1326 Washington St.\, West Newton\, MA\, 02465\, United States
CATEGORIES:Choir Rehearsals,Music Meetings
END:VEVENT
BEGIN:VEVENT
DTSTART;TZID=America/New_York:20231217T113000
DTEND;TZID=America/New_York:20231217T130000
DTSTAMP:20260422T194955
CREATED:20231127T194846Z
LAST-MODIFIED:20231127T194846Z
UID:10001020-1702812600-1702818000@fuusn.org
SUMMARY:Over 60s Coffee Hour Arts Fest - Voice
DESCRIPTION:Each month\, the Over 60s Group spotlights one aspect of our creative community of artists. For December\, we will be celebrating voice: singing\, choir\, barber shop quartets\, madrigal. Anne Watson Born will provide excellent organizing guidance. If you’d like to participate\, contact music@fuusn.org.
URL:https://fuusn.org/event/over-60s-coffee-hour-arts-fest-voice/
LOCATION:Alliance Room\, 1326 Washington St.\, West Newton\, MA\, 02465\, United States
CATEGORIES:Music Meetings,Over 60s,Public Events
END:VEVENT
BEGIN:VEVENT
DTSTART;TZID=America/New_York:20231216T093000
DTEND;TZID=America/New_York:20231216T113000
DTSTAMP:20260422T194955
CREATED:20231204T162652Z
LAST-MODIFIED:20231204T162652Z
UID:10001032-1702719000-1702726200@fuusn.org
SUMMARY:FUUSN Band Rehearsal
DESCRIPTION:
URL:https://fuusn.org/event/fuusn-band-rehearsal/
LOCATION:Sanctuary
CATEGORIES:Music Meetings
END:VEVENT
BEGIN:VEVENT
DTSTART;TZID=America/New_York:20231215T180000
DTEND;TZID=America/New_York:20231215T183000
DTSTAMP:20260422T194955
CREATED:20230901T135816Z
LAST-MODIFIED:20230901T184334Z
UID:10000611-1702663200-1702665000@fuusn.org
SUMMARY:Zoom Vespers 2023-2024
DESCRIPTION:Come to Vespers for  music\, readings and conversation. The service runs from 6 to 6:30 pm. Pre-service music begins around 5:47 pm \nJoin Zoom Meeting \nhttps://zoom.us/j/95067560228 \nMeeting ID: 950 6756 0228
URL:https://fuusn.org/event/zoom-vespers-2023-2024/2023-12-15/
LOCATION:Online
CATEGORIES:Music Meetings
END:VEVENT
BEGIN:VEVENT
DTSTART;TZID=America/New_York:20231213T193000
DTEND;TZID=America/New_York:20231213T210000
DTSTAMP:20260422T194955
CREATED:20230823T175913Z
LAST-MODIFIED:20230823T175913Z
UID:10000150-1702495800-1702501200@fuusn.org
SUMMARY:Choir Practice
DESCRIPTION:
URL:https://fuusn.org/event/choir-practice/2023-12-13/
LOCATION:FUUSN Parish Hall\, 1326 Washington St.\, West Newton\, MA\, 02465\, United States
CATEGORIES:Choir Rehearsals,Music Meetings
END:VEVENT
BEGIN:VEVENT
DTSTART;TZID=America/New_York:20231211T184000
DTEND;TZID=America/New_York:20231211T190000
DTSTAMP:20260422T194955
CREATED:20231211T205327Z
LAST-MODIFIED:20231211T205327Z
UID:10001043-1702320000-1702321200@fuusn.org
SUMMARY:Christmas Eve Chime Concert
DESCRIPTION:Come early for our 7pm Christmas Eve Service to hear our Chime ring out holiday cheer!
URL:https://fuusn.org/event/christmas-eve-chime-concert/
LOCATION:Sanctuary and Zoom
CATEGORIES:Music Meetings,Public Events,Special Services
END:VEVENT
BEGIN:VEVENT
DTSTART;TZID=America/New_York:20231210T130000
DTEND;TZID=America/New_York:20231210T160000
DTSTAMP:20260422T194955
CREATED:20231127T191756Z
LAST-MODIFIED:20231129T013007Z
UID:10001019-1702213200-1702224000@fuusn.org
SUMMARY:FUUSN Carolers at Newton Holiday Shop & Stroll
DESCRIPTION:The FUUSN Carolers will be strolling and singing on Sunday December 10\, in their annual foray into Newton Centre\, as part of the Holiday Shop & Stroll. At 1pm\, we’ll meet at the Newton Centre Parking lot to hear the Temple Emmanuel Children’s Choir sing. At 1:20\, we’ll begin caroling throughout the area. Caroling books will be provided. Come for an hour\, come for 3 songs\, come for 3 hours – whatever works for you. Come sing with us! Families are welcome! Let Anne Watson Born know you’re coming – email music@fuusn.org. \n 
URL:https://fuusn.org/event/fuusn-carolers-at-newton-holiday-shop-stroll/
LOCATION:Newton Centre
CATEGORIES:Music Meetings,Public Events,Social Events
END:VEVENT
BEGIN:VEVENT
DTSTART;TZID=America/New_York:20231206T193000
DTEND;TZID=America/New_York:20231206T210000
DTSTAMP:20260422T194955
CREATED:20230823T175913Z
LAST-MODIFIED:20230823T175913Z
UID:10000149-1701891000-1701896400@fuusn.org
SUMMARY:Choir Practice
DESCRIPTION:
URL:https://fuusn.org/event/choir-practice/2023-12-06/
LOCATION:FUUSN Parish Hall\, 1326 Washington St.\, West Newton\, MA\, 02465\, United States
CATEGORIES:Choir Rehearsals,Music Meetings
END:VEVENT
BEGIN:VEVENT
DTSTART;TZID=America/New_York:20231203T153000
DTEND;TZID=America/New_York:20231203T170000
DTSTAMP:20260422T194955
CREATED:20230927T152007Z
LAST-MODIFIED:20231120T160245Z
UID:10000779-1701617400-1701622800@fuusn.org
SUMMARY:JourneySongs Hospice Choir Rehearsal
DESCRIPTION:
URL:https://fuusn.org/event/journey-songs-5/
LOCATION:Chapel
CATEGORIES:JourneySongs
END:VEVENT
BEGIN:VEVENT
DTSTART;TZID=America/New_York:20231129T193000
DTEND;TZID=America/New_York:20231129T210000
DTSTAMP:20260422T194955
CREATED:20230823T175913Z
LAST-MODIFIED:20230823T175913Z
UID:10000148-1701286200-1701291600@fuusn.org
SUMMARY:Choir Practice
DESCRIPTION:
URL:https://fuusn.org/event/choir-practice/2023-11-29/
LOCATION:FUUSN Parish Hall\, 1326 Washington St.\, West Newton\, MA\, 02465\, United States
CATEGORIES:Choir Rehearsals,Music Meetings
END:VEVENT
BEGIN:VEVENT
DTSTART;TZID=America/New_York:20231126T153000
DTEND;TZID=America/New_York:20231126T170000
DTSTAMP:20260422T194955
CREATED:20230927T151911Z
LAST-MODIFIED:20231120T160344Z
UID:10000778-1701012600-1701018000@fuusn.org
SUMMARY:JourneySongs Hospice Choir Rehearsal
DESCRIPTION:
URL:https://fuusn.org/event/journey-songs-4/
LOCATION:Chapel
CATEGORIES:JourneySongs
END:VEVENT
BEGIN:VEVENT
DTSTART;TZID=America/New_York:20231122T193000
DTEND;TZID=America/New_York:20231122T210000
DTSTAMP:20260422T194955
CREATED:20230823T175913Z
LAST-MODIFIED:20230823T175913Z
UID:10000147-1700681400-1700686800@fuusn.org
SUMMARY:Choir Practice
DESCRIPTION:
URL:https://fuusn.org/event/choir-practice/2023-11-22/
LOCATION:FUUSN Parish Hall\, 1326 Washington St.\, West Newton\, MA\, 02465\, United States
CATEGORIES:Choir Rehearsals,Music Meetings
END:VEVENT
BEGIN:VEVENT
DTSTART;TZID=America/New_York:20231119T150000
DTEND;TZID=America/New_York:20231119T170000
DTSTAMP:20260422T194955
CREATED:20230927T152104Z
LAST-MODIFIED:20231011T151359Z
UID:10000780-1700406000-1700413200@fuusn.org
SUMMARY:JourneySongs Hospice Choir Rehearsal
DESCRIPTION:
URL:https://fuusn.org/event/journey-songs-6/
LOCATION:Chapel
CATEGORIES:JourneySongs
END:VEVENT
BEGIN:VEVENT
DTSTART;TZID=America/New_York:20231118T200000
DTEND;TZID=America/New_York:20231118T220000
DTSTAMP:20260422T194955
CREATED:20230824T181921Z
LAST-MODIFIED:20231108T155925Z
UID:10000571-1700337600-1700344800@fuusn.org
SUMMARY:Cappella Clausura Concert
DESCRIPTION:Das Jahr (The Year) \nFanny Mendelssohn Hensel \npiano: Lois Shapiro \nIn November\, we offer Das Jahr (The Year)\, a stunning\, extended work for solo piano by Fanny Mendelssohn Hensel\, based on the cyclical nature of time. We’ll break up the months with seasonings of vocal quartets by Hensel and Clara Schumann– adding a bit of spice to the commemoration of a year gone by. \nParish Hall booked from 6:30pm.
URL:https://fuusn.org/event/cappella-clausura-concert/
LOCATION:FUUSN Parish Hall\, 1326 Washington St.\, West Newton\, MA\, 02465\, United States
CATEGORIES:Music Meetings
END:VEVENT
BEGIN:VEVENT
DTSTART;TZID=America/New_York:20231117T190000
DTEND;TZID=America/New_York:20231117T220000
DTSTAMP:20260422T194955
CREATED:20230824T181757Z
LAST-MODIFIED:20230824T181757Z
UID:10000570-1700247600-1700258400@fuusn.org
SUMMARY:Cappella Clausura Rehearsal
DESCRIPTION:
URL:https://fuusn.org/event/cappella-clausura-rehearsal-2/
LOCATION:FUUSN Parish Hall\, 1326 Washington St.\, West Newton\, MA\, 02465\, United States
CATEGORIES:Music Meetings
END:VEVENT
BEGIN:VEVENT
DTSTART;TZID=America/New_York:20231117T180000
DTEND;TZID=America/New_York:20231117T183000
DTSTAMP:20260422T194955
CREATED:20231114T182819Z
LAST-MODIFIED:20231114T182931Z
UID:10000607-1700244000-1700245800@fuusn.org
SUMMARY:Zoom Vespers 2023-2024
DESCRIPTION:Come to Vespers for  music\, readings and conversation. The service runs from 6 to 6:30 pm. Pre-service music begins around 5:47 pm \nJoin Zoom Meeting \nhttps://zoom.us/j/95067560228 \nMeeting ID: 950 6756 0228
URL:https://fuusn.org/event/zoom-vespers-2023-2024-4/
LOCATION:Online
CATEGORIES:Music Meetings
END:VEVENT
BEGIN:VEVENT
DTSTART;TZID=America/New_York:20231116T180000
DTEND;TZID=America/New_York:20231116T220000
DTSTAMP:20260422T194955
CREATED:20230824T181640Z
LAST-MODIFIED:20230824T181640Z
UID:10000569-1700157600-1700172000@fuusn.org
SUMMARY:Cappella Clausura Rehearsal
DESCRIPTION:
URL:https://fuusn.org/event/cappella-clausura-rehearsal/
LOCATION:FUUSN Parish Hall\, 1326 Washington St.\, West Newton\, MA\, 02465\, United States
CATEGORIES:Music Meetings
END:VEVENT
BEGIN:VEVENT
DTSTART;TZID=America/New_York:20231115T193000
DTEND;TZID=America/New_York:20231115T210000
DTSTAMP:20260422T194955
CREATED:20230823T175913Z
LAST-MODIFIED:20230823T175913Z
UID:10000146-1700076600-1700082000@fuusn.org
SUMMARY:Choir Practice
DESCRIPTION:
URL:https://fuusn.org/event/choir-practice/2023-11-15/
LOCATION:FUUSN Parish Hall\, 1326 Washington St.\, West Newton\, MA\, 02465\, United States
CATEGORIES:Choir Rehearsals,Music Meetings
END:VEVENT
BEGIN:VEVENT
DTSTART;TZID=America/New_York:20231112T150000
DTEND;TZID=America/New_York:20231112T170000
DTSTAMP:20260422T194955
CREATED:20230927T151817Z
LAST-MODIFIED:20231011T151323Z
UID:10000777-1699801200-1699808400@fuusn.org
SUMMARY:JourneySongs Hospice Choir Rehearsal
DESCRIPTION:
URL:https://fuusn.org/event/journey-songs-3/
LOCATION:Chapel
CATEGORIES:JourneySongs
END:VEVENT
END:VCALENDAR