BEGIN:VCALENDAR
VERSION:2.0
PRODID:-//First Unitarian Universalist Society in Newton - ECPv6.15.17.1//NONSGML v1.0//EN
CALSCALE:GREGORIAN
METHOD:PUBLISH
X-ORIGINAL-URL:https://fuusn.org
X-WR-CALDESC:Events for First Unitarian Universalist Society in Newton
REFRESH-INTERVAL;VALUE=DURATION:PT1H
X-Robots-Tag:noindex
X-PUBLISHED-TTL:PT1H
BEGIN:VTIMEZONE
TZID:America/New_York
BEGIN:DAYLIGHT
TZOFFSETFROM:-0500
TZOFFSETTO:-0400
TZNAME:EDT
DTSTART:20220313T070000
END:DAYLIGHT
BEGIN:STANDARD
TZOFFSETFROM:-0400
TZOFFSETTO:-0500
TZNAME:EST
DTSTART:20221106T060000
END:STANDARD
BEGIN:DAYLIGHT
TZOFFSETFROM:-0500
TZOFFSETTO:-0400
TZNAME:EDT
DTSTART:20230312T070000
END:DAYLIGHT
BEGIN:STANDARD
TZOFFSETFROM:-0400
TZOFFSETTO:-0500
TZNAME:EST
DTSTART:20231105T060000
END:STANDARD
BEGIN:DAYLIGHT
TZOFFSETFROM:-0500
TZOFFSETTO:-0400
TZNAME:EDT
DTSTART:20240310T070000
END:DAYLIGHT
BEGIN:STANDARD
TZOFFSETFROM:-0400
TZOFFSETTO:-0500
TZNAME:EST
DTSTART:20241103T060000
END:STANDARD
END:VTIMEZONE
BEGIN:VEVENT
DTSTART;TZID=America/New_York:20231119T150000
DTEND;TZID=America/New_York:20231119T170000
DTSTAMP:20260422T221629
CREATED:20230927T152104Z
LAST-MODIFIED:20231011T151359Z
UID:10000780-1700406000-1700413200@fuusn.org
SUMMARY:JourneySongs Hospice Choir Rehearsal
DESCRIPTION:
URL:https://fuusn.org/event/journey-songs-6/
LOCATION:Chapel
CATEGORIES:JourneySongs
END:VEVENT
BEGIN:VEVENT
DTSTART;TZID=America/New_York:20231118T200000
DTEND;TZID=America/New_York:20231118T220000
DTSTAMP:20260422T221629
CREATED:20230824T181921Z
LAST-MODIFIED:20231108T155925Z
UID:10000571-1700337600-1700344800@fuusn.org
SUMMARY:Cappella Clausura Concert
DESCRIPTION:Das Jahr (The Year) \nFanny Mendelssohn Hensel \npiano: Lois Shapiro \nIn November\, we offer Das Jahr (The Year)\, a stunning\, extended work for solo piano by Fanny Mendelssohn Hensel\, based on the cyclical nature of time. We’ll break up the months with seasonings of vocal quartets by Hensel and Clara Schumann– adding a bit of spice to the commemoration of a year gone by. \nParish Hall booked from 6:30pm.
URL:https://fuusn.org/event/cappella-clausura-concert/
LOCATION:FUUSN Parish Hall\, 1326 Washington St.\, West Newton\, MA\, 02465\, United States
CATEGORIES:Music Meetings
END:VEVENT
BEGIN:VEVENT
DTSTART;TZID=America/New_York:20231117T190000
DTEND;TZID=America/New_York:20231117T220000
DTSTAMP:20260422T221629
CREATED:20230824T181757Z
LAST-MODIFIED:20230824T181757Z
UID:10000570-1700247600-1700258400@fuusn.org
SUMMARY:Cappella Clausura Rehearsal
DESCRIPTION:
URL:https://fuusn.org/event/cappella-clausura-rehearsal-2/
LOCATION:FUUSN Parish Hall\, 1326 Washington St.\, West Newton\, MA\, 02465\, United States
CATEGORIES:Music Meetings
END:VEVENT
BEGIN:VEVENT
DTSTART;TZID=America/New_York:20231117T180000
DTEND;TZID=America/New_York:20231117T183000
DTSTAMP:20260422T221629
CREATED:20231114T182819Z
LAST-MODIFIED:20231114T182931Z
UID:10000607-1700244000-1700245800@fuusn.org
SUMMARY:Zoom Vespers 2023-2024
DESCRIPTION:Come to Vespers for  music\, readings and conversation. The service runs from 6 to 6:30 pm. Pre-service music begins around 5:47 pm \nJoin Zoom Meeting \nhttps://zoom.us/j/95067560228 \nMeeting ID: 950 6756 0228
URL:https://fuusn.org/event/zoom-vespers-2023-2024-4/
LOCATION:Online
CATEGORIES:Music Meetings
END:VEVENT
BEGIN:VEVENT
DTSTART;TZID=America/New_York:20231116T180000
DTEND;TZID=America/New_York:20231116T220000
DTSTAMP:20260422T221629
CREATED:20230824T181640Z
LAST-MODIFIED:20230824T181640Z
UID:10000569-1700157600-1700172000@fuusn.org
SUMMARY:Cappella Clausura Rehearsal
DESCRIPTION:
URL:https://fuusn.org/event/cappella-clausura-rehearsal/
LOCATION:FUUSN Parish Hall\, 1326 Washington St.\, West Newton\, MA\, 02465\, United States
CATEGORIES:Music Meetings
END:VEVENT
BEGIN:VEVENT
DTSTART;TZID=America/New_York:20231115T193000
DTEND;TZID=America/New_York:20231115T210000
DTSTAMP:20260422T221629
CREATED:20230823T175913Z
LAST-MODIFIED:20230823T175913Z
UID:10000146-1700076600-1700082000@fuusn.org
SUMMARY:Choir Practice
DESCRIPTION:
URL:https://fuusn.org/event/choir-practice/2023-11-15/
LOCATION:FUUSN Parish Hall\, 1326 Washington St.\, West Newton\, MA\, 02465\, United States
CATEGORIES:Choir Rehearsals,Music Meetings
END:VEVENT
BEGIN:VEVENT
DTSTART;TZID=America/New_York:20231112T150000
DTEND;TZID=America/New_York:20231112T170000
DTSTAMP:20260422T221629
CREATED:20230927T151817Z
LAST-MODIFIED:20231011T151323Z
UID:10000777-1699801200-1699808400@fuusn.org
SUMMARY:JourneySongs Hospice Choir Rehearsal
DESCRIPTION:
URL:https://fuusn.org/event/journey-songs-3/
LOCATION:Chapel
CATEGORIES:JourneySongs
END:VEVENT
BEGIN:VEVENT
DTSTART;TZID=America/New_York:20231110T180000
DTEND;TZID=America/New_York:20231110T183000
DTSTAMP:20260422T221629
CREATED:20230901T135816Z
LAST-MODIFIED:20230901T184334Z
UID:10000606-1699639200-1699641000@fuusn.org
SUMMARY:Zoom Vespers 2023-2024
DESCRIPTION:Come to Vespers for  music\, readings and conversation. The service runs from 6 to 6:30 pm. Pre-service music begins around 5:47 pm \nJoin Zoom Meeting \nhttps://zoom.us/j/95067560228 \nMeeting ID: 950 6756 0228
URL:https://fuusn.org/event/zoom-vespers-2023-2024/2023-11-10/
LOCATION:Online
CATEGORIES:Music Meetings
END:VEVENT
BEGIN:VEVENT
DTSTART;TZID=America/New_York:20231108T193000
DTEND;TZID=America/New_York:20231108T210000
DTSTAMP:20260422T221629
CREATED:20230823T175913Z
LAST-MODIFIED:20230823T175913Z
UID:10000145-1699471800-1699477200@fuusn.org
SUMMARY:Choir Practice
DESCRIPTION:
URL:https://fuusn.org/event/choir-practice/2023-11-08/
LOCATION:FUUSN Parish Hall\, 1326 Washington St.\, West Newton\, MA\, 02465\, United States
CATEGORIES:Choir Rehearsals,Music Meetings
END:VEVENT
BEGIN:VEVENT
DTSTART;TZID=America/New_York:20231103T180000
DTEND;TZID=America/New_York:20231103T183000
DTSTAMP:20260422T221629
CREATED:20230901T135816Z
LAST-MODIFIED:20230901T184334Z
UID:10000605-1699034400-1699036200@fuusn.org
SUMMARY:Zoom Vespers 2023-2024
DESCRIPTION:Come to Vespers for  music\, readings and conversation. The service runs from 6 to 6:30 pm. Pre-service music begins around 5:47 pm \nJoin Zoom Meeting \nhttps://zoom.us/j/95067560228 \nMeeting ID: 950 6756 0228
URL:https://fuusn.org/event/zoom-vespers-2023-2024/2023-11-03/
LOCATION:Online
CATEGORIES:Music Meetings
END:VEVENT
BEGIN:VEVENT
DTSTART;TZID=America/New_York:20231101T193000
DTEND;TZID=America/New_York:20231101T210000
DTSTAMP:20260422T221629
CREATED:20230823T175913Z
LAST-MODIFIED:20230823T175913Z
UID:10000144-1698867000-1698872400@fuusn.org
SUMMARY:Choir Practice
DESCRIPTION:
URL:https://fuusn.org/event/choir-practice/2023-11-01/
LOCATION:FUUSN Parish Hall\, 1326 Washington St.\, West Newton\, MA\, 02465\, United States
CATEGORIES:Choir Rehearsals,Music Meetings
END:VEVENT
BEGIN:VEVENT
DTSTART;TZID=America/New_York:20231029T150000
DTEND;TZID=America/New_York:20231029T170000
DTSTAMP:20260422T221629
CREATED:20230927T151718Z
LAST-MODIFIED:20231011T151228Z
UID:10000776-1698591600-1698598800@fuusn.org
SUMMARY:JourneySongs Hospice Choir Rehearsal
DESCRIPTION:
URL:https://fuusn.org/event/journey-songs-2/
LOCATION:Chapel
CATEGORIES:JourneySongs
END:VEVENT
BEGIN:VEVENT
DTSTART;TZID=America/New_York:20231029T140000
DTEND;TZID=America/New_York:20231029T151500
DTSTAMP:20260422T221629
CREATED:20231011T154044Z
LAST-MODIFIED:20231011T154044Z
UID:10000887-1698588000-1698592500@fuusn.org
SUMMARY:JourneySongs Hospice Choir Business Meeting
DESCRIPTION:
URL:https://fuusn.org/event/journeysongs-hospice-choir-business-meeting/
LOCATION:Chapel
CATEGORIES:JourneySongs,Music Meetings
END:VEVENT
BEGIN:VEVENT
DTSTART;TZID=America/New_York:20231028T150000
DTEND;TZID=America/New_York:20231028T170000
DTSTAMP:20260422T221629
CREATED:20230920T141852Z
LAST-MODIFIED:20230920T141852Z
UID:10000711-1698505200-1698512400@fuusn.org
SUMMARY:Creationdance
DESCRIPTION:
URL:https://fuusn.org/event/creationdance-3/
LOCATION:Sanctuary
CATEGORIES:Music Meetings
END:VEVENT
BEGIN:VEVENT
DTSTART;TZID=America/New_York:20231027T174500
DTEND;TZID=America/New_York:20231027T183000
DTSTAMP:20260422T221629
CREATED:20231027T010330Z
LAST-MODIFIED:20231027T010330Z
UID:10000964-1698428700-1698431400@fuusn.org
SUMMARY:Zoom Vespers
DESCRIPTION:Additional Vespers service on Friday October 27 – please note the different Zoom link: \nJoin Zoom Meeting\nhttps://zoom.us/j/93943565052\n\n\nYour life and my life flow into each other as wave flows into wave\, and unless there is peace and joy and freedom for you\, there can be no real peace or joy or freedom for me.  (Frederick Buechner)\n\nPre-service music around 5:47pm; service 6-6:30pm. Music\, readings\, conversation – all are welcome.
URL:https://fuusn.org/event/zoom-vespers/
CATEGORIES:Music Meetings,Vespers
END:VEVENT
BEGIN:VEVENT
DTSTART;TZID=America/New_York:20231025T193000
DTEND;TZID=America/New_York:20231025T210000
DTSTAMP:20260422T221629
CREATED:20230823T175913Z
LAST-MODIFIED:20230823T175913Z
UID:10000143-1698262200-1698267600@fuusn.org
SUMMARY:Choir Practice
DESCRIPTION:
URL:https://fuusn.org/event/choir-practice/2023-10-25/
LOCATION:FUUSN Parish Hall\, 1326 Washington St.\, West Newton\, MA\, 02465\, United States
CATEGORIES:Choir Rehearsals,Music Meetings
END:VEVENT
BEGIN:VEVENT
DTSTART;TZID=America/New_York:20231022T150000
DTEND;TZID=America/New_York:20231022T170000
DTSTAMP:20260422T221629
CREATED:20230824T175305Z
LAST-MODIFIED:20231011T151129Z
UID:10000566-1697986800-1697994000@fuusn.org
SUMMARY:JourneySongs Hospice Choir Rehearsal
DESCRIPTION:
URL:https://fuusn.org/event/journey-songs-singing-group-2/
LOCATION:Chapel
CATEGORIES:JourneySongs
END:VEVENT
BEGIN:VEVENT
DTSTART;TZID=America/New_York:20231020T180000
DTEND;TZID=America/New_York:20231020T183000
DTSTAMP:20260422T221629
CREATED:20231018T193513Z
LAST-MODIFIED:20231018T193515Z
UID:10000603-1697824800-1697826600@fuusn.org
SUMMARY:Zoom Vespers 2023-2024
DESCRIPTION:Come to Vespers for  music\, readings and conversation. The service runs from 6 to 6:30 pm. Pre-service music begins around 5:47 pm \nJoin Zoom Meeting \nhttps://zoom.us/j/95067560228 \nMeeting ID: 950 6756 0228
URL:https://fuusn.org/event/zoom-vespers-2023-2024-3/
LOCATION:Online
CATEGORIES:Music Meetings
END:VEVENT
BEGIN:VEVENT
DTSTART;TZID=America/New_York:20231018T193000
DTEND;TZID=America/New_York:20231018T210000
DTSTAMP:20260422T221629
CREATED:20230823T175913Z
LAST-MODIFIED:20230823T175913Z
UID:10000142-1697657400-1697662800@fuusn.org
SUMMARY:Choir Practice
DESCRIPTION:
URL:https://fuusn.org/event/choir-practice/2023-10-18/
LOCATION:FUUSN Parish Hall\, 1326 Washington St.\, West Newton\, MA\, 02465\, United States
CATEGORIES:Choir Rehearsals,Music Meetings
END:VEVENT
BEGIN:VEVENT
DTSTART;TZID=America/New_York:20231011T193000
DTEND;TZID=America/New_York:20231011T210000
DTSTAMP:20260422T221629
CREATED:20230823T175913Z
LAST-MODIFIED:20230823T175913Z
UID:10000141-1697052600-1697058000@fuusn.org
SUMMARY:Choir Practice
DESCRIPTION:
URL:https://fuusn.org/event/choir-practice/2023-10-11/
LOCATION:FUUSN Parish Hall\, 1326 Washington St.\, West Newton\, MA\, 02465\, United States
CATEGORIES:Choir Rehearsals,Music Meetings
END:VEVENT
BEGIN:VEVENT
DTSTART;TZID=America/New_York:20231006T180000
DTEND;TZID=America/New_York:20231006T183000
DTSTAMP:20260422T221629
CREATED:20230901T135816Z
LAST-MODIFIED:20230901T184334Z
UID:10000601-1696615200-1696617000@fuusn.org
SUMMARY:Zoom Vespers 2023-2024
DESCRIPTION:Come to Vespers for  music\, readings and conversation. The service runs from 6 to 6:30 pm. Pre-service music begins around 5:47 pm \nJoin Zoom Meeting \nhttps://zoom.us/j/95067560228 \nMeeting ID: 950 6756 0228
URL:https://fuusn.org/event/zoom-vespers-2023-2024/2023-10-06/
LOCATION:Online
CATEGORIES:Music Meetings
END:VEVENT
BEGIN:VEVENT
DTSTART;TZID=America/New_York:20231004T193000
DTEND;TZID=America/New_York:20231004T210000
DTSTAMP:20260422T221629
CREATED:20230823T175913Z
LAST-MODIFIED:20230823T175913Z
UID:10000140-1696447800-1696453200@fuusn.org
SUMMARY:Choir Practice
DESCRIPTION:
URL:https://fuusn.org/event/choir-practice/2023-10-04/
LOCATION:FUUSN Parish Hall\, 1326 Washington St.\, West Newton\, MA\, 02465\, United States
CATEGORIES:Choir Rehearsals,Music Meetings
END:VEVENT
BEGIN:VEVENT
DTSTART;TZID=America/New_York:20230927T193000
DTEND;TZID=America/New_York:20230927T210000
DTSTAMP:20260422T221629
CREATED:20230823T175913Z
LAST-MODIFIED:20230823T175913Z
UID:10000139-1695843000-1695848400@fuusn.org
SUMMARY:Choir Practice
DESCRIPTION:
URL:https://fuusn.org/event/choir-practice/2023-09-27/
LOCATION:FUUSN Parish Hall\, 1326 Washington St.\, West Newton\, MA\, 02465\, United States
CATEGORIES:Choir Rehearsals,Music Meetings
END:VEVENT
BEGIN:VEVENT
DTSTART;TZID=America/New_York:20230922T180000
DTEND;TZID=America/New_York:20230922T183000
DTSTAMP:20260422T221629
CREATED:20230901T135816Z
LAST-MODIFIED:20230901T184334Z
UID:10000599-1695405600-1695407400@fuusn.org
SUMMARY:Zoom Vespers 2023-2024
DESCRIPTION:Come to Vespers for  music\, readings and conversation. The service runs from 6 to 6:30 pm. Pre-service music begins around 5:47 pm \nJoin Zoom Meeting \nhttps://zoom.us/j/95067560228 \nMeeting ID: 950 6756 0228
URL:https://fuusn.org/event/zoom-vespers-2023-2024/2023-09-22/
LOCATION:Online
CATEGORIES:Music Meetings
END:VEVENT
BEGIN:VEVENT
DTSTART;TZID=America/New_York:20230920T193000
DTEND;TZID=America/New_York:20230920T210000
DTSTAMP:20260422T221629
CREATED:20230823T175913Z
LAST-MODIFIED:20230823T175913Z
UID:10000138-1695238200-1695243600@fuusn.org
SUMMARY:Choir Practice
DESCRIPTION:
URL:https://fuusn.org/event/choir-practice/2023-09-20/
LOCATION:FUUSN Parish Hall\, 1326 Washington St.\, West Newton\, MA\, 02465\, United States
CATEGORIES:Choir Rehearsals,Music Meetings
END:VEVENT
BEGIN:VEVENT
DTSTART;TZID=America/New_York:20230917T114500
DTEND;TZID=America/New_York:20230917T234500
DTSTAMP:20260422T221629
CREATED:20230824T153509Z
LAST-MODIFIED:20230824T153509Z
UID:10000554-1694951100-1694994300@fuusn.org
SUMMARY:Band Practice
DESCRIPTION:
URL:https://fuusn.org/event/band-practice-2/
LOCATION:Sanctuary
CATEGORIES:Music Meetings
END:VEVENT
BEGIN:VEVENT
DTSTART;TZID=America/New_York:20230913T193000
DTEND;TZID=America/New_York:20230913T210000
DTSTAMP:20260422T221629
CREATED:20230823T175913Z
LAST-MODIFIED:20230823T175913Z
UID:10000137-1694633400-1694638800@fuusn.org
SUMMARY:Choir Practice
DESCRIPTION:
URL:https://fuusn.org/event/choir-practice/2023-09-13/
LOCATION:FUUSN Parish Hall\, 1326 Washington St.\, West Newton\, MA\, 02465\, United States
CATEGORIES:Choir Rehearsals,Music Meetings
END:VEVENT
BEGIN:VEVENT
DTSTART;TZID=America/New_York:20230910T114500
DTEND;TZID=America/New_York:20230910T130000
DTSTAMP:20260422T221629
CREATED:20230824T153104Z
LAST-MODIFIED:20230824T154000Z
UID:10000551-1694346300-1694350800@fuusn.org
SUMMARY:Band Practice
DESCRIPTION:
URL:https://fuusn.org/event/band-practice/
LOCATION:Sanctuary
CATEGORIES:Music Meetings
END:VEVENT
BEGIN:VEVENT
DTSTART;TZID=America/New_York:20230908T180000
DTEND;TZID=America/New_York:20230908T183000
DTSTAMP:20260422T221629
CREATED:20230901T135816Z
LAST-MODIFIED:20230901T184334Z
UID:10000597-1694196000-1694197800@fuusn.org
SUMMARY:Zoom Vespers 2023-2024
DESCRIPTION:Come to Vespers for  music\, readings and conversation. The service runs from 6 to 6:30 pm. Pre-service music begins around 5:47 pm \nJoin Zoom Meeting \nhttps://zoom.us/j/95067560228 \nMeeting ID: 950 6756 0228
URL:https://fuusn.org/event/zoom-vespers-2023-2024/2023-09-08/
LOCATION:Online
CATEGORIES:Music Meetings
END:VEVENT
BEGIN:VEVENT
DTSTART;TZID=America/New_York:20230906T193000
DTEND;TZID=America/New_York:20230906T210000
DTSTAMP:20260422T221629
CREATED:20230823T175913Z
LAST-MODIFIED:20230823T175913Z
UID:10000136-1694028600-1694034000@fuusn.org
SUMMARY:Choir Practice
DESCRIPTION:
URL:https://fuusn.org/event/choir-practice/2023-09-06/
LOCATION:FUUSN Parish Hall\, 1326 Washington St.\, West Newton\, MA\, 02465\, United States
CATEGORIES:Choir Rehearsals,Music Meetings
END:VEVENT
END:VCALENDAR