BEGIN:VCALENDAR
VERSION:2.0
PRODID:-//First Unitarian Universalist Society in Newton - ECPv6.15.17.1//NONSGML v1.0//EN
CALSCALE:GREGORIAN
METHOD:PUBLISH
X-WR-CALNAME:First Unitarian Universalist Society in Newton
X-ORIGINAL-URL:https://fuusn.org
X-WR-CALDESC:Events for First Unitarian Universalist Society in Newton
REFRESH-INTERVAL;VALUE=DURATION:PT1H
X-Robots-Tag:noindex
X-PUBLISHED-TTL:PT1H
BEGIN:VTIMEZONE
TZID:America/New_York
BEGIN:DAYLIGHT
TZOFFSETFROM:-0500
TZOFFSETTO:-0400
TZNAME:EDT
DTSTART:20250309T070000
END:DAYLIGHT
BEGIN:STANDARD
TZOFFSETFROM:-0400
TZOFFSETTO:-0500
TZNAME:EST
DTSTART:20251102T060000
END:STANDARD
BEGIN:DAYLIGHT
TZOFFSETFROM:-0500
TZOFFSETTO:-0400
TZNAME:EDT
DTSTART:20260308T070000
END:DAYLIGHT
BEGIN:STANDARD
TZOFFSETFROM:-0400
TZOFFSETTO:-0500
TZNAME:EST
DTSTART:20261101T060000
END:STANDARD
BEGIN:DAYLIGHT
TZOFFSETFROM:-0500
TZOFFSETTO:-0400
TZNAME:EDT
DTSTART:20270314T070000
END:DAYLIGHT
BEGIN:STANDARD
TZOFFSETFROM:-0400
TZOFFSETTO:-0500
TZNAME:EST
DTSTART:20271107T060000
END:STANDARD
END:VTIMEZONE
BEGIN:VEVENT
DTSTART;TZID=America/New_York:20260619T174500
DTEND;TZID=America/New_York:20260619T183000
DTSTAMP:20260422T003108
CREATED:20260108T164310Z
LAST-MODIFIED:20260331T134359Z
UID:10004626-1781891100-1781893800@fuusn.org
SUMMARY:Zoom Vespers
DESCRIPTION:Come to Vespers for music\, readings and conversation. The service runs from 6:00 pm to 6:30 pm. Pre-service music begins around 5:45 pm \nJoin Zoom Meeting \nzoom.us/j/97030763647
URL:https://fuusn.org/event/zoom-vespers-5/2026-06-19/
LOCATION:Online
CATEGORIES:Music Meetings,Public Events,Vespers
END:VEVENT
BEGIN:VEVENT
DTSTART;TZID=America/New_York:20260628T153000
DTEND;TZID=America/New_York:20260628T183000
DTSTAMP:20260422T003108
CREATED:20250708T154740Z
LAST-MODIFIED:20250708T154832Z
UID:10004204-1782660600-1782671400@fuusn.org
SUMMARY:Journey Songs Hospice Choir Rehearsal
DESCRIPTION:JourneySongs Potluck \nRehearsals are open to JourneySongs members.  Singers interested in joining may learn more at JourneySongs.or.
URL:https://fuusn.org/event/journey-songs-hospice-choir-rehearsal-2/
LOCATION:Chapel\, Kitchen
CATEGORIES:JourneySongs
END:VEVENT
BEGIN:VEVENT
DTSTART;TZID=America/New_York:20260719T153000
DTEND;TZID=America/New_York:20260719T170000
DTSTAMP:20260422T003108
CREATED:20250708T154258Z
LAST-MODIFIED:20250708T154928Z
UID:10004205-1784475000-1784480400@fuusn.org
SUMMARY:JourneySongs Hospice Choir Rehearsal
DESCRIPTION:Rehearsals are open to JourneySongs members.  Singers interested in joining may learn more at JourneySongs.org.
URL:https://fuusn.org/event/journey-songs-hospice-choir-rehearsal/2026-07-19/
LOCATION:Chapel
CATEGORIES:JourneySongs
END:VEVENT
BEGIN:VEVENT
DTSTART;TZID=America/New_York:20260816T153000
DTEND;TZID=America/New_York:20260816T170000
DTSTAMP:20260422T003108
CREATED:20250708T154258Z
LAST-MODIFIED:20250708T154928Z
UID:10004206-1786894200-1786899600@fuusn.org
SUMMARY:JourneySongs Hospice Choir Rehearsal
DESCRIPTION:Rehearsals are open to JourneySongs members.  Singers interested in joining may learn more at JourneySongs.org.
URL:https://fuusn.org/event/journey-songs-hospice-choir-rehearsal/2026-08-16/
LOCATION:Chapel
CATEGORIES:JourneySongs
END:VEVENT
END:VCALENDAR