BEGIN:VCALENDAR
VERSION:2.0
PRODID:-//First Unitarian Universalist Society in Newton - ECPv6.15.17.1//NONSGML v1.0//EN
CALSCALE:GREGORIAN
METHOD:PUBLISH
X-WR-CALNAME:First Unitarian Universalist Society in Newton
X-ORIGINAL-URL:https://fuusn.org
X-WR-CALDESC:Events for First Unitarian Universalist Society in Newton
REFRESH-INTERVAL;VALUE=DURATION:PT1H
X-Robots-Tag:noindex
X-PUBLISHED-TTL:PT1H
BEGIN:VTIMEZONE
TZID:America/New_York
BEGIN:DAYLIGHT
TZOFFSETFROM:-0500
TZOFFSETTO:-0400
TZNAME:EDT
DTSTART:20240310T070000
END:DAYLIGHT
BEGIN:STANDARD
TZOFFSETFROM:-0400
TZOFFSETTO:-0500
TZNAME:EST
DTSTART:20241103T060000
END:STANDARD
BEGIN:DAYLIGHT
TZOFFSETFROM:-0500
TZOFFSETTO:-0400
TZNAME:EDT
DTSTART:20250309T070000
END:DAYLIGHT
BEGIN:STANDARD
TZOFFSETFROM:-0400
TZOFFSETTO:-0500
TZNAME:EST
DTSTART:20251102T060000
END:STANDARD
BEGIN:DAYLIGHT
TZOFFSETFROM:-0500
TZOFFSETTO:-0400
TZNAME:EDT
DTSTART:20260308T070000
END:DAYLIGHT
BEGIN:STANDARD
TZOFFSETFROM:-0400
TZOFFSETTO:-0500
TZNAME:EST
DTSTART:20261101T060000
END:STANDARD
END:VTIMEZONE
BEGIN:VEVENT
DTSTART;TZID=America/New_York:20251008T190000
DTEND;TZID=America/New_York:20251008T210000
DTSTAMP:20260421T230409
CREATED:20250521T164959Z
LAST-MODIFIED:20250521T165216Z
UID:10004122-1759950000-1759957200@fuusn.org
SUMMARY:Choir Rehearsal
DESCRIPTION:
URL:https://fuusn.org/event/choir-rehearsal-6/2025-10-08/
LOCATION:Parish Hall
CATEGORIES:Choir Rehearsals
END:VEVENT
BEGIN:VEVENT
DTSTART;TZID=America/New_York:20251005T153000
DTEND;TZID=America/New_York:20251005T170000
DTSTAMP:20260421T230409
CREATED:20250708T154258Z
LAST-MODIFIED:20250708T154928Z
UID:10004187-1759678200-1759683600@fuusn.org
SUMMARY:JourneySongs Hospice Choir Rehearsal
DESCRIPTION:Rehearsals are open to JourneySongs members.  Singers interested in joining may learn more at JourneySongs.org.
URL:https://fuusn.org/event/journey-songs-hospice-choir-rehearsal/2025-10-05/
LOCATION:Chapel
CATEGORIES:JourneySongs
END:VEVENT
BEGIN:VEVENT
DTSTART;TZID=America/New_York:20251005T113000
DTEND;TZID=America/New_York:20251005T130000
DTSTAMP:20260421T230409
CREATED:20250708T142436Z
LAST-MODIFIED:20250708T142436Z
UID:10004170-1759663800-1759669200@fuusn.org
SUMMARY:Band Rehearsal
DESCRIPTION:
URL:https://fuusn.org/event/band-rehearsal-13/2025-10-05/
LOCATION:Sanctuary
CATEGORIES:Choir Rehearsals,Music Meetings
END:VEVENT
BEGIN:VEVENT
DTSTART;TZID=America/New_York:20251003T174500
DTEND;TZID=America/New_York:20251003T183000
DTSTAMP:20260421T230409
CREATED:20250827T171524Z
LAST-MODIFIED:20250904T182621Z
UID:10004481-1759513500-1759516200@fuusn.org
SUMMARY:Zoom Vespers
DESCRIPTION:Come to Vespers for music\, readings and conversation. The service runs from 6:00 pm to 6:30 pm. Pre-service music begins around 5:45 pm \nJoin Zoom Meeting \nhttps://zoom.us/j/98843479927
URL:https://fuusn.org/event/zoom-vespers-4/2025-10-03/
LOCATION:Online
CATEGORIES:Music Meetings,Public Events,Vespers
END:VEVENT
BEGIN:VEVENT
DTSTART;TZID=America/New_York:20251001T190000
DTEND;TZID=America/New_York:20251001T210000
DTSTAMP:20260421T230409
CREATED:20250521T164959Z
LAST-MODIFIED:20250521T165216Z
UID:10004121-1759345200-1759352400@fuusn.org
SUMMARY:Choir Rehearsal
DESCRIPTION:
URL:https://fuusn.org/event/choir-rehearsal-6/2025-10-01/
LOCATION:Parish Hall
CATEGORIES:Choir Rehearsals
END:VEVENT
BEGIN:VEVENT
DTSTART;TZID=America/New_York:20250928T153000
DTEND;TZID=America/New_York:20250928T170000
DTSTAMP:20260421T230409
CREATED:20250708T154258Z
LAST-MODIFIED:20250708T154928Z
UID:10004186-1759073400-1759078800@fuusn.org
SUMMARY:JourneySongs Hospice Choir Rehearsal
DESCRIPTION:Rehearsals are open to JourneySongs members.  Singers interested in joining may learn more at JourneySongs.org.
URL:https://fuusn.org/event/journey-songs-hospice-choir-rehearsal/2025-09-28/
LOCATION:Chapel
CATEGORIES:JourneySongs
END:VEVENT
BEGIN:VEVENT
DTSTART;TZID=America/New_York:20250928T113000
DTEND;TZID=America/New_York:20250928T130000
DTSTAMP:20260421T230409
CREATED:20250708T142436Z
LAST-MODIFIED:20250708T142436Z
UID:10004169-1759059000-1759064400@fuusn.org
SUMMARY:Band Rehearsal
DESCRIPTION:
URL:https://fuusn.org/event/band-rehearsal-13/2025-09-28/
LOCATION:Sanctuary
CATEGORIES:Choir Rehearsals,Music Meetings
END:VEVENT
BEGIN:VEVENT
DTSTART;TZID=America/New_York:20250924T190000
DTEND;TZID=America/New_York:20250924T210000
DTSTAMP:20260421T230409
CREATED:20250521T164959Z
LAST-MODIFIED:20250521T165216Z
UID:10004120-1758740400-1758747600@fuusn.org
SUMMARY:Choir Rehearsal
DESCRIPTION:
URL:https://fuusn.org/event/choir-rehearsal-6/2025-09-24/
LOCATION:Parish Hall
CATEGORIES:Choir Rehearsals
END:VEVENT
BEGIN:VEVENT
DTSTART;TZID=America/New_York:20250917T190000
DTEND;TZID=America/New_York:20250917T210000
DTSTAMP:20260421T230409
CREATED:20250521T164959Z
LAST-MODIFIED:20250521T165216Z
UID:10004119-1758135600-1758142800@fuusn.org
SUMMARY:Choir Rehearsal
DESCRIPTION:
URL:https://fuusn.org/event/choir-rehearsal-6/2025-09-17/
LOCATION:Parish Hall
CATEGORIES:Choir Rehearsals
END:VEVENT
BEGIN:VEVENT
DTSTART;TZID=America/New_York:20250914T153000
DTEND;TZID=America/New_York:20250914T170000
DTSTAMP:20260421T230409
CREATED:20250708T154258Z
LAST-MODIFIED:20250708T154928Z
UID:10004185-1757863800-1757869200@fuusn.org
SUMMARY:JourneySongs Hospice Choir Rehearsal
DESCRIPTION:Rehearsals are open to JourneySongs members.  Singers interested in joining may learn more at JourneySongs.org.
URL:https://fuusn.org/event/journey-songs-hospice-choir-rehearsal/2025-09-14/
LOCATION:Chapel
CATEGORIES:JourneySongs
END:VEVENT
BEGIN:VEVENT
DTSTART;TZID=America/New_York:20250912T174500
DTEND;TZID=America/New_York:20250912T183000
DTSTAMP:20260421T230409
CREATED:20250827T171524Z
LAST-MODIFIED:20250904T182621Z
UID:10004480-1757699100-1757701800@fuusn.org
SUMMARY:Zoom Vespers
DESCRIPTION:Come to Vespers for music\, readings and conversation. The service runs from 6:00 pm to 6:30 pm. Pre-service music begins around 5:45 pm \nJoin Zoom Meeting \nhttps://zoom.us/j/98843479927
URL:https://fuusn.org/event/zoom-vespers-4/2025-09-12/
LOCATION:Online
CATEGORIES:Music Meetings,Public Events,Vespers
END:VEVENT
BEGIN:VEVENT
DTSTART;TZID=America/New_York:20250910T190000
DTEND;TZID=America/New_York:20250910T210000
DTSTAMP:20260421T230409
CREATED:20250521T164959Z
LAST-MODIFIED:20250521T165216Z
UID:10004118-1757530800-1757538000@fuusn.org
SUMMARY:Choir Rehearsal
DESCRIPTION:
URL:https://fuusn.org/event/choir-rehearsal-6/2025-09-10/
LOCATION:Parish Hall
CATEGORIES:Choir Rehearsals
END:VEVENT
BEGIN:VEVENT
DTSTART;TZID=America/New_York:20250905T174500
DTEND;TZID=America/New_York:20250905T183000
DTSTAMP:20260421T230409
CREATED:20250827T171524Z
LAST-MODIFIED:20250904T182621Z
UID:10004479-1757094300-1757097000@fuusn.org
SUMMARY:Zoom Vespers
DESCRIPTION:Come to Vespers for music\, readings and conversation. The service runs from 6:00 pm to 6:30 pm. Pre-service music begins around 5:45 pm \nJoin Zoom Meeting \nhttps://zoom.us/j/98843479927
URL:https://fuusn.org/event/zoom-vespers-4/2025-09-05/
LOCATION:Online
CATEGORIES:Music Meetings,Public Events,Vespers
END:VEVENT
BEGIN:VEVENT
DTSTART;TZID=America/New_York:20250903T190000
DTEND;TZID=America/New_York:20250903T210000
DTSTAMP:20260421T230409
CREATED:20250521T164959Z
LAST-MODIFIED:20250521T165216Z
UID:10004117-1756926000-1756933200@fuusn.org
SUMMARY:Choir Rehearsal
DESCRIPTION:
URL:https://fuusn.org/event/choir-rehearsal-6/2025-09-03/
LOCATION:Parish Hall
CATEGORIES:Choir Rehearsals
END:VEVENT
BEGIN:VEVENT
DTSTART;TZID=America/New_York:20250903T180000
DTEND;TZID=America/New_York:20250903T193000
DTSTAMP:20260421T230409
CREATED:20250826T153627Z
LAST-MODIFIED:20250826T153627Z
UID:10004401-1756922400-1756927800@fuusn.org
SUMMARY:Choir Potluck
DESCRIPTION:Our FUUSN musicians are joyfully returning to rehearsals\, and we’d love to have you with us! We will kick off the new year with a potluck at FUUSN on Wednesday\, September 3. Come to connect with friends – and if you want to do some singing\, stay for rehearsal after – we will happily find you a seat\, some music\, and a choir buddy. All are welcome!
URL:https://fuusn.org/event/choir-potluck-3/
LOCATION:FUUSN Kitchen
CATEGORIES:Choir Rehearsals,Music Meetings
END:VEVENT
BEGIN:VEVENT
DTSTART;TZID=America/New_York:20250810T153000
DTEND;TZID=America/New_York:20250810T170000
DTSTAMP:20260421T230409
CREATED:20240911T175511Z
LAST-MODIFIED:20240911T175511Z
UID:10003262-1754839800-1754845200@fuusn.org
SUMMARY:JourneySongs Rehearsal
DESCRIPTION:
URL:https://fuusn.org/event/journeysongs-rehearsal-2/2025-08-10/
LOCATION:Chapel
CATEGORIES:JourneySongs,Music Meetings
END:VEVENT
BEGIN:VEVENT
DTSTART;TZID=America/New_York:20250720T153000
DTEND;TZID=America/New_York:20250720T170000
DTSTAMP:20260421T230409
CREATED:20240911T175511Z
LAST-MODIFIED:20240911T175511Z
UID:10003261-1753025400-1753030800@fuusn.org
SUMMARY:JourneySongs Rehearsal
DESCRIPTION:
URL:https://fuusn.org/event/journeysongs-rehearsal-2/2025-07-20/
LOCATION:Chapel
CATEGORIES:JourneySongs,Music Meetings
END:VEVENT
BEGIN:VEVENT
DTSTART;TZID=America/New_York:20250622T153000
DTEND;TZID=America/New_York:20250622T170000
DTSTAMP:20260421T230409
CREATED:20240911T174229Z
LAST-MODIFIED:20250410T184810Z
UID:10003246-1750606200-1750611600@fuusn.org
SUMMARY:JourneySongs Rehearsal
DESCRIPTION:
URL:https://fuusn.org/event/journeysongs-rehearsal-and-potluck-dinner/
LOCATION:Chapel
CATEGORIES:JourneySongs,Music Meetings
END:VEVENT
BEGIN:VEVENT
DTSTART;TZID=America/New_York:20250606T180000
DTEND;TZID=America/New_York:20250606T183000
DTSTAMP:20260421T230409
CREATED:20241231T030911Z
LAST-MODIFIED:20241231T030911Z
UID:10003733-1749232800-1749234600@fuusn.org
SUMMARY:Zoom Vespers
DESCRIPTION:Come to Vespers for music\, readings and conversation. The service runs from 6 to 6:30 pm. Pre-service music begins around 5:47 pm \nJoin Zoom Meeting \nhttps://zoom.us/j/97317681927
URL:https://fuusn.org/event/zoom-vespers-3/2025-06-06/
LOCATION:Online
CATEGORIES:Music Meetings,Public Events,Vespers
END:VEVENT
BEGIN:VEVENT
DTSTART;TZID=America/New_York:20250530T180000
DTEND;TZID=America/New_York:20250530T183000
DTSTAMP:20260421T230409
CREATED:20250513T183215Z
LAST-MODIFIED:20250513T183218Z
UID:10003732-1748628000-1748629800@fuusn.org
SUMMARY:Zoom Vespers
DESCRIPTION:Come to Vespers for music\, readings and conversation. The service runs from 6 to 6:30 pm. Pre-service music begins around 5:47 pm \nJoin Zoom Meeting \nhttps://zoom.us/j/97317681927
URL:https://fuusn.org/event/zoom-vespers-3-6/
LOCATION:Online
CATEGORIES:Music Meetings,Public Events,Vespers
END:VEVENT
BEGIN:VEVENT
DTSTART;TZID=America/New_York:20250528T193000
DTEND;TZID=America/New_York:20250528T210000
DTSTAMP:20260421T230409
CREATED:20250521T163208Z
LAST-MODIFIED:20250521T163212Z
UID:10003200-1748460600-1748466000@fuusn.org
SUMMARY:Choir Rehearsal
DESCRIPTION:
URL:https://fuusn.org/event/choir-rehearsals-2/
LOCATION:Parish Hall
CATEGORIES:Choir Rehearsals
END:VEVENT
BEGIN:VEVENT
DTSTART;TZID=America/New_York:20250521T193000
DTEND;TZID=America/New_York:20250521T210000
DTSTAMP:20260421T230409
CREATED:20240621T140919Z
LAST-MODIFIED:20240903T143020Z
UID:10003199-1747855800-1747861200@fuusn.org
SUMMARY:Choir Rehearsal
DESCRIPTION:
URL:https://fuusn.org/event/choir-rehearsals/2025-05-21/
LOCATION:Parish Hall
CATEGORIES:Choir Rehearsals
END:VEVENT
BEGIN:VEVENT
DTSTART;TZID=America/New_York:20250518T153000
DTEND;TZID=America/New_York:20250518T170000
DTSTAMP:20260421T230409
CREATED:20240911T175511Z
LAST-MODIFIED:20240911T175511Z
UID:10003259-1747582200-1747587600@fuusn.org
SUMMARY:JourneySongs Rehearsal
DESCRIPTION:
URL:https://fuusn.org/event/journeysongs-rehearsal-2/2025-05-18/
LOCATION:Chapel
CATEGORIES:JourneySongs,Music Meetings
END:VEVENT
BEGIN:VEVENT
DTSTART;TZID=America/New_York:20250516T180000
DTEND;TZID=America/New_York:20250516T183000
DTSTAMP:20260421T230409
CREATED:20250513T183023Z
LAST-MODIFIED:20250513T183102Z
UID:10003731-1747418400-1747420200@fuusn.org
SUMMARY:Zoom Vespers
DESCRIPTION:Come to Vespers for music\, readings and conversation. The service runs from 6 to 6:30 pm. Pre-service music begins around 5:47 pm \nJoin Zoom Meeting \nhttps://zoom.us/j/97317681927
URL:https://fuusn.org/event/zoom-vespers-3-5/
LOCATION:Online
CATEGORIES:Music Meetings,Public Events,Vespers
END:VEVENT
BEGIN:VEVENT
DTSTART;TZID=America/New_York:20250514T193000
DTEND;TZID=America/New_York:20250514T210000
DTSTAMP:20260421T230409
CREATED:20240621T140919Z
LAST-MODIFIED:20240903T143020Z
UID:10003198-1747251000-1747256400@fuusn.org
SUMMARY:Choir Rehearsal
DESCRIPTION:
URL:https://fuusn.org/event/choir-rehearsals/2025-05-14/
LOCATION:Parish Hall
CATEGORIES:Choir Rehearsals
END:VEVENT
BEGIN:VEVENT
DTSTART;TZID=America/New_York:20250507T193000
DTEND;TZID=America/New_York:20250507T210000
DTSTAMP:20260421T230409
CREATED:20240621T140919Z
LAST-MODIFIED:20240903T143020Z
UID:10003197-1746646200-1746651600@fuusn.org
SUMMARY:Choir Rehearsal
DESCRIPTION:
URL:https://fuusn.org/event/choir-rehearsals/2025-05-07/
LOCATION:Parish Hall
CATEGORIES:Choir Rehearsals
END:VEVENT
BEGIN:VEVENT
DTSTART;TZID=America/New_York:20250502T180000
DTEND;TZID=America/New_York:20250502T183000
DTSTAMP:20260421T230409
CREATED:20241231T030911Z
LAST-MODIFIED:20241231T030911Z
UID:10003730-1746208800-1746210600@fuusn.org
SUMMARY:Zoom Vespers
DESCRIPTION:Come to Vespers for music\, readings and conversation. The service runs from 6 to 6:30 pm. Pre-service music begins around 5:47 pm \nJoin Zoom Meeting \nhttps://zoom.us/j/97317681927
URL:https://fuusn.org/event/zoom-vespers-3/2025-05-02/
LOCATION:Online
CATEGORIES:Music Meetings,Public Events,Vespers
END:VEVENT
BEGIN:VEVENT
DTSTART;TZID=America/New_York:20250430T193000
DTEND;TZID=America/New_York:20250430T210000
DTSTAMP:20260421T230409
CREATED:20240621T140919Z
LAST-MODIFIED:20240903T143020Z
UID:10003196-1746041400-1746046800@fuusn.org
SUMMARY:Choir Rehearsal
DESCRIPTION:
URL:https://fuusn.org/event/choir-rehearsals/2025-04-30/
LOCATION:Parish Hall
CATEGORIES:Choir Rehearsals
END:VEVENT
BEGIN:VEVENT
DTSTART;TZID=America/New_York:20250427T153000
DTEND;TZID=America/New_York:20250427T170000
DTSTAMP:20260421T230409
CREATED:20240911T175511Z
LAST-MODIFIED:20240911T175511Z
UID:10003258-1745767800-1745773200@fuusn.org
SUMMARY:JourneySongs Rehearsal
DESCRIPTION:
URL:https://fuusn.org/event/journeysongs-rehearsal-2/2025-04-27/
LOCATION:Chapel
CATEGORIES:JourneySongs,Music Meetings
END:VEVENT
BEGIN:VEVENT
DTSTART;TZID=America/New_York:20250425T180000
DTEND;TZID=America/New_York:20250425T183000
DTSTAMP:20260421T230409
CREATED:20241231T030911Z
LAST-MODIFIED:20241231T030911Z
UID:10003729-1745604000-1745605800@fuusn.org
SUMMARY:Zoom Vespers
DESCRIPTION:Come to Vespers for music\, readings and conversation. The service runs from 6 to 6:30 pm. Pre-service music begins around 5:47 pm \nJoin Zoom Meeting \nhttps://zoom.us/j/97317681927
URL:https://fuusn.org/event/zoom-vespers-3/2025-04-25/
LOCATION:Online
CATEGORIES:Music Meetings,Public Events,Vespers
END:VEVENT
END:VCALENDAR