BEGIN:VCALENDAR
VERSION:2.0
PRODID:-//First Unitarian Universalist Society in Newton - ECPv6.15.17.1//NONSGML v1.0//EN
CALSCALE:GREGORIAN
METHOD:PUBLISH
X-WR-CALNAME:First Unitarian Universalist Society in Newton
X-ORIGINAL-URL:https://fuusn.org
X-WR-CALDESC:Events for First Unitarian Universalist Society in Newton
REFRESH-INTERVAL;VALUE=DURATION:PT1H
X-Robots-Tag:noindex
X-PUBLISHED-TTL:PT1H
BEGIN:VTIMEZONE
TZID:America/New_York
BEGIN:DAYLIGHT
TZOFFSETFROM:-0500
TZOFFSETTO:-0400
TZNAME:EDT
DTSTART:20250309T070000
END:DAYLIGHT
BEGIN:STANDARD
TZOFFSETFROM:-0400
TZOFFSETTO:-0500
TZNAME:EST
DTSTART:20251102T060000
END:STANDARD
BEGIN:DAYLIGHT
TZOFFSETFROM:-0500
TZOFFSETTO:-0400
TZNAME:EDT
DTSTART:20260308T070000
END:DAYLIGHT
BEGIN:STANDARD
TZOFFSETFROM:-0400
TZOFFSETTO:-0500
TZNAME:EST
DTSTART:20261101T060000
END:STANDARD
BEGIN:DAYLIGHT
TZOFFSETFROM:-0500
TZOFFSETTO:-0400
TZNAME:EDT
DTSTART:20270314T070000
END:DAYLIGHT
BEGIN:STANDARD
TZOFFSETFROM:-0400
TZOFFSETTO:-0500
TZNAME:EST
DTSTART:20271107T060000
END:STANDARD
END:VTIMEZONE
BEGIN:VEVENT
DTSTART;TZID=America/New_York:20260119T090000
DTEND;TZID=America/New_York:20260119T110000
DTSTAMP:20260423T143724
CREATED:20260107T152325Z
LAST-MODIFIED:20260107T152406Z
UID:10004601-1768813200-1768820400@fuusn.org
SUMMARY:City of Newton's 58th Annual Community Celebration of Martin Luther King\, Jr.
DESCRIPTION:  \nNewton’s 58th Annual Celebration of Martin Luther King\, Jr. is right around the corner\, and this year\, FUUSN was selected to host the event. \nJoin FUUSN\, the Harmony Board and the City of Newton\, dedicated event partners\, and fellow community members on Monday\, January 19th\, starting at 9am\, for reflection\, music\, student voices\, children’s programming with Story Starters\, and a community reception. \nThis year’s theme will be “The Courage To Love Turns The Tides Of Hate“. \n  \n  \nPlease note that registration is requested to help with our planning and to ensure we are able to communicate with you in case of a weather emergency (or as needed). \nKindly register using this link. \nIf you have any questions at all\, please send an email to harmonyfoundationnewton@gmail.com.
URL:https://fuusn.org/event/city-of-newtons-57th-annual-community-celebration-of-martin-luther-king-jr-2/
LOCATION:Sanctuary
CATEGORIES:External Events,Public Events
END:VEVENT
END:VCALENDAR