BEGIN:VCALENDAR
VERSION:2.0
PRODID:-//First Unitarian Universalist Society in Newton - ECPv6.15.17.1//NONSGML v1.0//EN
CALSCALE:GREGORIAN
METHOD:PUBLISH
X-WR-CALNAME:First Unitarian Universalist Society in Newton
X-ORIGINAL-URL:https://fuusn.org
X-WR-CALDESC:Events for First Unitarian Universalist Society in Newton
REFRESH-INTERVAL;VALUE=DURATION:PT1H
X-Robots-Tag:noindex
X-PUBLISHED-TTL:PT1H
BEGIN:VTIMEZONE
TZID:America/New_York
BEGIN:DAYLIGHT
TZOFFSETFROM:-0500
TZOFFSETTO:-0400
TZNAME:EDT
DTSTART:20250309T070000
END:DAYLIGHT
BEGIN:STANDARD
TZOFFSETFROM:-0400
TZOFFSETTO:-0500
TZNAME:EST
DTSTART:20251102T060000
END:STANDARD
BEGIN:DAYLIGHT
TZOFFSETFROM:-0500
TZOFFSETTO:-0400
TZNAME:EDT
DTSTART:20260308T070000
END:DAYLIGHT
BEGIN:STANDARD
TZOFFSETFROM:-0400
TZOFFSETTO:-0500
TZNAME:EST
DTSTART:20261101T060000
END:STANDARD
BEGIN:DAYLIGHT
TZOFFSETFROM:-0500
TZOFFSETTO:-0400
TZNAME:EDT
DTSTART:20270314T070000
END:DAYLIGHT
BEGIN:STANDARD
TZOFFSETFROM:-0400
TZOFFSETTO:-0500
TZNAME:EST
DTSTART:20271107T060000
END:STANDARD
END:VTIMEZONE
BEGIN:VEVENT
DTSTART;TZID=America/New_York:20260424T174500
DTEND;TZID=America/New_York:20260424T183000
DTSTAMP:20260422T040927
CREATED:20260108T164310Z
LAST-MODIFIED:20260331T134359Z
UID:10004621-1777052700-1777055400@fuusn.org
SUMMARY:Zoom Vespers
DESCRIPTION:Come to Vespers for music\, readings and conversation. The service runs from 6:00 pm to 6:30 pm. Pre-service music begins around 5:45 pm \nJoin Zoom Meeting \nzoom.us/j/97030763647
URL:https://fuusn.org/event/zoom-vespers-5/2026-04-24/
LOCATION:Online
CATEGORIES:Music Meetings,Public Events,Vespers
END:VEVENT
BEGIN:VEVENT
DTSTART;TZID=America/New_York:20260501T174500
DTEND;TZID=America/New_York:20260501T183000
DTSTAMP:20260422T040927
CREATED:20260331T134518Z
LAST-MODIFIED:20260331T134521Z
UID:10004622-1777657500-1777660200@fuusn.org
SUMMARY:Zoom Vespers
DESCRIPTION:Come to Vespers for music\, readings and conversation. The service runs from 6:00 pm to 6:30 pm. Pre-service music begins around 5:45 pm \nJoin Zoom Meeting \nzoom.us/j/97030763647
URL:https://fuusn.org/event/zoom-vespers-5-3/
LOCATION:Online
CATEGORIES:Music Meetings,Public Events,Vespers
END:VEVENT
BEGIN:VEVENT
DTSTART;TZID=America/New_York:20260515T174500
DTEND;TZID=America/New_York:20260515T183000
DTSTAMP:20260422T040927
CREATED:20260108T164310Z
LAST-MODIFIED:20260331T134359Z
UID:10004623-1778867100-1778869800@fuusn.org
SUMMARY:Zoom Vespers
DESCRIPTION:Come to Vespers for music\, readings and conversation. The service runs from 6:00 pm to 6:30 pm. Pre-service music begins around 5:45 pm \nJoin Zoom Meeting \nzoom.us/j/97030763647
URL:https://fuusn.org/event/zoom-vespers-5/2026-05-15/
LOCATION:Online
CATEGORIES:Music Meetings,Public Events,Vespers
END:VEVENT
BEGIN:VEVENT
DTSTART;TZID=America/New_York:20260517T120000
DTEND;TZID=America/New_York:20260517T140000
DTSTAMP:20260422T040927
CREATED:20260210T202258Z
LAST-MODIFIED:20260414T133800Z
UID:10004491-1779019200-1779026400@fuusn.org
SUMMARY:Social Justice
DESCRIPTION:The Social Justice Speaker Series brings excellent speakers to FUUSN monthly during the church year. Reserve your spot for lunch or volunteer to help at the link below.  Visit the Social Justice Speaker Series for more information.  Also on Zoom (Click for Zoom).
URL:https://fuusn.org/event/social-justice-7/
LOCATION:Alliance Room\, 1326 Washington St.\, West Newton\, MA\, 02465\, United States
CATEGORIES:Public Events
END:VEVENT
BEGIN:VEVENT
DTSTART;TZID=America/New_York:20260529T174500
DTEND;TZID=America/New_York:20260529T183000
DTSTAMP:20260422T040927
CREATED:20260108T164310Z
LAST-MODIFIED:20260331T134359Z
UID:10004624-1780076700-1780079400@fuusn.org
SUMMARY:Zoom Vespers
DESCRIPTION:Come to Vespers for music\, readings and conversation. The service runs from 6:00 pm to 6:30 pm. Pre-service music begins around 5:45 pm \nJoin Zoom Meeting \nzoom.us/j/97030763647
URL:https://fuusn.org/event/zoom-vespers-5/2026-05-29/
LOCATION:Online
CATEGORIES:Music Meetings,Public Events,Vespers
END:VEVENT
BEGIN:VEVENT
DTSTART;TZID=America/New_York:20260605T174500
DTEND;TZID=America/New_York:20260605T183000
DTSTAMP:20260422T040927
CREATED:20260108T164310Z
LAST-MODIFIED:20260331T134359Z
UID:10004625-1780681500-1780684200@fuusn.org
SUMMARY:Zoom Vespers
DESCRIPTION:Come to Vespers for music\, readings and conversation. The service runs from 6:00 pm to 6:30 pm. Pre-service music begins around 5:45 pm \nJoin Zoom Meeting \nzoom.us/j/97030763647
URL:https://fuusn.org/event/zoom-vespers-5/2026-06-05/
LOCATION:Online
CATEGORIES:Music Meetings,Public Events,Vespers
END:VEVENT
BEGIN:VEVENT
DTSTART;TZID=America/New_York:20260606T100000
DTEND;TZID=America/New_York:20260606T140000
DTSTAMP:20260422T040927
CREATED:20260212T190253Z
LAST-MODIFIED:20260212T190253Z
UID:10004643-1780740000-1780754400@fuusn.org
SUMMARY:Boston Pride
DESCRIPTION:Boston Pride For The People is excited to announce its Pride Month celebration on June 6\, 2026. It’s a long-held FUUSN tradition to walk in the parade. Details will be announced in March.
URL:https://fuusn.org/event/boston-pride-3/
LOCATION:Offsite
CATEGORIES:Public Events
END:VEVENT
BEGIN:VEVENT
DTSTART;TZID=America/New_York:20260619T174500
DTEND;TZID=America/New_York:20260619T183000
DTSTAMP:20260422T040927
CREATED:20260108T164310Z
LAST-MODIFIED:20260331T134359Z
UID:10004626-1781891100-1781893800@fuusn.org
SUMMARY:Zoom Vespers
DESCRIPTION:Come to Vespers for music\, readings and conversation. The service runs from 6:00 pm to 6:30 pm. Pre-service music begins around 5:45 pm \nJoin Zoom Meeting \nzoom.us/j/97030763647
URL:https://fuusn.org/event/zoom-vespers-5/2026-06-19/
LOCATION:Online
CATEGORIES:Music Meetings,Public Events,Vespers
END:VEVENT
END:VCALENDAR