BEGIN:VCALENDAR
VERSION:2.0
PRODID:-//First Unitarian Universalist Society in Newton - ECPv6.15.17.1//NONSGML v1.0//EN
CALSCALE:GREGORIAN
METHOD:PUBLISH
X-ORIGINAL-URL:https://fuusn.org
X-WR-CALDESC:Events for First Unitarian Universalist Society in Newton
REFRESH-INTERVAL;VALUE=DURATION:PT1H
X-Robots-Tag:noindex
X-PUBLISHED-TTL:PT1H
BEGIN:VTIMEZONE
TZID:America/New_York
BEGIN:DAYLIGHT
TZOFFSETFROM:-0500
TZOFFSETTO:-0400
TZNAME:EDT
DTSTART:20240310T070000
END:DAYLIGHT
BEGIN:STANDARD
TZOFFSETFROM:-0400
TZOFFSETTO:-0500
TZNAME:EST
DTSTART:20241103T060000
END:STANDARD
BEGIN:DAYLIGHT
TZOFFSETFROM:-0500
TZOFFSETTO:-0400
TZNAME:EDT
DTSTART:20250309T070000
END:DAYLIGHT
BEGIN:STANDARD
TZOFFSETFROM:-0400
TZOFFSETTO:-0500
TZNAME:EST
DTSTART:20251102T060000
END:STANDARD
BEGIN:DAYLIGHT
TZOFFSETFROM:-0500
TZOFFSETTO:-0400
TZNAME:EDT
DTSTART:20260308T070000
END:DAYLIGHT
BEGIN:STANDARD
TZOFFSETFROM:-0400
TZOFFSETTO:-0500
TZNAME:EST
DTSTART:20261101T060000
END:STANDARD
BEGIN:DAYLIGHT
TZOFFSETFROM:-0500
TZOFFSETTO:-0400
TZNAME:EDT
DTSTART:20270314T070000
END:DAYLIGHT
BEGIN:STANDARD
TZOFFSETFROM:-0400
TZOFFSETTO:-0500
TZNAME:EST
DTSTART:20271107T060000
END:STANDARD
END:VTIMEZONE
BEGIN:VEVENT
DTSTART;TZID=America/New_York:20260130T174500
DTEND;TZID=America/New_York:20260130T183000
DTSTAMP:20260422T070401
CREATED:20260108T164310Z
LAST-MODIFIED:20260331T134359Z
UID:10004613-1769795100-1769797800@fuusn.org
SUMMARY:Zoom Vespers
DESCRIPTION:Come to Vespers for music\, readings and conversation. The service runs from 6:00 pm to 6:30 pm. Pre-service music begins around 5:45 pm \nJoin Zoom Meeting \nzoom.us/j/97030763647
URL:https://fuusn.org/event/zoom-vespers-5/2026-01-30/
LOCATION:Online
CATEGORIES:Music Meetings,Public Events,Vespers
END:VEVENT
BEGIN:VEVENT
DTSTART;TZID=America/New_York:20260125T120000
DTEND;TZID=America/New_York:20260125T140000
DTSTAMP:20260422T070401
CREATED:20250806T145719Z
LAST-MODIFIED:20250910T185017Z
UID:10004319-1769342400-1769349600@fuusn.org
SUMMARY:Social Justice
DESCRIPTION:The Social Justice Speaker Series brings excellent speakers to FUUSN monthly during the church year. Reserve your spot for lunch or volunteer to help at the link below.  Visit the Social Justice webpage for more information.
URL:https://fuusn.org/event/social-justice/2026-01-25/
LOCATION:Alliance Room\, 1326 Washington St.\, West Newton\, MA\, 02465\, United States
CATEGORIES:Public Events
END:VEVENT
BEGIN:VEVENT
DTSTART;TZID=America/New_York:20260123T174500
DTEND;TZID=America/New_York:20260123T183000
DTSTAMP:20260422T070401
CREATED:20260108T164310Z
LAST-MODIFIED:20260331T134359Z
UID:10004612-1769190300-1769193000@fuusn.org
SUMMARY:Zoom Vespers
DESCRIPTION:Come to Vespers for music\, readings and conversation. The service runs from 6:00 pm to 6:30 pm. Pre-service music begins around 5:45 pm \nJoin Zoom Meeting \nzoom.us/j/97030763647
URL:https://fuusn.org/event/zoom-vespers-5/2026-01-23/
LOCATION:Online
CATEGORIES:Music Meetings,Public Events,Vespers
END:VEVENT
BEGIN:VEVENT
DTSTART;TZID=America/New_York:20260119T090000
DTEND;TZID=America/New_York:20260119T110000
DTSTAMP:20260422T070401
CREATED:20260107T152325Z
LAST-MODIFIED:20260107T152406Z
UID:10004601-1768813200-1768820400@fuusn.org
SUMMARY:City of Newton's 58th Annual Community Celebration of Martin Luther King\, Jr.
DESCRIPTION:  \nNewton’s 58th Annual Celebration of Martin Luther King\, Jr. is right around the corner\, and this year\, FUUSN was selected to host the event. \nJoin FUUSN\, the Harmony Board and the City of Newton\, dedicated event partners\, and fellow community members on Monday\, January 19th\, starting at 9am\, for reflection\, music\, student voices\, children’s programming with Story Starters\, and a community reception. \nThis year’s theme will be “The Courage To Love Turns The Tides Of Hate“. \n  \n  \nPlease note that registration is requested to help with our planning and to ensure we are able to communicate with you in case of a weather emergency (or as needed). \nKindly register using this link. \nIf you have any questions at all\, please send an email to harmonyfoundationnewton@gmail.com.
URL:https://fuusn.org/event/city-of-newtons-57th-annual-community-celebration-of-martin-luther-king-jr-2/
LOCATION:Sanctuary
CATEGORIES:External Events,Public Events
END:VEVENT
BEGIN:VEVENT
DTSTART;TZID=America/New_York:20260116T174500
DTEND;TZID=America/New_York:20260116T183000
DTSTAMP:20260422T070401
CREATED:20260108T164310Z
LAST-MODIFIED:20260331T134359Z
UID:10004611-1768585500-1768588200@fuusn.org
SUMMARY:Zoom Vespers
DESCRIPTION:Come to Vespers for music\, readings and conversation. The service runs from 6:00 pm to 6:30 pm. Pre-service music begins around 5:45 pm \nJoin Zoom Meeting \nzoom.us/j/97030763647
URL:https://fuusn.org/event/zoom-vespers-5/2026-01-16/
LOCATION:Online
CATEGORIES:Music Meetings,Public Events,Vespers
END:VEVENT
BEGIN:VEVENT
DTSTART;TZID=America/New_York:20251219T174500
DTEND;TZID=America/New_York:20251219T183000
DTSTAMP:20260422T070401
CREATED:20250827T171524Z
LAST-MODIFIED:20250904T182621Z
UID:10004487-1766166300-1766169000@fuusn.org
SUMMARY:Zoom Vespers
DESCRIPTION:Come to Vespers for music\, readings and conversation. The service runs from 6:00 pm to 6:30 pm. Pre-service music begins around 5:45 pm \nJoin Zoom Meeting \nhttps://zoom.us/j/98843479927
URL:https://fuusn.org/event/zoom-vespers-4/2025-12-19/
LOCATION:Online
CATEGORIES:Music Meetings,Public Events,Vespers
END:VEVENT
BEGIN:VEVENT
DTSTART;TZID=America/New_York:20251214T120000
DTEND;TZID=America/New_York:20251214T140000
DTSTAMP:20260422T070401
CREATED:20250806T145719Z
LAST-MODIFIED:20250910T185017Z
UID:10004318-1765713600-1765720800@fuusn.org
SUMMARY:Social Justice
DESCRIPTION:The Social Justice Speaker Series brings excellent speakers to FUUSN monthly during the church year. Reserve your spot for lunch or volunteer to help at the link below.  Visit the Social Justice webpage for more information.
URL:https://fuusn.org/event/social-justice/2025-12-14/
LOCATION:Alliance Room\, 1326 Washington St.\, West Newton\, MA\, 02465\, United States
CATEGORIES:Public Events
END:VEVENT
BEGIN:VEVENT
DTSTART;TZID=America/New_York:20251205T174500
DTEND;TZID=America/New_York:20251205T183000
DTSTAMP:20260422T070401
CREATED:20250827T171524Z
LAST-MODIFIED:20250904T182621Z
UID:10004486-1764956700-1764959400@fuusn.org
SUMMARY:Zoom Vespers
DESCRIPTION:Come to Vespers for music\, readings and conversation. The service runs from 6:00 pm to 6:30 pm. Pre-service music begins around 5:45 pm \nJoin Zoom Meeting \nhttps://zoom.us/j/98843479927
URL:https://fuusn.org/event/zoom-vespers-4/2025-12-05/
LOCATION:Online
CATEGORIES:Music Meetings,Public Events,Vespers
END:VEVENT
BEGIN:VEVENT
DTSTART;TZID=America/New_York:20251116T120000
DTEND;TZID=America/New_York:20251116T140000
DTSTAMP:20260422T070401
CREATED:20250806T145719Z
LAST-MODIFIED:20250910T185017Z
UID:10004317-1763294400-1763301600@fuusn.org
SUMMARY:Social Justice
DESCRIPTION:The Social Justice Speaker Series brings excellent speakers to FUUSN monthly during the church year. Reserve your spot for lunch or volunteer to help at the link below.  Visit the Social Justice webpage for more information.
URL:https://fuusn.org/event/social-justice/2025-11-16/
LOCATION:Alliance Room\, 1326 Washington St.\, West Newton\, MA\, 02465\, United States
CATEGORIES:Public Events
END:VEVENT
BEGIN:VEVENT
DTSTART;TZID=America/New_York:20251114T174500
DTEND;TZID=America/New_York:20251114T183000
DTSTAMP:20260422T070401
CREATED:20250827T171524Z
LAST-MODIFIED:20250904T182621Z
UID:10004484-1763142300-1763145000@fuusn.org
SUMMARY:Zoom Vespers
DESCRIPTION:Come to Vespers for music\, readings and conversation. The service runs from 6:00 pm to 6:30 pm. Pre-service music begins around 5:45 pm \nJoin Zoom Meeting \nhttps://zoom.us/j/98843479927
URL:https://fuusn.org/event/zoom-vespers-4/2025-11-14/
LOCATION:Online
CATEGORIES:Music Meetings,Public Events,Vespers
END:VEVENT
BEGIN:VEVENT
DTSTART;TZID=America/New_York:20251107T174500
DTEND;TZID=America/New_York:20251107T183000
DTSTAMP:20260422T070401
CREATED:20250827T171524Z
LAST-MODIFIED:20250904T182621Z
UID:10004483-1762537500-1762540200@fuusn.org
SUMMARY:Zoom Vespers
DESCRIPTION:Come to Vespers for music\, readings and conversation. The service runs from 6:00 pm to 6:30 pm. Pre-service music begins around 5:45 pm \nJoin Zoom Meeting \nhttps://zoom.us/j/98843479927
URL:https://fuusn.org/event/zoom-vespers-4/2025-11-07/
LOCATION:Online
CATEGORIES:Music Meetings,Public Events,Vespers
END:VEVENT
BEGIN:VEVENT
DTSTART;TZID=America/New_York:20251026T120000
DTEND;TZID=America/New_York:20251026T140000
DTSTAMP:20260422T070401
CREATED:20250806T145719Z
LAST-MODIFIED:20250910T185017Z
UID:10004316-1761480000-1761487200@fuusn.org
SUMMARY:Social Justice
DESCRIPTION:The Social Justice Speaker Series brings excellent speakers to FUUSN monthly during the church year. Reserve your spot for lunch or volunteer to help at the link below.  Visit the Social Justice webpage for more information.
URL:https://fuusn.org/event/social-justice/2025-10-26/
LOCATION:Alliance Room\, 1326 Washington St.\, West Newton\, MA\, 02465\, United States
CATEGORIES:Public Events
END:VEVENT
BEGIN:VEVENT
DTSTART;TZID=America/New_York:20251017T174500
DTEND;TZID=America/New_York:20251017T183000
DTSTAMP:20260422T070401
CREATED:20250827T171524Z
LAST-MODIFIED:20250904T182621Z
UID:10004482-1760723100-1760725800@fuusn.org
SUMMARY:Zoom Vespers
DESCRIPTION:Come to Vespers for music\, readings and conversation. The service runs from 6:00 pm to 6:30 pm. Pre-service music begins around 5:45 pm \nJoin Zoom Meeting \nhttps://zoom.us/j/98843479927
URL:https://fuusn.org/event/zoom-vespers-4/2025-10-17/
LOCATION:Online
CATEGORIES:Music Meetings,Public Events,Vespers
END:VEVENT
BEGIN:VEVENT
DTSTART;TZID=America/New_York:20251003T174500
DTEND;TZID=America/New_York:20251003T183000
DTSTAMP:20260422T070401
CREATED:20250827T171524Z
LAST-MODIFIED:20250904T182621Z
UID:10004481-1759513500-1759516200@fuusn.org
SUMMARY:Zoom Vespers
DESCRIPTION:Come to Vespers for music\, readings and conversation. The service runs from 6:00 pm to 6:30 pm. Pre-service music begins around 5:45 pm \nJoin Zoom Meeting \nhttps://zoom.us/j/98843479927
URL:https://fuusn.org/event/zoom-vespers-4/2025-10-03/
LOCATION:Online
CATEGORIES:Music Meetings,Public Events,Vespers
END:VEVENT
BEGIN:VEVENT
DTSTART;TZID=America/New_York:20250921T113000
DTEND;TZID=America/New_York:20250921T133000
DTSTAMP:20260422T070401
CREATED:20250902T135751Z
LAST-MODIFIED:20250902T135751Z
UID:10004450-1758454200-1758461400@fuusn.org
SUMMARY:How to Tell a Story
DESCRIPTION:Over 60s presentation–Introduction to Storytelling. Linda Grosser our skilled storyteller presenter is an award winning teller. All invited!
URL:https://fuusn.org/event/how-to-tell-a-story/
LOCATION:Alliance Room\, 1326 Washington St.\, West Newton\, MA\, 02465\, United States
CATEGORIES:Over 60s,Public Events,Social Events
END:VEVENT
BEGIN:VEVENT
DTSTART;TZID=America/New_York:20250914T123000
DTEND;TZID=America/New_York:20250914T143000
DTSTAMP:20260422T070401
CREATED:20250813T132315Z
LAST-MODIFIED:20250908T183225Z
UID:10004315-1757853000-1757860200@fuusn.org
SUMMARY:Social Justice
DESCRIPTION:The Social Justice Speaker Series brings excellent speakers to FUUSN monthly during the church year. Reserve your spot for lunch or volunteer to help at the link below.  Visit the Social Justice webpage for more information.
URL:https://fuusn.org/event/social-justice-2/
LOCATION:Alliance Room\, 1326 Washington St.\, West Newton\, MA\, 02465\, United States
CATEGORIES:Public Events
END:VEVENT
BEGIN:VEVENT
DTSTART;TZID=America/New_York:20250912T174500
DTEND;TZID=America/New_York:20250912T183000
DTSTAMP:20260422T070401
CREATED:20250827T171524Z
LAST-MODIFIED:20250904T182621Z
UID:10004480-1757699100-1757701800@fuusn.org
SUMMARY:Zoom Vespers
DESCRIPTION:Come to Vespers for music\, readings and conversation. The service runs from 6:00 pm to 6:30 pm. Pre-service music begins around 5:45 pm \nJoin Zoom Meeting \nhttps://zoom.us/j/98843479927
URL:https://fuusn.org/event/zoom-vespers-4/2025-09-12/
LOCATION:Online
CATEGORIES:Music Meetings,Public Events,Vespers
END:VEVENT
BEGIN:VEVENT
DTSTART;TZID=America/New_York:20250905T174500
DTEND;TZID=America/New_York:20250905T183000
DTSTAMP:20260422T070401
CREATED:20250827T171524Z
LAST-MODIFIED:20250904T182621Z
UID:10004479-1757094300-1757097000@fuusn.org
SUMMARY:Zoom Vespers
DESCRIPTION:Come to Vespers for music\, readings and conversation. The service runs from 6:00 pm to 6:30 pm. Pre-service music begins around 5:45 pm \nJoin Zoom Meeting \nhttps://zoom.us/j/98843479927
URL:https://fuusn.org/event/zoom-vespers-4/2025-09-05/
LOCATION:Online
CATEGORIES:Music Meetings,Public Events,Vespers
END:VEVENT
BEGIN:VEVENT
DTSTART;TZID=America/New_York:20250614T084500
DTEND;TZID=America/New_York:20250614T130000
DTSTAMP:20260422T070401
CREATED:20250323T133812Z
LAST-MODIFIED:20250516T151547Z
UID:10003796-1749890700-1749906000@fuusn.org
SUMMARY:Boston Pride
DESCRIPTION:Join FUUSN at the Boston Pride Parade in June! Our Team is registered and can accommodate up to 75 marchers. \nIt is estimated more than 1 million people attended the Boston Pride Parade and Festivals in June of 2024\, Our FUUSN Rainbow Umbrella team of all ages marched with 15\,000 people from Copley Square to Boston Common\, with 315 other contingent groups participating in the parade. \n​Boston Pride For The People is a volunteer-led organization that plans activities and events that celebrate the rich diversity\, culture\, and intersectionality of the LGBTQ+ community.
URL:https://fuusn.org/event/boston-pride-2/
LOCATION:Offsite
CATEGORIES:Public Events
END:VEVENT
BEGIN:VEVENT
DTSTART;TZID=America/New_York:20250606T180000
DTEND;TZID=America/New_York:20250606T183000
DTSTAMP:20260422T070401
CREATED:20241231T030911Z
LAST-MODIFIED:20241231T030911Z
UID:10003733-1749232800-1749234600@fuusn.org
SUMMARY:Zoom Vespers
DESCRIPTION:Come to Vespers for music\, readings and conversation. The service runs from 6 to 6:30 pm. Pre-service music begins around 5:47 pm \nJoin Zoom Meeting \nhttps://zoom.us/j/97317681927
URL:https://fuusn.org/event/zoom-vespers-3/2025-06-06/
LOCATION:Online
CATEGORIES:Music Meetings,Public Events,Vespers
END:VEVENT
BEGIN:VEVENT
DTSTART;TZID=America/New_York:20250530T180000
DTEND;TZID=America/New_York:20250530T183000
DTSTAMP:20260422T070401
CREATED:20250513T183215Z
LAST-MODIFIED:20250513T183218Z
UID:10003732-1748628000-1748629800@fuusn.org
SUMMARY:Zoom Vespers
DESCRIPTION:Come to Vespers for music\, readings and conversation. The service runs from 6 to 6:30 pm. Pre-service music begins around 5:47 pm \nJoin Zoom Meeting \nhttps://zoom.us/j/97317681927
URL:https://fuusn.org/event/zoom-vespers-3-6/
LOCATION:Online
CATEGORIES:Music Meetings,Public Events,Vespers
END:VEVENT
BEGIN:VEVENT
DTSTART;TZID=America/New_York:20250516T180000
DTEND;TZID=America/New_York:20250516T183000
DTSTAMP:20260422T070401
CREATED:20250513T183023Z
LAST-MODIFIED:20250513T183102Z
UID:10003731-1747418400-1747420200@fuusn.org
SUMMARY:Zoom Vespers
DESCRIPTION:Come to Vespers for music\, readings and conversation. The service runs from 6 to 6:30 pm. Pre-service music begins around 5:47 pm \nJoin Zoom Meeting \nhttps://zoom.us/j/97317681927
URL:https://fuusn.org/event/zoom-vespers-3-5/
LOCATION:Online
CATEGORIES:Music Meetings,Public Events,Vespers
END:VEVENT
BEGIN:VEVENT
DTSTART;TZID=America/New_York:20250511T120000
DTEND;TZID=America/New_York:20250511T140000
DTSTAMP:20260422T070401
CREATED:20240829T152714Z
LAST-MODIFIED:20240829T152714Z
UID:10003159-1746964800-1746972000@fuusn.org
SUMMARY:Social Justice Action Presentation
DESCRIPTION:Speakers to be announced later.
URL:https://fuusn.org/event/social-justice-action-presentation/2025-05-11/
LOCATION:Alliance Room\, 1326 Washington St.\, West Newton\, MA\, 02465\, United States
CATEGORIES:Public Events
END:VEVENT
BEGIN:VEVENT
DTSTART;TZID=America/New_York:20250502T180000
DTEND;TZID=America/New_York:20250502T183000
DTSTAMP:20260422T070401
CREATED:20241231T030911Z
LAST-MODIFIED:20241231T030911Z
UID:10003730-1746208800-1746210600@fuusn.org
SUMMARY:Zoom Vespers
DESCRIPTION:Come to Vespers for music\, readings and conversation. The service runs from 6 to 6:30 pm. Pre-service music begins around 5:47 pm \nJoin Zoom Meeting \nhttps://zoom.us/j/97317681927
URL:https://fuusn.org/event/zoom-vespers-3/2025-05-02/
LOCATION:Online
CATEGORIES:Music Meetings,Public Events,Vespers
END:VEVENT
BEGIN:VEVENT
DTSTART;TZID=America/New_York:20250425T180000
DTEND;TZID=America/New_York:20250425T183000
DTSTAMP:20260422T070401
CREATED:20241231T030911Z
LAST-MODIFIED:20241231T030911Z
UID:10003729-1745604000-1745605800@fuusn.org
SUMMARY:Zoom Vespers
DESCRIPTION:Come to Vespers for music\, readings and conversation. The service runs from 6 to 6:30 pm. Pre-service music begins around 5:47 pm \nJoin Zoom Meeting \nhttps://zoom.us/j/97317681927
URL:https://fuusn.org/event/zoom-vespers-3/2025-04-25/
LOCATION:Online
CATEGORIES:Music Meetings,Public Events,Vespers
END:VEVENT
BEGIN:VEVENT
DTSTART;TZID=America/New_York:20250418T184500
DTEND;TZID=America/New_York:20250418T191500
DTSTAMP:20260422T070401
CREATED:20250418T131603Z
LAST-MODIFIED:20250418T131813Z
UID:10003728-1745001900-1745003700@fuusn.org
SUMMARY:Zoom Vespers
DESCRIPTION:Come to Vespers for music\, readings and conversation. The service runs from 6:45 pm to 7:15 pm. Pre-service music begins around 6:30 pm \nJoin Zoom Meeting \nhttps://zoom.us/j/97317681927
URL:https://fuusn.org/event/zoom-vespers-3-4/
LOCATION:Online
CATEGORIES:Music Meetings,Public Events,Vespers
END:VEVENT
BEGIN:VEVENT
DTSTART;TZID=America/New_York:20250406T120000
DTEND;TZID=America/New_York:20250406T140000
DTSTAMP:20260422T070401
CREATED:20240829T152714Z
LAST-MODIFIED:20240829T152714Z
UID:10003158-1743940800-1743948000@fuusn.org
SUMMARY:Social Justice Action Presentation
DESCRIPTION:Speakers to be announced later.
URL:https://fuusn.org/event/social-justice-action-presentation/2025-04-06/
LOCATION:Alliance Room\, 1326 Washington St.\, West Newton\, MA\, 02465\, United States
CATEGORIES:Public Events
END:VEVENT
BEGIN:VEVENT
DTSTART;TZID=America/New_York:20250404T180000
DTEND;TZID=America/New_York:20250404T183000
DTSTAMP:20260422T070401
CREATED:20241231T030911Z
LAST-MODIFIED:20241231T030911Z
UID:10003727-1743789600-1743791400@fuusn.org
SUMMARY:Zoom Vespers
DESCRIPTION:Come to Vespers for music\, readings and conversation. The service runs from 6 to 6:30 pm. Pre-service music begins around 5:47 pm \nJoin Zoom Meeting \nhttps://zoom.us/j/97317681927
URL:https://fuusn.org/event/zoom-vespers-3/2025-04-04/
LOCATION:Online
CATEGORIES:Music Meetings,Public Events,Vespers
END:VEVENT
BEGIN:VEVENT
DTSTART;TZID=America/New_York:20250330T120000
DTEND;TZID=America/New_York:20250330T130000
DTSTAMP:20260422T070401
CREATED:20240910T155412Z
LAST-MODIFIED:20250327T162949Z
UID:10003229-1743336000-1743339600@fuusn.org
SUMMARY:Over 60s Storytelling Event
DESCRIPTION:
URL:https://fuusn.org/event/over-60s-storytelling-event/
LOCATION:Alliance Room\, 1326 Washington St.\, West Newton\, MA\, 02465\, United States
CATEGORIES:Over 60s,Public Events,Social Events
END:VEVENT
BEGIN:VEVENT
DTSTART;TZID=America/New_York:20250328T180000
DTEND;TZID=America/New_York:20250328T183000
DTSTAMP:20260422T070401
CREATED:20250317T141320Z
LAST-MODIFIED:20250317T141327Z
UID:10003726-1743184800-1743186600@fuusn.org
SUMMARY:Zoom Vespers
DESCRIPTION:Come to Vespers for music\, readings and conversation. The service runs from 6 to 6:30 pm. Pre-service music begins around 5:47 pm \nJoin Zoom Meeting \nhttps://zoom.us/j/97317681927
URL:https://fuusn.org/event/zoom-vespers-3-3/
LOCATION:Online
CATEGORIES:Music Meetings,Public Events,Vespers
END:VEVENT
END:VCALENDAR