BEGIN:VCALENDAR
VERSION:2.0
PRODID:-//First Unitarian Universalist Society in Newton - ECPv6.15.17.1//NONSGML v1.0//EN
CALSCALE:GREGORIAN
METHOD:PUBLISH
X-WR-CALNAME:First Unitarian Universalist Society in Newton
X-ORIGINAL-URL:https://fuusn.org
X-WR-CALDESC:Events for First Unitarian Universalist Society in Newton
REFRESH-INTERVAL;VALUE=DURATION:PT1H
X-Robots-Tag:noindex
X-PUBLISHED-TTL:PT1H
BEGIN:VTIMEZONE
TZID:America/New_York
BEGIN:DAYLIGHT
TZOFFSETFROM:-0500
TZOFFSETTO:-0400
TZNAME:EDT
DTSTART:20220313T070000
END:DAYLIGHT
BEGIN:STANDARD
TZOFFSETFROM:-0400
TZOFFSETTO:-0500
TZNAME:EST
DTSTART:20221106T060000
END:STANDARD
BEGIN:DAYLIGHT
TZOFFSETFROM:-0500
TZOFFSETTO:-0400
TZNAME:EDT
DTSTART:20230312T070000
END:DAYLIGHT
BEGIN:STANDARD
TZOFFSETFROM:-0400
TZOFFSETTO:-0500
TZNAME:EST
DTSTART:20231105T060000
END:STANDARD
BEGIN:DAYLIGHT
TZOFFSETFROM:-0500
TZOFFSETTO:-0400
TZNAME:EDT
DTSTART:20240310T070000
END:DAYLIGHT
BEGIN:STANDARD
TZOFFSETFROM:-0400
TZOFFSETTO:-0500
TZNAME:EST
DTSTART:20241103T060000
END:STANDARD
END:VTIMEZONE
BEGIN:VEVENT
DTSTART;TZID=America/New_York:20230909T090000
DTEND;TZID=America/New_York:20230909T120000
DTSTAMP:20260421T185238
CREATED:20230712T202428Z
LAST-MODIFIED:20230903T133052Z
UID:10000021-1694250000-1694260800@fuusn.org
SUMMARY:RE Youth Leader and Adult Volunteer Orientation
DESCRIPTION:Here is an invitation for people to attend the RE Adult Volunteer and Youth Leader Orientation on Saturday\, September 9th from 9:00 AM – Noon\, whether or not you want to volunteer with our religious exploration programs on Sunday and beyond. This might well inform your discernment for volunteering in our programs or it might confirm that it is not the right fit for you.\n\nWe will have a guest presenter Yvonne Andrews for the neurodiversity portion of the orientation which will take place from 10:00-11:00 that day. I hope everyone will take advantage of the opportunity to learn and grow so we can create a welcoming space at FUUSN for those who are neurodiverse.\n\nYvonne Andrews is the new Director of Religious Education at First Parish in Waltham and is on faculty at Lesley University. Yvonne comes to us with a wealth of experience working with and teaching about neurodiverse students and a specialty in trauma-informed care across the lifespan. She has a Master of Education degree and has achieved PsyD ABD.\n\nThe new schedule is as follows:\n\n\n8:45-9:15 Breakfast\n9:15-9:55 Safety Jeopardy\n9:55-10:00 Five Minute Break\n10:00-11:00 Neurodiversity in the RE Space and at FUUSN\n11:00-11:10 Ten Minute Break\n11:10-11:45 Spirit Circle\n11:45-12:00 Calendar Review\, Volunteer Sign Up Review\, Questions for the Year\n\n\nVolunteers are required to participate or find a time to meet one-on-one with Devin Shmueli\, Director of Family and Community Ministries\, to get the information you need to be a successful volunteer.
URL:https://fuusn.org/event/re-youth-leader-and-adult-volunteer-orientation/
LOCATION:FUUSN Parish Hall\, 1326 Washington St.\, West Newton\, MA\, 02465\, United States
CATEGORIES:Religious Exploration,Training
END:VEVENT
BEGIN:VEVENT
DTSTART;TZID=America/New_York:20230916T083000
DTEND;TZID=America/New_York:20230916T153000
DTSTAMP:20260421T185238
CREATED:20230712T202921Z
LAST-MODIFIED:20230712T204234Z
UID:10000023-1694853000-1694878200@fuusn.org
SUMMARY:Spirit Play Training
DESCRIPTION:
URL:https://fuusn.org/event/spirit-play-training/
CATEGORIES:Religious Exploration,Training
END:VEVENT
BEGIN:VEVENT
DTSTART;TZID=America/New_York:20230917T101500
DTEND;TZID=America/New_York:20230917T113000
DTSTAMP:20260421T185238
CREATED:20230712T203646Z
LAST-MODIFIED:20230713T162032Z
UID:10000024-1694945700-1694950200@fuusn.org
SUMMARY:Spirit Circle: Covenant Focus
DESCRIPTION:
URL:https://fuusn.org/event/spirit-circle-covenant-focus/
LOCATION:Location TBA\, MA
CATEGORIES:RE Classes,Religious Exploration
END:VEVENT
BEGIN:VEVENT
DTSTART;TZID=America/New_York:20230924T101500
DTEND;TZID=America/New_York:20230924T113000
DTSTAMP:20260421T185238
CREATED:20230712T203926Z
LAST-MODIFIED:20230713T234630Z
UID:10000025-1695550500-1695555000@fuusn.org
SUMMARY:Religious Exploration Classes Begin
DESCRIPTION:
URL:https://fuusn.org/event/religious-exploration-classes-1/
LOCATION:Location TBA\, MA
CATEGORIES:RE Classes,Religious Exploration
END:VEVENT
BEGIN:VEVENT
DTSTART;TZID=America/New_York:20230929T190000
DTEND;TZID=America/New_York:20230929T210000
DTSTAMP:20260421T185238
CREATED:20230926T200621Z
LAST-MODIFIED:20230926T200758Z
UID:10000724-1696014000-1696021200@fuusn.org
SUMMARY:Youth Group S'mores Night
DESCRIPTION:On Friday\, September 29th\, 2023\, our Youth Group (9th-12th Grades) will have a S’mores Night from 7:00 PM to 9:00 PM at FUUSN. In case of rain\, we will reschedule to a later date.
URL:https://fuusn.org/event/youth-group-smores-night/
LOCATION:Location TBA\, MA
CATEGORIES:RE Classes,Youth Group
END:VEVENT
END:VCALENDAR