BEGIN:VCALENDAR
VERSION:2.0
PRODID:-//First Unitarian Universalist Society in Newton - ECPv6.15.17.1//NONSGML v1.0//EN
CALSCALE:GREGORIAN
METHOD:PUBLISH
X-ORIGINAL-URL:https://fuusn.org
X-WR-CALDESC:Events for First Unitarian Universalist Society in Newton
REFRESH-INTERVAL;VALUE=DURATION:PT1H
X-Robots-Tag:noindex
X-PUBLISHED-TTL:PT1H
BEGIN:VTIMEZONE
TZID:America/New_York
BEGIN:DAYLIGHT
TZOFFSETFROM:-0500
TZOFFSETTO:-0400
TZNAME:EDT
DTSTART:20220313T070000
END:DAYLIGHT
BEGIN:STANDARD
TZOFFSETFROM:-0400
TZOFFSETTO:-0500
TZNAME:EST
DTSTART:20221106T060000
END:STANDARD
BEGIN:DAYLIGHT
TZOFFSETFROM:-0500
TZOFFSETTO:-0400
TZNAME:EDT
DTSTART:20230312T070000
END:DAYLIGHT
BEGIN:STANDARD
TZOFFSETFROM:-0400
TZOFFSETTO:-0500
TZNAME:EST
DTSTART:20231105T060000
END:STANDARD
BEGIN:DAYLIGHT
TZOFFSETFROM:-0500
TZOFFSETTO:-0400
TZNAME:EDT
DTSTART:20240310T070000
END:DAYLIGHT
BEGIN:STANDARD
TZOFFSETFROM:-0400
TZOFFSETTO:-0500
TZNAME:EST
DTSTART:20241103T060000
END:STANDARD
END:VTIMEZONE
BEGIN:VEVENT
DTSTART;TZID=America/New_York:20231001T101500
DTEND;TZID=America/New_York:20231001T113000
DTSTAMP:20260421T173837
CREATED:20230712T204111Z
LAST-MODIFIED:20230927T205230Z
UID:10000026-1696155300-1696159800@fuusn.org
SUMMARY:Blessing of the Animals - Multigenerational Service (No Religious Exploration)
DESCRIPTION:You are invited to bring your favorite furry\, hairy\, feathered\, scaly\, or shelled pet to the Sunday morning service at FUUSN. We will celebrate our kinship with all living creatures in the spirit of St. Francis of Assisi and share one of his iconic stories of compassion. This will be a service for all generations\, and we encourage you to invite pet-loving friends to join us! \nYou can bring your beloved creatures along or bring a photo of them; we will also offer a memorial for pets who are no longer with us (who can also be represented with a photo). \nDeciding whether to bring your pet or bring a photo? If you can say yes to these things\, please bring ‘em: \n\nI can keep my pet in my physical control (via leash\, carrier\, box etc.) indoors for 45 minutes\nMy pet won’t be overly stressed by the presence of other animals or humans\n\nIf you are someone who is allergic to animals but would like to be present for the service\, we recommend that you wear a mask and sit in the pews near the rear of the sanctuary to limit your exposure.
URL:https://fuusn.org/event/blessing-of-the-animals-multigenerational-service-no-re/
LOCATION:Location TBA\, MA
CATEGORIES:Public Events,RE Classes,Religious Exploration,Special Services,Sunday Services
END:VEVENT
BEGIN:VEVENT
DTSTART;TZID=America/New_York:20231001T170000
DTEND;TZID=America/New_York:20231001T193000
DTSTAMP:20260421T173837
CREATED:20230816T175519Z
LAST-MODIFIED:20230927T174329Z
UID:10000793-1696179600-1696188600@fuusn.org
SUMMARY:All8 Arts Workshop Series
DESCRIPTION:Once a month between October through May for two hours\, youth in 7th grade and older together with adults are invited to participate in an exploration of all eight UU principles through photography\, creative writing\, fine art\, collage\, digital art\, and sculpting. Members of our Racial Justice Ministry team will be facilitating this program.
URL:https://fuusn.org/event/all8-arts-workshop-series/2023-10-01/
LOCATION:Parish Hall and Kitchen
CATEGORIES:Classes,Religious Exploration
END:VEVENT
BEGIN:VEVENT
DTSTART;TZID=America/New_York:20231008T101500
DTEND;TZID=America/New_York:20231008T113000
DTSTAMP:20260421T173837
CREATED:20230713T162158Z
LAST-MODIFIED:20230713T162158Z
UID:10000027-1696760100-1696764600@fuusn.org
SUMMARY:Spirit Circle: Hispanic Heritage Focus
DESCRIPTION:
URL:https://fuusn.org/event/spirit-circle-hispanic-heritage-focus/
CATEGORIES:RE Classes,Religious Exploration
END:VEVENT
BEGIN:VEVENT
DTSTART;TZID=America/New_York:20231030T180000
DTEND;TZID=America/New_York:20231030T190000
DTSTAMP:20260421T173837
CREATED:20231010T195151Z
LAST-MODIFIED:20231010T195151Z
UID:10000825-1698688800-1698692400@fuusn.org
SUMMARY:Soul Matters Small Group Facilitators Meeting
DESCRIPTION:This meeting is for facilitators only.
URL:https://fuusn.org/event/soul-matters-small-group-facilitators-meeting/
LOCATION:Online
CATEGORIES:Religious Exploration
END:VEVENT
END:VCALENDAR