BEGIN:VCALENDAR
VERSION:2.0
PRODID:-//First Unitarian Universalist Society in Newton - ECPv6.15.17.1//NONSGML v1.0//EN
CALSCALE:GREGORIAN
METHOD:PUBLISH
X-ORIGINAL-URL:https://fuusn.org
X-WR-CALDESC:Events for First Unitarian Universalist Society in Newton
REFRESH-INTERVAL;VALUE=DURATION:PT1H
X-Robots-Tag:noindex
X-PUBLISHED-TTL:PT1H
BEGIN:VTIMEZONE
TZID:America/New_York
BEGIN:DAYLIGHT
TZOFFSETFROM:-0500
TZOFFSETTO:-0400
TZNAME:EDT
DTSTART:20230312T070000
END:DAYLIGHT
BEGIN:STANDARD
TZOFFSETFROM:-0400
TZOFFSETTO:-0500
TZNAME:EST
DTSTART:20231105T060000
END:STANDARD
BEGIN:DAYLIGHT
TZOFFSETFROM:-0500
TZOFFSETTO:-0400
TZNAME:EDT
DTSTART:20240310T070000
END:DAYLIGHT
BEGIN:STANDARD
TZOFFSETFROM:-0400
TZOFFSETTO:-0500
TZNAME:EST
DTSTART:20241103T060000
END:STANDARD
BEGIN:DAYLIGHT
TZOFFSETFROM:-0500
TZOFFSETTO:-0400
TZNAME:EDT
DTSTART:20250309T070000
END:DAYLIGHT
BEGIN:STANDARD
TZOFFSETFROM:-0400
TZOFFSETTO:-0500
TZNAME:EST
DTSTART:20251102T060000
END:STANDARD
END:VTIMEZONE
BEGIN:VEVENT
DTSTART;TZID=America/New_York:20240403T180000
DTEND;TZID=America/New_York:20240403T180000
DTSTAMP:20260421T095136
CREATED:20240322T180117Z
LAST-MODIFIED:20240322T180443Z
UID:10001338-1712167200-1712167200@fuusn.org
SUMMARY:Bible Study for Unitarian Universalists
DESCRIPTION:In this six-session series led by Rev. Parisa and Devin Shmueli\, we will explore especially the stories in Genesis that appear in the scriptures of Judaism\, Christianity and Islam. We’ll begin with an conversation about what the Bible means for Unitarian Universalists\, as well as how to engage the texts and translations\, and then dive into the stories together. No previous experience with reading the Bible is necessary\, just a curiosity and willingness to engage! \nWe will offer a simple supper with each session.
URL:https://fuusn.org/event/bible-study-2/
LOCATION:FUUSN Kitchen and Alliance Room\, 1326 Washington ST\, Newton\, MA\, 02465
CATEGORIES:Adult Classes
END:VEVENT
BEGIN:VEVENT
DTSTART;TZID=America/New_York:20240407T101500
DTEND;TZID=America/New_York:20240407T113000
DTSTAMP:20260421T095136
CREATED:20230713T233908Z
LAST-MODIFIED:20230713T233908Z
UID:10000037-1712484900-1712489400@fuusn.org
SUMMARY:Spirit Circle: Environment Focus
DESCRIPTION:
URL:https://fuusn.org/event/spirit-circle-environment-focus/
CATEGORIES:RE Classes,Religious Exploration
END:VEVENT
BEGIN:VEVENT
DTSTART;TZID=America/New_York:20240407T160000
DTEND;TZID=America/New_York:20240407T171500
DTSTAMP:20260421T095136
CREATED:20240301T171912Z
LAST-MODIFIED:20240326T192310Z
UID:10001353-1712505600-1712510100@fuusn.org
SUMMARY:4-6th OWL Sessions
DESCRIPTION:
URL:https://fuusn.org/event/4-6th-owl-sessions-4/2024-04-07/
LOCATION:Downstairs Classrooms
CATEGORIES:RE Classes,Religious Exploration
END:VEVENT
BEGIN:VEVENT
DTSTART;TZID=America/New_York:20240407T170000
DTEND;TZID=America/New_York:20240407T193000
DTSTAMP:20260421T095136
CREATED:20240403T232924Z
LAST-MODIFIED:20240403T232929Z
UID:10000799-1712509200-1712518200@fuusn.org
SUMMARY:All8 Arts Workshop Series
DESCRIPTION:Once a month between October through May for two hours\, youth in 7th grade and older together with adults are invited to participate in an exploration of all eight UU principles through photography\, creative writing\, fine art\, collage\, digital art\, and sculpting. Members of our Racial Justice Ministry team will be facilitating this program. Preregistration required – no spots available.
URL:https://fuusn.org/event/all8-arts-workshop-series-3/2024-04-07/
LOCATION:Parish Hall and Kitchen
CATEGORIES:Classes,Religious Exploration
END:VEVENT
BEGIN:VEVENT
DTSTART;TZID=America/New_York:20240414T101500
DTEND;TZID=America/New_York:20240414T113000
DTSTAMP:20260421T095136
CREATED:20230713T234024Z
LAST-MODIFIED:20230713T234024Z
UID:10000038-1713089700-1713094200@fuusn.org
SUMMARY:April Break: No Religious Exploration Classes
DESCRIPTION:
URL:https://fuusn.org/event/april-break-no-religious-exploration-classes/
CATEGORIES:RE Classes,Religious Exploration
END:VEVENT
BEGIN:VEVENT
DTSTART;TZID=America/New_York:20240415T173000
DTEND;TZID=America/New_York:20240415T183000
DTSTAMP:20260421T095136
CREATED:20231010T200022Z
LAST-MODIFIED:20231010T200022Z
UID:10000851-1713202200-1713205800@fuusn.org
SUMMARY:All8 Arts Facilitators Meeting
DESCRIPTION:scroll right  scroll left\n\n\nAll8 Arts Facilitator Meeting on the 3rd Monday of each month\, now through May
URL:https://fuusn.org/event/all8-arts-facilitators-meeting/2024-04-15/
LOCATION:Online
CATEGORIES:Religious Exploration
END:VEVENT
BEGIN:VEVENT
DTSTART;TZID=America/New_York:20240421T101500
DTEND;TZID=America/New_York:20240421T113000
DTSTAMP:20260421T095136
CREATED:20230713T234129Z
LAST-MODIFIED:20230713T234129Z
UID:10000039-1713694500-1713699000@fuusn.org
SUMMARY:April Break (Second Sunday): No Religious Exploration Classes
DESCRIPTION:
URL:https://fuusn.org/event/april-break-second-sunday-no-religious-exploration-classes/
CATEGORIES:RE Classes,Religious Exploration
END:VEVENT
BEGIN:VEVENT
DTSTART;TZID=America/New_York:20240428T160000
DTEND;TZID=America/New_York:20240428T171500
DTSTAMP:20260421T095136
CREATED:20240301T171912Z
LAST-MODIFIED:20240326T192310Z
UID:10001354-1714320000-1714324500@fuusn.org
SUMMARY:4-6th OWL Sessions
DESCRIPTION:
URL:https://fuusn.org/event/4-6th-owl-sessions-4/2024-04-28/
LOCATION:Downstairs Classrooms
CATEGORIES:RE Classes,Religious Exploration
END:VEVENT
END:VCALENDAR