BEGIN:VCALENDAR
VERSION:2.0
PRODID:-//First Unitarian Universalist Society in Newton - ECPv6.15.17.1//NONSGML v1.0//EN
CALSCALE:GREGORIAN
METHOD:PUBLISH
X-ORIGINAL-URL:https://fuusn.org
X-WR-CALDESC:Events for First Unitarian Universalist Society in Newton
REFRESH-INTERVAL;VALUE=DURATION:PT1H
X-Robots-Tag:noindex
X-PUBLISHED-TTL:PT1H
BEGIN:VTIMEZONE
TZID:America/New_York
BEGIN:DAYLIGHT
TZOFFSETFROM:-0500
TZOFFSETTO:-0400
TZNAME:EDT
DTSTART:20230312T070000
END:DAYLIGHT
BEGIN:STANDARD
TZOFFSETFROM:-0400
TZOFFSETTO:-0500
TZNAME:EST
DTSTART:20231105T060000
END:STANDARD
BEGIN:DAYLIGHT
TZOFFSETFROM:-0500
TZOFFSETTO:-0400
TZNAME:EDT
DTSTART:20240310T070000
END:DAYLIGHT
BEGIN:STANDARD
TZOFFSETFROM:-0400
TZOFFSETTO:-0500
TZNAME:EST
DTSTART:20241103T060000
END:STANDARD
BEGIN:DAYLIGHT
TZOFFSETFROM:-0500
TZOFFSETTO:-0400
TZNAME:EDT
DTSTART:20250309T070000
END:DAYLIGHT
BEGIN:STANDARD
TZOFFSETFROM:-0400
TZOFFSETTO:-0500
TZNAME:EST
DTSTART:20251102T060000
END:STANDARD
END:VTIMEZONE
BEGIN:VEVENT
DTSTART;TZID=America/New_York:20240505T101500
DTEND;TZID=America/New_York:20240505T113000
DTSTAMP:20260421T083054
CREATED:20230713T234234Z
LAST-MODIFIED:20230713T234234Z
UID:10000040-1714904100-1714908600@fuusn.org
SUMMARY:Spirit Circle: Mental Health Focus
DESCRIPTION:
URL:https://fuusn.org/event/spirit-circle-mental-health-focus/
CATEGORIES:RE Classes,Religious Exploration
END:VEVENT
BEGIN:VEVENT
DTSTART;TZID=America/New_York:20240505T160000
DTEND;TZID=America/New_York:20240505T171500
DTSTAMP:20260421T083054
CREATED:20240301T171912Z
LAST-MODIFIED:20240326T192310Z
UID:10001355-1714924800-1714929300@fuusn.org
SUMMARY:4-6th OWL Sessions
DESCRIPTION:
URL:https://fuusn.org/event/4-6th-owl-sessions-4/2024-05-05/
LOCATION:Downstairs Classrooms
CATEGORIES:RE Classes,Religious Exploration
END:VEVENT
BEGIN:VEVENT
DTSTART;TZID=America/New_York:20240505T170000
DTEND;TZID=America/New_York:20240505T193000
DTSTAMP:20260421T083054
CREATED:20240403T232924Z
LAST-MODIFIED:20240403T232929Z
UID:10000800-1714928400-1714937400@fuusn.org
SUMMARY:All8 Arts Workshop Series
DESCRIPTION:Once a month between October through May for two hours\, youth in 7th grade and older together with adults are invited to participate in an exploration of all eight UU principles through photography\, creative writing\, fine art\, collage\, digital art\, and sculpting. Members of our Racial Justice Ministry team will be facilitating this program. Preregistration required – no spots available.
URL:https://fuusn.org/event/all8-arts-workshop-series-3/2024-05-05/
LOCATION:Parish Hall and Kitchen
CATEGORIES:Classes,Religious Exploration
END:VEVENT
BEGIN:VEVENT
DTSTART;TZID=America/New_York:20240519T101500
DTEND;TZID=America/New_York:20240519T113000
DTSTAMP:20260421T083054
CREATED:20230713T235434Z
LAST-MODIFIED:20240513T144210Z
UID:10000045-1716113700-1716118200@fuusn.org
SUMMARY:All Ages Religious Exploration Sunday
DESCRIPTION:This year\, our RE Sunday will explore what it means to have a multi-generational community and intergenerational relationships. We’ll focus on the youngest among us\, by asking:  “What can we learn from children and youth?” and “How do we lift their voices and elevate their initiatives?” \nWe will hear from children and youth\, and we will celebrate our volunteers who make sure their voices are heard throughout the life and ministry of this congregation. We will also celebrate our high school seniors bridging to adulthood and recognize a college graduate. \nWe will hear about one youth-led initiative from Skye Larson and Skye’s friend Emily Riordan and their work helping Rosie’s Place. They will tell us more about their work and what they have done so far\, we will share the plate with Rosie’s Place\, and the youth group will sell baked goods and sandwiches during coffee hour to benefit Rosie’s Place.
URL:https://fuusn.org/event/all-ages-religious-exploration-sunday/
LOCATION:Sanctuary and Zoom
CATEGORIES:RE Classes,Religious Exploration,Sunday Services
END:VEVENT
BEGIN:VEVENT
DTSTART;TZID=America/New_York:20240520T173000
DTEND;TZID=America/New_York:20240520T183000
DTSTAMP:20260421T083054
CREATED:20231010T200022Z
LAST-MODIFIED:20231010T200022Z
UID:10000852-1716226200-1716229800@fuusn.org
SUMMARY:All8 Arts Facilitators Meeting
DESCRIPTION:scroll right  scroll left\n\n\nAll8 Arts Facilitator Meeting on the 3rd Monday of each month\, now through May
URL:https://fuusn.org/event/all8-arts-facilitators-meeting/2024-05-20/
LOCATION:Online
CATEGORIES:Religious Exploration
END:VEVENT
BEGIN:VEVENT
DTSTART;TZID=America/New_York:20240526T101500
DTEND;TZID=America/New_York:20240526T113000
DTSTAMP:20260421T083054
CREATED:20230713T234336Z
LAST-MODIFIED:20230713T234336Z
UID:10000041-1716718500-1716723000@fuusn.org
SUMMARY:Memorial Day: No Religious Exploration Classes
DESCRIPTION:
URL:https://fuusn.org/event/memorial-day-no-religious-exploration-classes/
CATEGORIES:RE Classes,Religious Exploration
END:VEVENT
BEGIN:VEVENT
DTSTART;TZID=America/New_York:20240531T183000
DTEND;TZID=America/New_York:20240531T200000
DTSTAMP:20260421T083054
CREATED:20240520T174107Z
LAST-MODIFIED:20240526T145056Z
UID:10002243-1717180200-1717185600@fuusn.org
SUMMARY:Candidating Week: Pizza Night with Youth Group and Candidates
DESCRIPTION:
URL:https://fuusn.org/event/candidating-week-pizza-night-with-youth-group-and-candidates/
LOCATION:FUUSN Parish Hall\, 1326 Washington St.\, West Newton\, MA\, 02465\, United States
CATEGORIES:Ministerial Search,Youth Group
END:VEVENT
END:VCALENDAR