BEGIN:VCALENDAR
VERSION:2.0
PRODID:-//First Unitarian Universalist Society in Newton - ECPv6.15.17.1//NONSGML v1.0//EN
CALSCALE:GREGORIAN
METHOD:PUBLISH
X-WR-CALNAME:First Unitarian Universalist Society in Newton
X-ORIGINAL-URL:https://fuusn.org
X-WR-CALDESC:Events for First Unitarian Universalist Society in Newton
REFRESH-INTERVAL;VALUE=DURATION:PT1H
X-Robots-Tag:noindex
X-PUBLISHED-TTL:PT1H
BEGIN:VTIMEZONE
TZID:America/New_York
BEGIN:DAYLIGHT
TZOFFSETFROM:-0500
TZOFFSETTO:-0400
TZNAME:EDT
DTSTART:20230312T070000
END:DAYLIGHT
BEGIN:STANDARD
TZOFFSETFROM:-0400
TZOFFSETTO:-0500
TZNAME:EST
DTSTART:20231105T060000
END:STANDARD
BEGIN:DAYLIGHT
TZOFFSETFROM:-0500
TZOFFSETTO:-0400
TZNAME:EDT
DTSTART:20240310T070000
END:DAYLIGHT
BEGIN:STANDARD
TZOFFSETFROM:-0400
TZOFFSETTO:-0500
TZNAME:EST
DTSTART:20241103T060000
END:STANDARD
BEGIN:DAYLIGHT
TZOFFSETFROM:-0500
TZOFFSETTO:-0400
TZNAME:EDT
DTSTART:20250309T070000
END:DAYLIGHT
BEGIN:STANDARD
TZOFFSETFROM:-0400
TZOFFSETTO:-0500
TZNAME:EST
DTSTART:20251102T060000
END:STANDARD
END:VTIMEZONE
BEGIN:VEVENT
DTSTART;TZID=America/New_York:20240107T101500
DTEND;TZID=America/New_York:20240107T113000
DTSTAMP:20260421T150947
CREATED:20230713T232745Z
LAST-MODIFIED:20230713T232745Z
UID:10000032-1704622500-1704627000@fuusn.org
SUMMARY:Spirit Circle: Racial Justice Focus
DESCRIPTION:
URL:https://fuusn.org/event/spirit-circle-racial-justice-focus/
CATEGORIES:RE Classes,Religious Exploration
END:VEVENT
BEGIN:VEVENT
DTSTART;TZID=America/New_York:20240107T160000
DTEND;TZID=America/New_York:20240107T173000
DTSTAMP:20260421T150947
CREATED:20230905T174539Z
LAST-MODIFIED:20240104T192133Z
UID:10000669-1704643200-1704648600@fuusn.org
SUMMARY:Parent Orientation OWL 4-6th
DESCRIPTION:
URL:https://fuusn.org/event/parent-orientation-owl-4-6th/
LOCATION:Chapel and Nursery
CATEGORIES:Training
END:VEVENT
BEGIN:VEVENT
DTSTART;TZID=America/New_York:20240107T170000
DTEND;TZID=America/New_York:20240107T193000
DTSTAMP:20260421T150947
CREATED:20240106T204742Z
LAST-MODIFIED:20240106T204757Z
UID:10000796-1704646800-1704655800@fuusn.org
SUMMARY:All8 Arts Workshop Series
DESCRIPTION:Once a month between October through May for two hours\, youth in 7th grade and older together with adults are invited to participate in an exploration of all eight UU principles through photography\, creative writing\, fine art\, collage\, digital art\, and sculpting. Members of our Racial Justice Ministry team will be facilitating this program.
URL:https://fuusn.org/event/all8-arts-workshop-series-2/
LOCATION:Parish Hall and Kitchen
CATEGORIES:Classes,Religious Exploration
END:VEVENT
BEGIN:VEVENT
DTSTART;TZID=America/New_York:20240108T190000
DTEND;TZID=America/New_York:20240108T210000
DTSTAMP:20260421T150947
CREATED:20230904T132702Z
LAST-MODIFIED:20240104T192007Z
UID:10000655-1704740400-1704747600@fuusn.org
SUMMARY:Mandatory Legal Guardian Orientation
DESCRIPTION:
URL:https://fuusn.org/event/mandatory-legal-guardian-orientation/
LOCATION:FUUSN Kitchen
CATEGORIES:Training
END:VEVENT
BEGIN:VEVENT
DTSTART;TZID=America/New_York:20240114T101500
DTEND;TZID=America/New_York:20240114T113000
DTSTAMP:20260421T150947
CREATED:20230713T232842Z
LAST-MODIFIED:20230713T232842Z
UID:10000033-1705227300-1705231800@fuusn.org
SUMMARY:Day of Service for All Religious Exploration Classes
DESCRIPTION:
URL:https://fuusn.org/event/day-of-service-for-all-religious-exploration-classes/
CATEGORIES:RE Classes,Religious Exploration
END:VEVENT
BEGIN:VEVENT
DTSTART;TZID=America/New_York:20240115T173000
DTEND;TZID=America/New_York:20240115T183000
DTSTAMP:20260421T150947
CREATED:20231010T200022Z
LAST-MODIFIED:20231010T200022Z
UID:10000848-1705339800-1705343400@fuusn.org
SUMMARY:All8 Arts Facilitators Meeting
DESCRIPTION:scroll right  scroll left\n\n\nAll8 Arts Facilitator Meeting on the 3rd Monday of each month\, now through May
URL:https://fuusn.org/event/all8-arts-facilitators-meeting/2024-01-15/
LOCATION:Online
CATEGORIES:Religious Exploration
END:VEVENT
BEGIN:VEVENT
DTSTART;TZID=America/New_York:20240121T160000
DTEND;TZID=America/New_York:20240121T173000
DTSTAMP:20260421T150947
CREATED:20230905T174707Z
LAST-MODIFIED:20230905T174836Z
UID:10000670-1705852800-1705858200@fuusn.org
SUMMARY:Parent Orientation OWL 4-6 (Snowdate)
DESCRIPTION:
URL:https://fuusn.org/event/parent-orientation-owl-4-6-snowdate/
LOCATION:Chapel and Nursery
CATEGORIES:Training
END:VEVENT
BEGIN:VEVENT
DTSTART;TZID=America/New_York:20240204T101500
DTEND;TZID=America/New_York:20240204T113000
DTSTAMP:20260421T150947
CREATED:20230713T233521Z
LAST-MODIFIED:20230713T233521Z
UID:10000034-1707041700-1707046200@fuusn.org
SUMMARY:Spirit Circle: Unhoused Community Focus
DESCRIPTION:
URL:https://fuusn.org/event/spirit-circle-unhoused-community-focus/
CATEGORIES:RE Classes,Religious Exploration
END:VEVENT
BEGIN:VEVENT
DTSTART;TZID=America/New_York:20240204T160000
DTEND;TZID=America/New_York:20240204T171500
DTSTAMP:20260421T150947
CREATED:20230905T180555Z
LAST-MODIFIED:20240202T214029Z
UID:10000674-1707062400-1707066900@fuusn.org
SUMMARY:4th-6th OWL Sessions
DESCRIPTION:
URL:https://fuusn.org/event/4th-6th-owl-sessions/2024-02-04/
LOCATION:Downstairs Classrooms
CATEGORIES:RE Classes
END:VEVENT
BEGIN:VEVENT
DTSTART;TZID=America/New_York:20240204T160000
DTEND;TZID=America/New_York:20240204T183000
DTSTAMP:20260421T150947
CREATED:20230905T175139Z
LAST-MODIFIED:20230905T175139Z
UID:10000671-1707062400-1707071400@fuusn.org
SUMMARY:Parent and Child Meeting
DESCRIPTION:
URL:https://fuusn.org/event/parent-and-child-meeting/
LOCATION:Alliance Room\, 1326 Washington St.\, West Newton\, MA\, 02465\, United States
CATEGORIES:Training
END:VEVENT
BEGIN:VEVENT
DTSTART;TZID=America/New_York:20240204T170000
DTEND;TZID=America/New_York:20240204T193000
DTSTAMP:20260421T150947
CREATED:20230816T175519Z
LAST-MODIFIED:20230927T174329Z
UID:10000797-1707066000-1707075000@fuusn.org
SUMMARY:All8 Arts Workshop Series
DESCRIPTION:Once a month between October through May for two hours\, youth in 7th grade and older together with adults are invited to participate in an exploration of all eight UU principles through photography\, creative writing\, fine art\, collage\, digital art\, and sculpting. Members of our Racial Justice Ministry team will be facilitating this program.
URL:https://fuusn.org/event/all8-arts-workshop-series/2024-02-04/
LOCATION:Parish Hall and Kitchen
CATEGORIES:Classes,Religious Exploration
END:VEVENT
BEGIN:VEVENT
DTSTART;TZID=America/New_York:20240208T180000
DTEND;TZID=America/New_York:20240208T193000
DTSTAMP:20260421T150947
CREATED:20240207T194227Z
LAST-MODIFIED:20240207T194230Z
UID:10000829-1707415200-1707420600@fuusn.org
SUMMARY:RE Committee Meeting
DESCRIPTION:scroll right  scroll left\n\n\nThis is a recurring meeting on the 2nd Thursday of the month from 6:00-7:30 for the RE Committee.
URL:https://fuusn.org/event/re-committee-meeting-2/
LOCATION:Online
CATEGORIES:Religious Exploration
END:VEVENT
BEGIN:VEVENT
DTSTART;TZID=America/New_York:20240218T101500
DTEND;TZID=America/New_York:20240218T113000
DTSTAMP:20260421T150947
CREATED:20230713T233636Z
LAST-MODIFIED:20230713T233636Z
UID:10000035-1708251300-1708255800@fuusn.org
SUMMARY:February Break - No Religious Exploration
DESCRIPTION:
URL:https://fuusn.org/event/february-break-no-religious-exploration/
CATEGORIES:RE Classes,Religious Exploration
END:VEVENT
BEGIN:VEVENT
DTSTART;TZID=America/New_York:20240219T173000
DTEND;TZID=America/New_York:20240219T183000
DTSTAMP:20260421T150947
CREATED:20231010T200022Z
LAST-MODIFIED:20231010T200022Z
UID:10000849-1708363800-1708367400@fuusn.org
SUMMARY:All8 Arts Facilitators Meeting
DESCRIPTION:scroll right  scroll left\n\n\nAll8 Arts Facilitator Meeting on the 3rd Monday of each month\, now through May
URL:https://fuusn.org/event/all8-arts-facilitators-meeting/2024-02-19/
LOCATION:Online
CATEGORIES:Religious Exploration
END:VEVENT
BEGIN:VEVENT
DTSTART;TZID=America/New_York:20240225T160000
DTEND;TZID=America/New_York:20240225T171500
DTSTAMP:20260421T150947
CREATED:20240220T145134Z
LAST-MODIFIED:20240221T201811Z
UID:10000677-1708876800-1708881300@fuusn.org
SUMMARY:4-6th OWL Sessions - at First Parish in Waltham
DESCRIPTION:
URL:https://fuusn.org/event/4-6th-owl-sessions-2/
LOCATION:First Parish in Waltham\, 50 Church St.\, Waltham\, MA\, 02452\, United States
CATEGORIES:Classes,RE Classes,Religious Exploration
END:VEVENT
BEGIN:VEVENT
DTSTART;TZID=America/New_York:20240228T180000
DTEND;TZID=America/New_York:20240228T193000
DTSTAMP:20260421T150947
CREATED:20240123T144859Z
LAST-MODIFIED:20240220T165249Z
UID:10001188-1709143200-1709148600@fuusn.org
SUMMARY:Bible Study for Unitarian Universalists
DESCRIPTION:In this six-session series led by Rev. Parisa and Devin Shmueli\, we will explore especially the stories in Genesis that appear in the scriptures of Judaism\, Christianity and Islam. We’ll begin with an conversation about what the Bible means for Unitarian Universalists\, as well as how to engage the texts and translations\, and then dive into the stories together. No previous experience with reading the Bible is necessary\, just a curiosity and willingness to engage! \nWe will offer a simple supper with each session.
URL:https://fuusn.org/event/bible-study/2024-02-28/
LOCATION:FUUSN Kitchen and Alliance Room\, 1326 Washington ST\, Newton\, MA\, 02465
CATEGORIES:Adult Classes
END:VEVENT
BEGIN:VEVENT
DTSTART;TZID=America/New_York:20240303T101500
DTEND;TZID=America/New_York:20240303T233000
DTSTAMP:20260421T150947
CREATED:20230713T233748Z
LAST-MODIFIED:20240301T162416Z
UID:10000036-1709460900-1709508600@fuusn.org
SUMMARY:All Together Sunday: Prayer Beads
DESCRIPTION:Today\, our Children and Youth will think about prayer through a lens of gratitude and forgiveness\, as well as their hopes for themselves and the world. They will learn about the spiritual practice of prayer beads from Pat Rohan and Stephanie St. Pierre (who both have Catholic roots) and make a UUified prayer bead bracelet for themselves.
URL:https://fuusn.org/event/spirit-circle-self-reflection-lent-focus/
CATEGORIES:RE Classes,Religious Exploration
END:VEVENT
BEGIN:VEVENT
DTSTART;TZID=America/New_York:20240303T160000
DTEND;TZID=America/New_York:20240303T171500
DTSTAMP:20260421T150947
CREATED:20240301T171912Z
LAST-MODIFIED:20240326T192310Z
UID:10000678-1709481600-1709486100@fuusn.org
SUMMARY:4-6th OWL Sessions
DESCRIPTION:
URL:https://fuusn.org/event/4-6th-owl-sessions-4/2024-03-03/
LOCATION:Downstairs Classrooms
CATEGORIES:RE Classes,Religious Exploration
END:VEVENT
BEGIN:VEVENT
DTSTART;TZID=America/New_York:20240303T170000
DTEND;TZID=America/New_York:20240303T193000
DTSTAMP:20260421T150947
CREATED:20230816T175519Z
LAST-MODIFIED:20230927T174329Z
UID:10000798-1709485200-1709494200@fuusn.org
SUMMARY:All8 Arts Workshop Series
DESCRIPTION:Once a month between October through May for two hours\, youth in 7th grade and older together with adults are invited to participate in an exploration of all eight UU principles through photography\, creative writing\, fine art\, collage\, digital art\, and sculpting. Members of our Racial Justice Ministry team will be facilitating this program.
URL:https://fuusn.org/event/all8-arts-workshop-series/2024-03-03/
LOCATION:Parish Hall and Kitchen
CATEGORIES:Classes,Religious Exploration
END:VEVENT
BEGIN:VEVENT
DTSTART;TZID=America/New_York:20240306T180000
DTEND;TZID=America/New_York:20240306T193000
DTSTAMP:20260421T150947
CREATED:20240123T144859Z
LAST-MODIFIED:20240220T165249Z
UID:10001334-1709748000-1709753400@fuusn.org
SUMMARY:Bible Study for Unitarian Universalists
DESCRIPTION:In this six-session series led by Rev. Parisa and Devin Shmueli\, we will explore especially the stories in Genesis that appear in the scriptures of Judaism\, Christianity and Islam. We’ll begin with an conversation about what the Bible means for Unitarian Universalists\, as well as how to engage the texts and translations\, and then dive into the stories together. No previous experience with reading the Bible is necessary\, just a curiosity and willingness to engage! \nWe will offer a simple supper with each session.
URL:https://fuusn.org/event/bible-study/2024-03-06/
LOCATION:FUUSN Kitchen and Alliance Room\, 1326 Washington ST\, Newton\, MA\, 02465
CATEGORIES:Adult Classes
END:VEVENT
BEGIN:VEVENT
DTSTART;TZID=America/New_York:20240310T160000
DTEND;TZID=America/New_York:20240310T171500
DTSTAMP:20260421T150947
CREATED:20240301T171912Z
LAST-MODIFIED:20240326T192310Z
UID:10001349-1710086400-1710090900@fuusn.org
SUMMARY:4-6th OWL Sessions
DESCRIPTION:
URL:https://fuusn.org/event/4-6th-owl-sessions-4/2024-03-10/
LOCATION:Downstairs Classrooms
CATEGORIES:RE Classes,Religious Exploration
END:VEVENT
BEGIN:VEVENT
DTSTART;TZID=America/New_York:20240313T180000
DTEND;TZID=America/New_York:20240313T193000
DTSTAMP:20260421T150947
CREATED:20240123T144859Z
LAST-MODIFIED:20240220T165249Z
UID:10001335-1710352800-1710358200@fuusn.org
SUMMARY:Bible Study for Unitarian Universalists
DESCRIPTION:In this six-session series led by Rev. Parisa and Devin Shmueli\, we will explore especially the stories in Genesis that appear in the scriptures of Judaism\, Christianity and Islam. We’ll begin with an conversation about what the Bible means for Unitarian Universalists\, as well as how to engage the texts and translations\, and then dive into the stories together. No previous experience with reading the Bible is necessary\, just a curiosity and willingness to engage! \nWe will offer a simple supper with each session.
URL:https://fuusn.org/event/bible-study/2024-03-13/
LOCATION:FUUSN Kitchen and Alliance Room\, 1326 Washington ST\, Newton\, MA\, 02465
CATEGORIES:Adult Classes
END:VEVENT
BEGIN:VEVENT
DTSTART;TZID=America/New_York:20240317T160000
DTEND;TZID=America/New_York:20240317T171500
DTSTAMP:20260421T150947
CREATED:20240301T171912Z
LAST-MODIFIED:20240326T192310Z
UID:10001350-1710691200-1710695700@fuusn.org
SUMMARY:4-6th OWL Sessions
DESCRIPTION:
URL:https://fuusn.org/event/4-6th-owl-sessions-4/2024-03-17/
LOCATION:Downstairs Classrooms
CATEGORIES:RE Classes,Religious Exploration
END:VEVENT
BEGIN:VEVENT
DTSTART;TZID=America/New_York:20240318T173000
DTEND;TZID=America/New_York:20240318T183000
DTSTAMP:20260421T150947
CREATED:20231010T200022Z
LAST-MODIFIED:20231010T200022Z
UID:10000850-1710783000-1710786600@fuusn.org
SUMMARY:All8 Arts Facilitators Meeting
DESCRIPTION:scroll right  scroll left\n\n\nAll8 Arts Facilitator Meeting on the 3rd Monday of each month\, now through May
URL:https://fuusn.org/event/all8-arts-facilitators-meeting/2024-03-18/
LOCATION:Online
CATEGORIES:Religious Exploration
END:VEVENT
BEGIN:VEVENT
DTSTART;TZID=America/New_York:20240320T180000
DTEND;TZID=America/New_York:20240320T193000
DTSTAMP:20260421T150947
CREATED:20240123T144859Z
LAST-MODIFIED:20240220T165249Z
UID:10001336-1710957600-1710963000@fuusn.org
SUMMARY:Bible Study for Unitarian Universalists
DESCRIPTION:In this six-session series led by Rev. Parisa and Devin Shmueli\, we will explore especially the stories in Genesis that appear in the scriptures of Judaism\, Christianity and Islam. We’ll begin with an conversation about what the Bible means for Unitarian Universalists\, as well as how to engage the texts and translations\, and then dive into the stories together. No previous experience with reading the Bible is necessary\, just a curiosity and willingness to engage! \nWe will offer a simple supper with each session.
URL:https://fuusn.org/event/bible-study/2024-03-20/
LOCATION:FUUSN Kitchen and Alliance Room\, 1326 Washington ST\, Newton\, MA\, 02465
CATEGORIES:Adult Classes
END:VEVENT
BEGIN:VEVENT
DTSTART;TZID=America/New_York:20240324T160000
DTEND;TZID=America/New_York:20240324T171500
DTSTAMP:20260421T150947
CREATED:20240301T171912Z
LAST-MODIFIED:20240326T192310Z
UID:10001351-1711296000-1711300500@fuusn.org
SUMMARY:4-6th OWL Sessions
DESCRIPTION:
URL:https://fuusn.org/event/4-6th-owl-sessions-4/2024-03-24/
LOCATION:Downstairs Classrooms
CATEGORIES:RE Classes,Religious Exploration
END:VEVENT
BEGIN:VEVENT
DTSTART;TZID=America/New_York:20240327T180000
DTEND;TZID=America/New_York:20240327T193000
DTSTAMP:20260421T150947
CREATED:20240123T144859Z
LAST-MODIFIED:20240220T165249Z
UID:10001337-1711562400-1711567800@fuusn.org
SUMMARY:Bible Study for Unitarian Universalists
DESCRIPTION:In this six-session series led by Rev. Parisa and Devin Shmueli\, we will explore especially the stories in Genesis that appear in the scriptures of Judaism\, Christianity and Islam. We’ll begin with an conversation about what the Bible means for Unitarian Universalists\, as well as how to engage the texts and translations\, and then dive into the stories together. No previous experience with reading the Bible is necessary\, just a curiosity and willingness to engage! \nWe will offer a simple supper with each session.
URL:https://fuusn.org/event/bible-study/2024-03-27/
LOCATION:FUUSN Kitchen and Alliance Room\, 1326 Washington ST\, Newton\, MA\, 02465
CATEGORIES:Adult Classes
END:VEVENT
BEGIN:VEVENT
DTSTART;TZID=America/New_York:20240331T101500
DTEND;TZID=America/New_York:20240331T113000
DTSTAMP:20260421T150947
CREATED:20230713T235328Z
LAST-MODIFIED:20240322T154707Z
UID:10000044-1711880100-1711884600@fuusn.org
SUMMARY:Sacred Surprises
DESCRIPTION:Rev. Parisa Parsa\, Devin Shmueli\, and Anne Watson Born \n \nOur Easter service for all ages will celebrate the miracle and wonder of life in story and song! \nChildren of all ages are invited to join in our annual Easter Egg Hunt immediately following our 10:15 am intergenerational service. Please meet us in the Parish Hall to pick up a basket prior to the hunt which will be held on the FUUSN playground. All candy will be nut-free.
URL:https://fuusn.org/event/all-ages-easter-service/
LOCATION:Sanctuary and Zoom
CATEGORIES:Online Services,Public Events,Religious Exploration,Sunday Services
ORGANIZER;CN="Rev. Parisa Parsa":MAILTO:parisa@fuusn.org
END:VEVENT
BEGIN:VEVENT
DTSTART;TZID=America/New_York:20240403T180000
DTEND;TZID=America/New_York:20240403T180000
DTSTAMP:20260421T150947
CREATED:20240322T180117Z
LAST-MODIFIED:20240322T180443Z
UID:10001338-1712167200-1712167200@fuusn.org
SUMMARY:Bible Study for Unitarian Universalists
DESCRIPTION:In this six-session series led by Rev. Parisa and Devin Shmueli\, we will explore especially the stories in Genesis that appear in the scriptures of Judaism\, Christianity and Islam. We’ll begin with an conversation about what the Bible means for Unitarian Universalists\, as well as how to engage the texts and translations\, and then dive into the stories together. No previous experience with reading the Bible is necessary\, just a curiosity and willingness to engage! \nWe will offer a simple supper with each session.
URL:https://fuusn.org/event/bible-study-2/
LOCATION:FUUSN Kitchen and Alliance Room\, 1326 Washington ST\, Newton\, MA\, 02465
CATEGORIES:Adult Classes
END:VEVENT
BEGIN:VEVENT
DTSTART;TZID=America/New_York:20240407T101500
DTEND;TZID=America/New_York:20240407T113000
DTSTAMP:20260421T150947
CREATED:20230713T233908Z
LAST-MODIFIED:20230713T233908Z
UID:10000037-1712484900-1712489400@fuusn.org
SUMMARY:Spirit Circle: Environment Focus
DESCRIPTION:
URL:https://fuusn.org/event/spirit-circle-environment-focus/
CATEGORIES:RE Classes,Religious Exploration
END:VEVENT
END:VCALENDAR