BEGIN:VCALENDAR
VERSION:2.0
PRODID:-//First Unitarian Universalist Society in Newton - ECPv6.15.17.1//NONSGML v1.0//EN
CALSCALE:GREGORIAN
METHOD:PUBLISH
X-ORIGINAL-URL:https://fuusn.org
X-WR-CALDESC:Events for First Unitarian Universalist Society in Newton
REFRESH-INTERVAL;VALUE=DURATION:PT1H
X-Robots-Tag:noindex
X-PUBLISHED-TTL:PT1H
BEGIN:VTIMEZONE
TZID:America/New_York
BEGIN:DAYLIGHT
TZOFFSETFROM:-0500
TZOFFSETTO:-0400
TZNAME:EDT
DTSTART:20220313T070000
END:DAYLIGHT
BEGIN:STANDARD
TZOFFSETFROM:-0400
TZOFFSETTO:-0500
TZNAME:EST
DTSTART:20221106T060000
END:STANDARD
BEGIN:DAYLIGHT
TZOFFSETFROM:-0500
TZOFFSETTO:-0400
TZNAME:EDT
DTSTART:20230312T070000
END:DAYLIGHT
BEGIN:STANDARD
TZOFFSETFROM:-0400
TZOFFSETTO:-0500
TZNAME:EST
DTSTART:20231105T060000
END:STANDARD
BEGIN:DAYLIGHT
TZOFFSETFROM:-0500
TZOFFSETTO:-0400
TZNAME:EDT
DTSTART:20240310T070000
END:DAYLIGHT
BEGIN:STANDARD
TZOFFSETFROM:-0400
TZOFFSETTO:-0500
TZNAME:EST
DTSTART:20241103T060000
END:STANDARD
BEGIN:DAYLIGHT
TZOFFSETFROM:-0500
TZOFFSETTO:-0400
TZNAME:EDT
DTSTART:20250309T070000
END:DAYLIGHT
BEGIN:STANDARD
TZOFFSETFROM:-0400
TZOFFSETTO:-0500
TZNAME:EST
DTSTART:20251102T060000
END:STANDARD
BEGIN:DAYLIGHT
TZOFFSETFROM:-0500
TZOFFSETTO:-0400
TZNAME:EDT
DTSTART:20260308T070000
END:DAYLIGHT
BEGIN:STANDARD
TZOFFSETFROM:-0400
TZOFFSETTO:-0500
TZNAME:EST
DTSTART:20261101T060000
END:STANDARD
END:VTIMEZONE
BEGIN:VEVENT
DTSTART;TZID=America/New_York:20250323T090000
DTEND;TZID=America/New_York:20250323T100000
DTSTAMP:20260423T155126
CREATED:20250307T190118Z
LAST-MODIFIED:20250307T190118Z
UID:10003784-1742720400-1742724000@fuusn.org
SUMMARY:High School Youth Group Breakfast Club
DESCRIPTION:The youth group will gather for breakfast to reconnect\, brainstorm ideas for the remainder of the 2024-2025 program year\, and think ahead to the 2025-2026 program year.
URL:https://fuusn.org/event/high-school-youth-group-breakfast-club/
LOCATION:Downstairs Classrooms
CATEGORIES:Youth Group
END:VEVENT
BEGIN:VEVENT
DTSTART;TZID=America/New_York:20250104T180000
DTEND;TZID=America/New_York:20250104T200000
DTSTAMP:20260423T155126
CREATED:20241218T202744Z
LAST-MODIFIED:20250103T183634Z
UID:10003599-1736013600-1736020800@fuusn.org
SUMMARY:Junior Youth Group New Year's Party
DESCRIPTION:On Saturday\, January 4th\, 2025 from 6:00 PM to 8:00 PM\, our Junior Youth Group (6th-8th Grade) will ring in the new year with new and old friends from First Parish in Waltham held at First Parish in Waltham. There will be a pizza dinner\, build your own ice cream sundae bar\, and games! Please RSVP to Devin if your youth would like to attend.
URL:https://fuusn.org/event/junior-youth-group-new-years-party/
LOCATION:First Parish in Waltham\, 50 Church St.\, Waltham\, MA\, 02452\, United States
CATEGORIES:Front Page,Religious Exploration,Social Events,Youth Group
END:VEVENT
BEGIN:VEVENT
DTSTART;TZID=America/New_York:20240531T183000
DTEND;TZID=America/New_York:20240531T200000
DTSTAMP:20260423T155126
CREATED:20240520T174107Z
LAST-MODIFIED:20240526T145056Z
UID:10002243-1717180200-1717185600@fuusn.org
SUMMARY:Candidating Week: Pizza Night with Youth Group and Candidates
DESCRIPTION:
URL:https://fuusn.org/event/candidating-week-pizza-night-with-youth-group-and-candidates/
LOCATION:FUUSN Parish Hall\, 1326 Washington St.\, West Newton\, MA\, 02465\, United States
CATEGORIES:Ministerial Search,Youth Group
END:VEVENT
BEGIN:VEVENT
DTSTART;TZID=America/New_York:20231201T193000
DTEND;TZID=America/New_York:20231201T213000
DTSTAMP:20260423T155126
CREATED:20231008T134040Z
LAST-MODIFIED:20231010T202621Z
UID:10000824-1701459000-1701466200@fuusn.org
SUMMARY:Youth Baking Cookies
DESCRIPTION:FUUSN Youth will be baking cookies to sell at the Holiday Fair
URL:https://fuusn.org/event/youth-baking-cookies/
LOCATION:Headstart Room
CATEGORIES:Youth Group
END:VEVENT
BEGIN:VEVENT
DTSTART;TZID=America/New_York:20230929T190000
DTEND;TZID=America/New_York:20230929T210000
DTSTAMP:20260423T155126
CREATED:20230926T200621Z
LAST-MODIFIED:20230926T200758Z
UID:10000724-1696014000-1696021200@fuusn.org
SUMMARY:Youth Group S'mores Night
DESCRIPTION:On Friday\, September 29th\, 2023\, our Youth Group (9th-12th Grades) will have a S’mores Night from 7:00 PM to 9:00 PM at FUUSN. In case of rain\, we will reschedule to a later date.
URL:https://fuusn.org/event/youth-group-smores-night/
LOCATION:Location TBA\, MA
CATEGORIES:RE Classes,Youth Group
END:VEVENT
END:VCALENDAR