BEGIN:VCALENDAR
VERSION:2.0
PRODID:-//First Unitarian Universalist Society in Newton - ECPv6.15.17.1//NONSGML v1.0//EN
CALSCALE:GREGORIAN
METHOD:PUBLISH
X-WR-CALNAME:First Unitarian Universalist Society in Newton
X-ORIGINAL-URL:https://fuusn.org
X-WR-CALDESC:Events for First Unitarian Universalist Society in Newton
REFRESH-INTERVAL;VALUE=DURATION:PT1H
X-Robots-Tag:noindex
X-PUBLISHED-TTL:PT1H
BEGIN:VTIMEZONE
TZID:America/New_York
BEGIN:DAYLIGHT
TZOFFSETFROM:-0500
TZOFFSETTO:-0400
TZNAME:EDT
DTSTART:20240310T070000
END:DAYLIGHT
BEGIN:STANDARD
TZOFFSETFROM:-0400
TZOFFSETTO:-0500
TZNAME:EST
DTSTART:20241103T060000
END:STANDARD
BEGIN:DAYLIGHT
TZOFFSETFROM:-0500
TZOFFSETTO:-0400
TZNAME:EDT
DTSTART:20250309T070000
END:DAYLIGHT
BEGIN:STANDARD
TZOFFSETFROM:-0400
TZOFFSETTO:-0500
TZNAME:EST
DTSTART:20251102T060000
END:STANDARD
BEGIN:DAYLIGHT
TZOFFSETFROM:-0500
TZOFFSETTO:-0400
TZNAME:EDT
DTSTART:20260308T070000
END:DAYLIGHT
BEGIN:STANDARD
TZOFFSETFROM:-0400
TZOFFSETTO:-0500
TZNAME:EST
DTSTART:20261101T060000
END:STANDARD
END:VTIMEZONE
BEGIN:VEVENT
DTSTART;TZID=America/New_York:20250904T160000
DTEND;TZID=America/New_York:20250904T170000
DTSTAMP:20260424T162042
CREATED:20241001T161041Z
LAST-MODIFIED:20241001T161059Z
UID:10003415-1757001600-1757005200@fuusn.org
SUMMARY:Over 60s Zoom Meetup
DESCRIPTION:
URL:https://fuusn.org/event/over-60s-zoom-meetup-2-2/2025-09-04/
LOCATION:Online
CATEGORIES:Over 60s,Social Events
END:VEVENT
BEGIN:VEVENT
DTSTART;TZID=America/New_York:20250905T100000
DTEND;TZID=America/New_York:20250905T110000
DTSTAMP:20260424T162042
CREATED:20250511T134722Z
LAST-MODIFIED:20250511T134730Z
UID:10003832-1757066400-1757070000@fuusn.org
SUMMARY:Over 60s Walking Group
DESCRIPTION:First Friday of Month: Cutler Park\nMeet at Parking Lot at 84 Kendrick St\, Needham Heights\, MA 02494 \nSecond Friday of the month: Ware Cove/Flower Meadow\, Auburndale\nMeet at the parking lot at end of West Pine Street (104) \nThird Friday of the month: Hammond Pond Reservation/Webster Woods\nMeet at parking lot behind Chestnut Hill Shopping Center before Container Store. Hammond Pond Pkwy north from Rt 9. FIRST left after entering shopping center from Hammond Park Pkwy. Go to end of parking lot and entrance to the Reservation is straight ahead. The pond is on your right. Park anywhere. \nFourth Friday of Month: Kennard Park/Lost Pond\nMeet at Kennard parking lot\, 246 Dudley Road\, Newton \nIf Fifth Friday of month: Cutler Park\nFrom December- March- ALL walks are at the Newton Cemetery\nFor more information\, contact Ruth Comstock 617-571-4945 .
URL:https://fuusn.org/event/over-60s-walking-group-2/2025-09-05/
CATEGORIES:Over 60s,Social Events
ORGANIZER;CN="Ruth Comstock":MAILTO:ruthcomstock1@gmail.com
END:VEVENT
BEGIN:VEVENT
DTSTART;TZID=America/New_York:20250912T100000
DTEND;TZID=America/New_York:20250912T110000
DTSTAMP:20260424T162042
CREATED:20250511T134722Z
LAST-MODIFIED:20250511T134730Z
UID:10003833-1757671200-1757674800@fuusn.org
SUMMARY:Over 60s Walking Group
DESCRIPTION:First Friday of Month: Cutler Park\nMeet at Parking Lot at 84 Kendrick St\, Needham Heights\, MA 02494 \nSecond Friday of the month: Ware Cove/Flower Meadow\, Auburndale\nMeet at the parking lot at end of West Pine Street (104) \nThird Friday of the month: Hammond Pond Reservation/Webster Woods\nMeet at parking lot behind Chestnut Hill Shopping Center before Container Store. Hammond Pond Pkwy north from Rt 9. FIRST left after entering shopping center from Hammond Park Pkwy. Go to end of parking lot and entrance to the Reservation is straight ahead. The pond is on your right. Park anywhere. \nFourth Friday of Month: Kennard Park/Lost Pond\nMeet at Kennard parking lot\, 246 Dudley Road\, Newton \nIf Fifth Friday of month: Cutler Park\nFrom December- March- ALL walks are at the Newton Cemetery\nFor more information\, contact Ruth Comstock 617-571-4945 .
URL:https://fuusn.org/event/over-60s-walking-group-2/2025-09-12/
CATEGORIES:Over 60s,Social Events
ORGANIZER;CN="Ruth Comstock":MAILTO:ruthcomstock1@gmail.com
END:VEVENT
BEGIN:VEVENT
DTSTART;TZID=America/New_York:20250912T173000
DTEND;TZID=America/New_York:20250912T203000
DTSTAMP:20260424T162042
CREATED:20250903T131203Z
LAST-MODIFIED:20250903T131203Z
UID:10004352-1757698200-1757709000@fuusn.org
SUMMARY:Parents' Night Out
DESCRIPTION:Free Childcare for ages 6mo. through 5th grade (6th and 7th graders become helpers!) at FUUSN once a month. Reserve space for your kids today and plan that date night! RSVP Required.  Visit our webpage for more information.
URL:https://fuusn.org/event/parents-night-out-5/2025-09-12/
LOCATION:Parish Hall\, Chapel\, Nursery and Kitchen
CATEGORIES:Social Events
END:VEVENT
BEGIN:VEVENT
DTSTART;TZID=America/New_York:20250914T180000
DTEND;TZID=America/New_York:20250914T200000
DTSTAMP:20260424T162042
CREATED:20250826T135715Z
LAST-MODIFIED:20250826T135715Z
UID:10004390-1757872800-1757880000@fuusn.org
SUMMARY:UU Plant-Based Eating Club - Small Group Potlucks
DESCRIPTION:Intimate potlucks of 6 – 10 Plant-Based Eating Club members at members’ homes. Bring a plant-based\, whole foods dish to share (no animal products/ingredients including eggs\, cheese\, dairy). \nPlease visit the UU Plant-Based Eating Club webpage for more information.
URL:https://fuusn.org/event/uu-plant-based-eating-club-small-group-potlucks-6/2025-09-14/
LOCATION:Members’ Home TBA
CATEGORIES:Plant-Based Eating Club
END:VEVENT
BEGIN:VEVENT
DTSTART;TZID=America/New_York:20250919T100000
DTEND;TZID=America/New_York:20250919T110000
DTSTAMP:20260424T162042
CREATED:20250511T134722Z
LAST-MODIFIED:20250511T134730Z
UID:10003834-1758276000-1758279600@fuusn.org
SUMMARY:Over 60s Walking Group
DESCRIPTION:First Friday of Month: Cutler Park\nMeet at Parking Lot at 84 Kendrick St\, Needham Heights\, MA 02494 \nSecond Friday of the month: Ware Cove/Flower Meadow\, Auburndale\nMeet at the parking lot at end of West Pine Street (104) \nThird Friday of the month: Hammond Pond Reservation/Webster Woods\nMeet at parking lot behind Chestnut Hill Shopping Center before Container Store. Hammond Pond Pkwy north from Rt 9. FIRST left after entering shopping center from Hammond Park Pkwy. Go to end of parking lot and entrance to the Reservation is straight ahead. The pond is on your right. Park anywhere. \nFourth Friday of Month: Kennard Park/Lost Pond\nMeet at Kennard parking lot\, 246 Dudley Road\, Newton \nIf Fifth Friday of month: Cutler Park\nFrom December- March- ALL walks are at the Newton Cemetery\nFor more information\, contact Ruth Comstock 617-571-4945 .
URL:https://fuusn.org/event/over-60s-walking-group-2/2025-09-19/
CATEGORIES:Over 60s,Social Events
ORGANIZER;CN="Ruth Comstock":MAILTO:ruthcomstock1@gmail.com
END:VEVENT
BEGIN:VEVENT
DTSTART;TZID=America/New_York:20250921T113000
DTEND;TZID=America/New_York:20250921T133000
DTSTAMP:20260424T162042
CREATED:20250902T135751Z
LAST-MODIFIED:20250902T135751Z
UID:10004450-1758454200-1758461400@fuusn.org
SUMMARY:How to Tell a Story
DESCRIPTION:Over 60s presentation–Introduction to Storytelling. Linda Grosser our skilled storyteller presenter is an award winning teller. All invited!
URL:https://fuusn.org/event/how-to-tell-a-story/
LOCATION:Alliance Room\, 1326 Washington St.\, West Newton\, MA\, 02465\, United States
CATEGORIES:Over 60s,Public Events,Social Events
END:VEVENT
BEGIN:VEVENT
DTSTART;VALUE=DATE:20250926
DTEND;VALUE=DATE:20250930
DTSTAMP:20260424T162042
CREATED:20250422T183930Z
LAST-MODIFIED:20250808T171452Z
UID:10003767-1758844800-1759190399@fuusn.org
SUMMARY:Ferry Beach Retreat
DESCRIPTION:FUUSN’s fall retreat on the coast of Maine in a beautiful location – great time for singles\, families with kids\, everyone! Join us! \nVisit the Ferry Beach webpage for more information. Email Questions
URL:https://fuusn.org/event/ferry-beach-retreat-2-2/
LOCATION:Ferry Beach
CATEGORIES:Retreats,Social Events
END:VEVENT
BEGIN:VEVENT
DTSTART;TZID=America/New_York:20250926T100000
DTEND;TZID=America/New_York:20250926T110000
DTSTAMP:20260424T162042
CREATED:20250511T134722Z
LAST-MODIFIED:20250511T134730Z
UID:10003835-1758880800-1758884400@fuusn.org
SUMMARY:Over 60s Walking Group
DESCRIPTION:First Friday of Month: Cutler Park\nMeet at Parking Lot at 84 Kendrick St\, Needham Heights\, MA 02494 \nSecond Friday of the month: Ware Cove/Flower Meadow\, Auburndale\nMeet at the parking lot at end of West Pine Street (104) \nThird Friday of the month: Hammond Pond Reservation/Webster Woods\nMeet at parking lot behind Chestnut Hill Shopping Center before Container Store. Hammond Pond Pkwy north from Rt 9. FIRST left after entering shopping center from Hammond Park Pkwy. Go to end of parking lot and entrance to the Reservation is straight ahead. The pond is on your right. Park anywhere. \nFourth Friday of Month: Kennard Park/Lost Pond\nMeet at Kennard parking lot\, 246 Dudley Road\, Newton \nIf Fifth Friday of month: Cutler Park\nFrom December- March- ALL walks are at the Newton Cemetery\nFor more information\, contact Ruth Comstock 617-571-4945 .
URL:https://fuusn.org/event/over-60s-walking-group-2/2025-09-26/
CATEGORIES:Over 60s,Social Events
ORGANIZER;CN="Ruth Comstock":MAILTO:ruthcomstock1@gmail.com
END:VEVENT
END:VCALENDAR