BEGIN:VCALENDAR
VERSION:2.0
PRODID:-//First Unitarian Universalist Society in Newton - ECPv6.15.17.1//NONSGML v1.0//EN
CALSCALE:GREGORIAN
METHOD:PUBLISH
X-ORIGINAL-URL:https://fuusn.org
X-WR-CALDESC:Events for First Unitarian Universalist Society in Newton
REFRESH-INTERVAL;VALUE=DURATION:PT1H
X-Robots-Tag:noindex
X-PUBLISHED-TTL:PT1H
BEGIN:VTIMEZONE
TZID:America/New_York
BEGIN:DAYLIGHT
TZOFFSETFROM:-0500
TZOFFSETTO:-0400
TZNAME:EDT
DTSTART:20240310T070000
END:DAYLIGHT
BEGIN:STANDARD
TZOFFSETFROM:-0400
TZOFFSETTO:-0500
TZNAME:EST
DTSTART:20241103T060000
END:STANDARD
BEGIN:DAYLIGHT
TZOFFSETFROM:-0500
TZOFFSETTO:-0400
TZNAME:EDT
DTSTART:20250309T070000
END:DAYLIGHT
BEGIN:STANDARD
TZOFFSETFROM:-0400
TZOFFSETTO:-0500
TZNAME:EST
DTSTART:20251102T060000
END:STANDARD
BEGIN:DAYLIGHT
TZOFFSETFROM:-0500
TZOFFSETTO:-0400
TZNAME:EDT
DTSTART:20260308T070000
END:DAYLIGHT
BEGIN:STANDARD
TZOFFSETFROM:-0400
TZOFFSETTO:-0500
TZNAME:EST
DTSTART:20261101T060000
END:STANDARD
END:VTIMEZONE
BEGIN:VEVENT
DTSTART;TZID=America/New_York:20251101T100000
DTEND;TZID=America/New_York:20251101T150000
DTSTAMP:20260424T142547
CREATED:20250418T134753Z
LAST-MODIFIED:20251016T174958Z
UID:10003812-1761991200-1762009200@fuusn.org
SUMMARY:Women Aging Well in Community
DESCRIPTION:Workshop sponsored by the Over 60s : Women Aging Well in Community” led by Claire Willis\, MSW\, Author\, Experienced Group Leader\, Counselor. Alliance Room\, Saturday November 1st. Lunch included.
URL:https://fuusn.org/event/aging-well-in-community/
CATEGORIES:Over 60s
END:VEVENT
BEGIN:VEVENT
DTSTART;TZID=America/New_York:20251102T180000
DTEND;TZID=America/New_York:20251102T200000
DTSTAMP:20260424T142547
CREATED:20250826T135715Z
LAST-MODIFIED:20250826T135715Z
UID:10004391-1762106400-1762113600@fuusn.org
SUMMARY:UU Plant-Based Eating Club - Small Group Potlucks
DESCRIPTION:Intimate potlucks of 6 – 10 Plant-Based Eating Club members at members’ homes. Bring a plant-based\, whole foods dish to share (no animal products/ingredients including eggs\, cheese\, dairy). \nPlease visit the UU Plant-Based Eating Club webpage for more information.
URL:https://fuusn.org/event/uu-plant-based-eating-club-small-group-potlucks-6/2025-11-02/
LOCATION:Members’ Home TBA
CATEGORIES:Plant-Based Eating Club
END:VEVENT
BEGIN:VEVENT
DTSTART;TZID=America/New_York:20251104T113000
DTEND;TZID=America/New_York:20251104T123000
DTSTAMP:20260424T142547
CREATED:20251029T130815Z
LAST-MODIFIED:20251029T130815Z
UID:10004581-1762255800-1762259400@fuusn.org
SUMMARY:Eat'in with the Elders
DESCRIPTION:Bring your own Lunch “Eat’in with the Elders”.  Come join us for this traditional\, enjoyable time together with our ministers.
URL:https://fuusn.org/event/eatin-with-the-elders-5/
LOCATION:Alliance Room\, 1326 Washington St.\, West Newton\, MA\, 02465\, United States
CATEGORIES:Over 60s
END:VEVENT
BEGIN:VEVENT
DTSTART;TZID=America/New_York:20251106T160000
DTEND;TZID=America/New_York:20251106T170000
DTSTAMP:20260424T142547
CREATED:20241001T161041Z
LAST-MODIFIED:20241001T161059Z
UID:10003417-1762444800-1762448400@fuusn.org
SUMMARY:Over 60s Zoom Meetup
DESCRIPTION:
URL:https://fuusn.org/event/over-60s-zoom-meetup-2-2/2025-11-06/
LOCATION:Online
CATEGORIES:Over 60s,Social Events
END:VEVENT
BEGIN:VEVENT
DTSTART;TZID=America/New_York:20251107T100000
DTEND;TZID=America/New_York:20251107T110000
DTSTAMP:20260424T142547
CREATED:20250511T134722Z
LAST-MODIFIED:20250511T134730Z
UID:10003841-1762509600-1762513200@fuusn.org
SUMMARY:Over 60s Walking Group
DESCRIPTION:First Friday of Month: Cutler Park\nMeet at Parking Lot at 84 Kendrick St\, Needham Heights\, MA 02494 \nSecond Friday of the month: Ware Cove/Flower Meadow\, Auburndale\nMeet at the parking lot at end of West Pine Street (104) \nThird Friday of the month: Hammond Pond Reservation/Webster Woods\nMeet at parking lot behind Chestnut Hill Shopping Center before Container Store. Hammond Pond Pkwy north from Rt 9. FIRST left after entering shopping center from Hammond Park Pkwy. Go to end of parking lot and entrance to the Reservation is straight ahead. The pond is on your right. Park anywhere. \nFourth Friday of Month: Kennard Park/Lost Pond\nMeet at Kennard parking lot\, 246 Dudley Road\, Newton \nIf Fifth Friday of month: Cutler Park\nFrom December- March- ALL walks are at the Newton Cemetery\nFor more information\, contact Ruth Comstock 617-571-4945 .
URL:https://fuusn.org/event/over-60s-walking-group-2/2025-11-07/
CATEGORIES:Over 60s,Social Events
ORGANIZER;CN="Ruth Comstock":MAILTO:ruthcomstock1@gmail.com
END:VEVENT
BEGIN:VEVENT
DTSTART;TZID=America/New_York:20251107T100000
DTEND;TZID=America/New_York:20251107T150000
DTSTAMP:20260424T142547
CREATED:20251001T161138Z
LAST-MODIFIED:20251001T161138Z
UID:10004504-1762509600-1762527600@fuusn.org
SUMMARY:Aging Well in Community
DESCRIPTION:A Retreat for Women Workshop – A workshop including participants’ wisdom\, experiences of aging\, joys\, struggles\, concerns\, accomplishments shared. Journal writing. poetry\, both small and large group format. Lunch also.
URL:https://fuusn.org/event/aging-well-in-community-2/
LOCATION:Alliance Room\, 1326 Washington St.\, West Newton\, MA\, 02465\, United States
CATEGORIES:Over 60s
END:VEVENT
BEGIN:VEVENT
DTSTART;TZID=America/New_York:20251107T173000
DTEND;TZID=America/New_York:20251107T203000
DTSTAMP:20260424T142547
CREATED:20250903T131203Z
LAST-MODIFIED:20250903T131203Z
UID:10004354-1762536600-1762547400@fuusn.org
SUMMARY:Parents' Night Out
DESCRIPTION:Free Childcare for ages 6mo. through 5th grade (6th and 7th graders become helpers!) at FUUSN once a month. Reserve space for your kids today and plan that date night! RSVP Required.  Visit our webpage for more information.
URL:https://fuusn.org/event/parents-night-out-5/2025-11-07/
LOCATION:Parish Hall\, Chapel\, Nursery and Kitchen
CATEGORIES:Social Events
END:VEVENT
BEGIN:VEVENT
DTSTART;TZID=America/New_York:20251108T180000
DTEND;TZID=America/New_York:20251108T200000
DTSTAMP:20260424T142547
CREATED:20251007T133922Z
LAST-MODIFIED:20251007T133922Z
UID:10004518-1762624800-1762632000@fuusn.org
SUMMARY:Dinners for 7
DESCRIPTION:This is a great opportunity to have dinner with a small group of FUUSN people and get to know them better. The host(s) provide the main course and everyone else brings an assigned dish.  Sign up here.
URL:https://fuusn.org/event/dinners-for-7-6/
LOCATION:Offsite
CATEGORIES:Dinners for 7
END:VEVENT
BEGIN:VEVENT
DTSTART;TZID=America/New_York:20251113T190000
DTEND;TZID=America/New_York:20251113T200000
DTSTAMP:20260424T142547
CREATED:20251002T153237Z
LAST-MODIFIED:20251014T131000Z
UID:10004506-1763060400-1763064000@fuusn.org
SUMMARY:Intermediate Plant-Based Eating Group
DESCRIPTION:Meet to connect and exchange tips\, recommendations\, and recipes about plant-based cooking. Please be familiar with the basics of plant-based eating as this is not a teaching group.  Register. \nPlease visit the UU Plant-Based Eating Club webpage for more information.
URL:https://fuusn.org/event/intermediate-plant-based-eating-group/
LOCATION:Online
CATEGORIES:Plant-Based Eating Club
END:VEVENT
BEGIN:VEVENT
DTSTART;TZID=America/New_York:20251114T100000
DTEND;TZID=America/New_York:20251114T110000
DTSTAMP:20260424T142547
CREATED:20250511T134722Z
LAST-MODIFIED:20250511T134730Z
UID:10003842-1763114400-1763118000@fuusn.org
SUMMARY:Over 60s Walking Group
DESCRIPTION:First Friday of Month: Cutler Park\nMeet at Parking Lot at 84 Kendrick St\, Needham Heights\, MA 02494 \nSecond Friday of the month: Ware Cove/Flower Meadow\, Auburndale\nMeet at the parking lot at end of West Pine Street (104) \nThird Friday of the month: Hammond Pond Reservation/Webster Woods\nMeet at parking lot behind Chestnut Hill Shopping Center before Container Store. Hammond Pond Pkwy north from Rt 9. FIRST left after entering shopping center from Hammond Park Pkwy. Go to end of parking lot and entrance to the Reservation is straight ahead. The pond is on your right. Park anywhere. \nFourth Friday of Month: Kennard Park/Lost Pond\nMeet at Kennard parking lot\, 246 Dudley Road\, Newton \nIf Fifth Friday of month: Cutler Park\nFrom December- March- ALL walks are at the Newton Cemetery\nFor more information\, contact Ruth Comstock 617-571-4945 .
URL:https://fuusn.org/event/over-60s-walking-group-2/2025-11-14/
CATEGORIES:Over 60s,Social Events
ORGANIZER;CN="Ruth Comstock":MAILTO:ruthcomstock1@gmail.com
END:VEVENT
BEGIN:VEVENT
DTSTART;TZID=America/New_York:20251121T100000
DTEND;TZID=America/New_York:20251121T110000
DTSTAMP:20260424T142547
CREATED:20250511T134722Z
LAST-MODIFIED:20250511T134730Z
UID:10003843-1763719200-1763722800@fuusn.org
SUMMARY:Over 60s Walking Group
DESCRIPTION:First Friday of Month: Cutler Park\nMeet at Parking Lot at 84 Kendrick St\, Needham Heights\, MA 02494 \nSecond Friday of the month: Ware Cove/Flower Meadow\, Auburndale\nMeet at the parking lot at end of West Pine Street (104) \nThird Friday of the month: Hammond Pond Reservation/Webster Woods\nMeet at parking lot behind Chestnut Hill Shopping Center before Container Store. Hammond Pond Pkwy north from Rt 9. FIRST left after entering shopping center from Hammond Park Pkwy. Go to end of parking lot and entrance to the Reservation is straight ahead. The pond is on your right. Park anywhere. \nFourth Friday of Month: Kennard Park/Lost Pond\nMeet at Kennard parking lot\, 246 Dudley Road\, Newton \nIf Fifth Friday of month: Cutler Park\nFrom December- March- ALL walks are at the Newton Cemetery\nFor more information\, contact Ruth Comstock 617-571-4945 .
URL:https://fuusn.org/event/over-60s-walking-group-2/2025-11-21/
CATEGORIES:Over 60s,Social Events
ORGANIZER;CN="Ruth Comstock":MAILTO:ruthcomstock1@gmail.com
END:VEVENT
BEGIN:VEVENT
DTSTART;TZID=America/New_York:20251128T100000
DTEND;TZID=America/New_York:20251128T110000
DTSTAMP:20260424T142547
CREATED:20250511T134722Z
LAST-MODIFIED:20250511T134730Z
UID:10003844-1764324000-1764327600@fuusn.org
SUMMARY:Over 60s Walking Group
DESCRIPTION:First Friday of Month: Cutler Park\nMeet at Parking Lot at 84 Kendrick St\, Needham Heights\, MA 02494 \nSecond Friday of the month: Ware Cove/Flower Meadow\, Auburndale\nMeet at the parking lot at end of West Pine Street (104) \nThird Friday of the month: Hammond Pond Reservation/Webster Woods\nMeet at parking lot behind Chestnut Hill Shopping Center before Container Store. Hammond Pond Pkwy north from Rt 9. FIRST left after entering shopping center from Hammond Park Pkwy. Go to end of parking lot and entrance to the Reservation is straight ahead. The pond is on your right. Park anywhere. \nFourth Friday of Month: Kennard Park/Lost Pond\nMeet at Kennard parking lot\, 246 Dudley Road\, Newton \nIf Fifth Friday of month: Cutler Park\nFrom December- March- ALL walks are at the Newton Cemetery\nFor more information\, contact Ruth Comstock 617-571-4945 .
URL:https://fuusn.org/event/over-60s-walking-group-2/2025-11-28/
CATEGORIES:Over 60s,Social Events
ORGANIZER;CN="Ruth Comstock":MAILTO:ruthcomstock1@gmail.com
END:VEVENT
END:VCALENDAR