BEGIN:VCALENDAR
VERSION:2.0
PRODID:-//First Unitarian Universalist Society in Newton - ECPv6.15.17.1//NONSGML v1.0//EN
CALSCALE:GREGORIAN
METHOD:PUBLISH
X-WR-CALNAME:First Unitarian Universalist Society in Newton
X-ORIGINAL-URL:https://fuusn.org
X-WR-CALDESC:Events for First Unitarian Universalist Society in Newton
REFRESH-INTERVAL;VALUE=DURATION:PT1H
X-Robots-Tag:noindex
X-PUBLISHED-TTL:PT1H
BEGIN:VTIMEZONE
TZID:America/New_York
BEGIN:DAYLIGHT
TZOFFSETFROM:-0500
TZOFFSETTO:-0400
TZNAME:EDT
DTSTART:20240310T070000
END:DAYLIGHT
BEGIN:STANDARD
TZOFFSETFROM:-0400
TZOFFSETTO:-0500
TZNAME:EST
DTSTART:20241103T060000
END:STANDARD
BEGIN:DAYLIGHT
TZOFFSETFROM:-0500
TZOFFSETTO:-0400
TZNAME:EDT
DTSTART:20250309T070000
END:DAYLIGHT
BEGIN:STANDARD
TZOFFSETFROM:-0400
TZOFFSETTO:-0500
TZNAME:EST
DTSTART:20251102T060000
END:STANDARD
BEGIN:DAYLIGHT
TZOFFSETFROM:-0500
TZOFFSETTO:-0400
TZNAME:EDT
DTSTART:20260308T070000
END:DAYLIGHT
BEGIN:STANDARD
TZOFFSETFROM:-0400
TZOFFSETTO:-0500
TZNAME:EST
DTSTART:20261101T060000
END:STANDARD
END:VTIMEZONE
BEGIN:VEVENT
DTSTART;TZID=America/New_York:20250403T160000
DTEND;TZID=America/New_York:20250403T170000
DTSTAMP:20260421T102032
CREATED:20241001T161041Z
LAST-MODIFIED:20241001T161059Z
UID:10003410-1743696000-1743699600@fuusn.org
SUMMARY:Over 60s Zoom Meetup
DESCRIPTION:
URL:https://fuusn.org/event/over-60s-zoom-meetup-2-2/2025-04-03/
LOCATION:Online
CATEGORIES:Over 60s,Social Events
END:VEVENT
BEGIN:VEVENT
DTSTART;TZID=America/New_York:20250404T110000
DTEND;TZID=America/New_York:20250404T120000
DTSTAMP:20260421T102032
CREATED:20240428T144431Z
LAST-MODIFIED:20240506T181843Z
UID:10001996-1743764400-1743768000@fuusn.org
SUMMARY:Over 60s Walking Group
DESCRIPTION:First Friday of Month: Cutler Park\nMeet at Parking Lot at 84 Kendrick St\, Needham Heights\, MA 02494 \nSecond Friday of the month: Ware Cove/Flower Meadow\, Auburndale\nMeet at the parking lot at end of West Pine Street (104) \nThird Friday of the month: Hammond Pond Reservation/Webster Woods\nMeet at parking lot behind Chestnut Hill Shopping Center before Container Store. Hammond Pond Pkwy north from Rt 9. FIRST left after entering shopping center from Hammond Park Pkwy. Go to end of parking lot and entrance to the Reservation is straight ahead. The pond is on your right. Park anywhere. \nFourth Friday of Month: Kennard Park/Lost Pond\nMeet at Kennard parking lot\, 246 Dudley Road\, Newton \nIf Fifth Friday of month: Cutler Park\nFrom December- March- ALL walks are at the Newton Cemetery\nFor more information\, contact Ruth Comstock 617-571-4945 .
URL:https://fuusn.org/event/over-60s-walking-group/2025-04-04/
CATEGORIES:Over 60s,Social Events
ORGANIZER;CN="Ruth Comstock":MAILTO:ruthcomstock1@gmail.com
END:VEVENT
BEGIN:VEVENT
DTSTART;TZID=America/New_York:20250411T110000
DTEND;TZID=America/New_York:20250411T120000
DTSTAMP:20260421T102032
CREATED:20240428T144431Z
LAST-MODIFIED:20240506T181843Z
UID:10001997-1744369200-1744372800@fuusn.org
SUMMARY:Over 60s Walking Group
DESCRIPTION:First Friday of Month: Cutler Park\nMeet at Parking Lot at 84 Kendrick St\, Needham Heights\, MA 02494 \nSecond Friday of the month: Ware Cove/Flower Meadow\, Auburndale\nMeet at the parking lot at end of West Pine Street (104) \nThird Friday of the month: Hammond Pond Reservation/Webster Woods\nMeet at parking lot behind Chestnut Hill Shopping Center before Container Store. Hammond Pond Pkwy north from Rt 9. FIRST left after entering shopping center from Hammond Park Pkwy. Go to end of parking lot and entrance to the Reservation is straight ahead. The pond is on your right. Park anywhere. \nFourth Friday of Month: Kennard Park/Lost Pond\nMeet at Kennard parking lot\, 246 Dudley Road\, Newton \nIf Fifth Friday of month: Cutler Park\nFrom December- March- ALL walks are at the Newton Cemetery\nFor more information\, contact Ruth Comstock 617-571-4945 .
URL:https://fuusn.org/event/over-60s-walking-group/2025-04-11/
CATEGORIES:Over 60s,Social Events
ORGANIZER;CN="Ruth Comstock":MAILTO:ruthcomstock1@gmail.com
END:VEVENT
BEGIN:VEVENT
DTSTART;TZID=America/New_York:20250415T113000
DTEND;TZID=America/New_York:20250415T123000
DTSTAMP:20260421T102032
CREATED:20250225T153005Z
LAST-MODIFIED:20250225T153238Z
UID:10003772-1744716600-1744720200@fuusn.org
SUMMARY:Eat'in with the Elders
DESCRIPTION:Brown bag lunch sponsored by the Over 60s\, with Reverends Joel and Debra.  Come join us for this enjoyable time together with our ministers.  Transportation to and from FUUSN can be arranged if needed through the Over 60s and/or our Care Crew.
URL:https://fuusn.org/event/eatin-with-the-elders-2/
LOCATION:Alliance Room\, 1326 Washington St.\, West Newton\, MA\, 02465\, United States
CATEGORIES:Over 60s
END:VEVENT
BEGIN:VEVENT
DTSTART;TZID=America/New_York:20250418T110000
DTEND;TZID=America/New_York:20250418T120000
DTSTAMP:20260421T102032
CREATED:20240428T144431Z
LAST-MODIFIED:20240506T181843Z
UID:10001998-1744974000-1744977600@fuusn.org
SUMMARY:Over 60s Walking Group
DESCRIPTION:First Friday of Month: Cutler Park\nMeet at Parking Lot at 84 Kendrick St\, Needham Heights\, MA 02494 \nSecond Friday of the month: Ware Cove/Flower Meadow\, Auburndale\nMeet at the parking lot at end of West Pine Street (104) \nThird Friday of the month: Hammond Pond Reservation/Webster Woods\nMeet at parking lot behind Chestnut Hill Shopping Center before Container Store. Hammond Pond Pkwy north from Rt 9. FIRST left after entering shopping center from Hammond Park Pkwy. Go to end of parking lot and entrance to the Reservation is straight ahead. The pond is on your right. Park anywhere. \nFourth Friday of Month: Kennard Park/Lost Pond\nMeet at Kennard parking lot\, 246 Dudley Road\, Newton \nIf Fifth Friday of month: Cutler Park\nFrom December- March- ALL walks are at the Newton Cemetery\nFor more information\, contact Ruth Comstock 617-571-4945 .
URL:https://fuusn.org/event/over-60s-walking-group/2025-04-18/
CATEGORIES:Over 60s,Social Events
ORGANIZER;CN="Ruth Comstock":MAILTO:ruthcomstock1@gmail.com
END:VEVENT
BEGIN:VEVENT
DTSTART;TZID=America/New_York:20250425T110000
DTEND;TZID=America/New_York:20250425T120000
DTSTAMP:20260421T102032
CREATED:20240428T144431Z
LAST-MODIFIED:20240506T181843Z
UID:10001999-1745578800-1745582400@fuusn.org
SUMMARY:Over 60s Walking Group
DESCRIPTION:First Friday of Month: Cutler Park\nMeet at Parking Lot at 84 Kendrick St\, Needham Heights\, MA 02494 \nSecond Friday of the month: Ware Cove/Flower Meadow\, Auburndale\nMeet at the parking lot at end of West Pine Street (104) \nThird Friday of the month: Hammond Pond Reservation/Webster Woods\nMeet at parking lot behind Chestnut Hill Shopping Center before Container Store. Hammond Pond Pkwy north from Rt 9. FIRST left after entering shopping center from Hammond Park Pkwy. Go to end of parking lot and entrance to the Reservation is straight ahead. The pond is on your right. Park anywhere. \nFourth Friday of Month: Kennard Park/Lost Pond\nMeet at Kennard parking lot\, 246 Dudley Road\, Newton \nIf Fifth Friday of month: Cutler Park\nFrom December- March- ALL walks are at the Newton Cemetery\nFor more information\, contact Ruth Comstock 617-571-4945 .
URL:https://fuusn.org/event/over-60s-walking-group/2025-04-25/
CATEGORIES:Over 60s,Social Events
ORGANIZER;CN="Ruth Comstock":MAILTO:ruthcomstock1@gmail.com
END:VEVENT
END:VCALENDAR