BEGIN:VCALENDAR
VERSION:2.0
PRODID:-//First Unitarian Universalist Society in Newton - ECPv6.15.17.1//NONSGML v1.0//EN
CALSCALE:GREGORIAN
METHOD:PUBLISH
X-WR-CALNAME:First Unitarian Universalist Society in Newton
X-ORIGINAL-URL:https://fuusn.org
X-WR-CALDESC:Events for First Unitarian Universalist Society in Newton
REFRESH-INTERVAL;VALUE=DURATION:PT1H
X-Robots-Tag:noindex
X-PUBLISHED-TTL:PT1H
BEGIN:VTIMEZONE
TZID:America/New_York
BEGIN:DAYLIGHT
TZOFFSETFROM:-0500
TZOFFSETTO:-0400
TZNAME:EDT
DTSTART:20240310T070000
END:DAYLIGHT
BEGIN:STANDARD
TZOFFSETFROM:-0400
TZOFFSETTO:-0500
TZNAME:EST
DTSTART:20241103T060000
END:STANDARD
BEGIN:DAYLIGHT
TZOFFSETFROM:-0500
TZOFFSETTO:-0400
TZNAME:EDT
DTSTART:20250309T070000
END:DAYLIGHT
BEGIN:STANDARD
TZOFFSETFROM:-0400
TZOFFSETTO:-0500
TZNAME:EST
DTSTART:20251102T060000
END:STANDARD
BEGIN:DAYLIGHT
TZOFFSETFROM:-0500
TZOFFSETTO:-0400
TZNAME:EDT
DTSTART:20260308T070000
END:DAYLIGHT
BEGIN:STANDARD
TZOFFSETFROM:-0400
TZOFFSETTO:-0500
TZNAME:EST
DTSTART:20261101T060000
END:STANDARD
END:VTIMEZONE
BEGIN:VEVENT
DTSTART;TZID=America/New_York:20250501T160000
DTEND;TZID=America/New_York:20250501T170000
DTSTAMP:20260421T095907
CREATED:20241001T161041Z
LAST-MODIFIED:20241001T161059Z
UID:10003411-1746115200-1746118800@fuusn.org
SUMMARY:Over 60s Zoom Meetup
DESCRIPTION:
URL:https://fuusn.org/event/over-60s-zoom-meetup-2-2/2025-05-01/
LOCATION:Online
CATEGORIES:Over 60s,Social Events
END:VEVENT
BEGIN:VEVENT
DTSTART;TZID=America/New_York:20250502T110000
DTEND;TZID=America/New_York:20250502T120000
DTSTAMP:20260421T095907
CREATED:20240428T144431Z
LAST-MODIFIED:20240506T181843Z
UID:10002000-1746183600-1746187200@fuusn.org
SUMMARY:Over 60s Walking Group
DESCRIPTION:First Friday of Month: Cutler Park\nMeet at Parking Lot at 84 Kendrick St\, Needham Heights\, MA 02494 \nSecond Friday of the month: Ware Cove/Flower Meadow\, Auburndale\nMeet at the parking lot at end of West Pine Street (104) \nThird Friday of the month: Hammond Pond Reservation/Webster Woods\nMeet at parking lot behind Chestnut Hill Shopping Center before Container Store. Hammond Pond Pkwy north from Rt 9. FIRST left after entering shopping center from Hammond Park Pkwy. Go to end of parking lot and entrance to the Reservation is straight ahead. The pond is on your right. Park anywhere. \nFourth Friday of Month: Kennard Park/Lost Pond\nMeet at Kennard parking lot\, 246 Dudley Road\, Newton \nIf Fifth Friday of month: Cutler Park\nFrom December- March- ALL walks are at the Newton Cemetery\nFor more information\, contact Ruth Comstock 617-571-4945 .
URL:https://fuusn.org/event/over-60s-walking-group/2025-05-02/
CATEGORIES:Over 60s,Social Events
ORGANIZER;CN="Ruth Comstock":MAILTO:ruthcomstock1@gmail.com
END:VEVENT
BEGIN:VEVENT
DTSTART;TZID=America/New_York:20250509T110000
DTEND;TZID=America/New_York:20250509T120000
DTSTAMP:20260421T095907
CREATED:20240428T144431Z
LAST-MODIFIED:20240506T181843Z
UID:10002001-1746788400-1746792000@fuusn.org
SUMMARY:Over 60s Walking Group
DESCRIPTION:First Friday of Month: Cutler Park\nMeet at Parking Lot at 84 Kendrick St\, Needham Heights\, MA 02494 \nSecond Friday of the month: Ware Cove/Flower Meadow\, Auburndale\nMeet at the parking lot at end of West Pine Street (104) \nThird Friday of the month: Hammond Pond Reservation/Webster Woods\nMeet at parking lot behind Chestnut Hill Shopping Center before Container Store. Hammond Pond Pkwy north from Rt 9. FIRST left after entering shopping center from Hammond Park Pkwy. Go to end of parking lot and entrance to the Reservation is straight ahead. The pond is on your right. Park anywhere. \nFourth Friday of Month: Kennard Park/Lost Pond\nMeet at Kennard parking lot\, 246 Dudley Road\, Newton \nIf Fifth Friday of month: Cutler Park\nFrom December- March- ALL walks are at the Newton Cemetery\nFor more information\, contact Ruth Comstock 617-571-4945 .
URL:https://fuusn.org/event/over-60s-walking-group/2025-05-09/
CATEGORIES:Over 60s,Social Events
ORGANIZER;CN="Ruth Comstock":MAILTO:ruthcomstock1@gmail.com
END:VEVENT
BEGIN:VEVENT
DTSTART;TZID=America/New_York:20250516T100000
DTEND;TZID=America/New_York:20250516T110000
DTSTAMP:20260421T095907
CREATED:20250511T134722Z
LAST-MODIFIED:20250511T134730Z
UID:10002002-1747389600-1747393200@fuusn.org
SUMMARY:Over 60s Walking Group
DESCRIPTION:First Friday of Month: Cutler Park\nMeet at Parking Lot at 84 Kendrick St\, Needham Heights\, MA 02494 \nSecond Friday of the month: Ware Cove/Flower Meadow\, Auburndale\nMeet at the parking lot at end of West Pine Street (104) \nThird Friday of the month: Hammond Pond Reservation/Webster Woods\nMeet at parking lot behind Chestnut Hill Shopping Center before Container Store. Hammond Pond Pkwy north from Rt 9. FIRST left after entering shopping center from Hammond Park Pkwy. Go to end of parking lot and entrance to the Reservation is straight ahead. The pond is on your right. Park anywhere. \nFourth Friday of Month: Kennard Park/Lost Pond\nMeet at Kennard parking lot\, 246 Dudley Road\, Newton \nIf Fifth Friday of month: Cutler Park\nFrom December- March- ALL walks are at the Newton Cemetery\nFor more information\, contact Ruth Comstock 617-571-4945 .
URL:https://fuusn.org/event/over-60s-walking-group-2/2025-05-16/
CATEGORIES:Over 60s,Social Events
ORGANIZER;CN="Ruth Comstock":MAILTO:ruthcomstock1@gmail.com
END:VEVENT
BEGIN:VEVENT
DTSTART;TZID=America/New_York:20250523T100000
DTEND;TZID=America/New_York:20250523T110000
DTSTAMP:20260421T095907
CREATED:20250511T134722Z
LAST-MODIFIED:20250511T134730Z
UID:10003817-1747994400-1747998000@fuusn.org
SUMMARY:Over 60s Walking Group
DESCRIPTION:First Friday of Month: Cutler Park\nMeet at Parking Lot at 84 Kendrick St\, Needham Heights\, MA 02494 \nSecond Friday of the month: Ware Cove/Flower Meadow\, Auburndale\nMeet at the parking lot at end of West Pine Street (104) \nThird Friday of the month: Hammond Pond Reservation/Webster Woods\nMeet at parking lot behind Chestnut Hill Shopping Center before Container Store. Hammond Pond Pkwy north from Rt 9. FIRST left after entering shopping center from Hammond Park Pkwy. Go to end of parking lot and entrance to the Reservation is straight ahead. The pond is on your right. Park anywhere. \nFourth Friday of Month: Kennard Park/Lost Pond\nMeet at Kennard parking lot\, 246 Dudley Road\, Newton \nIf Fifth Friday of month: Cutler Park\nFrom December- March- ALL walks are at the Newton Cemetery\nFor more information\, contact Ruth Comstock 617-571-4945 .
URL:https://fuusn.org/event/over-60s-walking-group-2/2025-05-23/
CATEGORIES:Over 60s,Social Events
ORGANIZER;CN="Ruth Comstock":MAILTO:ruthcomstock1@gmail.com
END:VEVENT
BEGIN:VEVENT
DTSTART;TZID=America/New_York:20250527T123000
DTEND;TZID=America/New_York:20250527T133000
DTSTAMP:20260421T095907
CREATED:20250418T132227Z
LAST-MODIFIED:20250418T132227Z
UID:10003811-1748349000-1748352600@fuusn.org
SUMMARY:Eat'in with the Elders
DESCRIPTION:Brown bag “Eat’in with the Elders” luncheon with the Reverends Tuesday\, May 27\, 2025 in the Alliance Room from 12:30 pm to 1:30 pm. Come join us for an enjoyable time together!!
URL:https://fuusn.org/event/eatin-with-the-elders-3/
LOCATION:Alliance Room\, 1326 Washington St.\, West Newton\, MA\, 02465\, United States
CATEGORIES:Over 60s
END:VEVENT
BEGIN:VEVENT
DTSTART;TZID=America/New_York:20250530T100000
DTEND;TZID=America/New_York:20250530T110000
DTSTAMP:20260421T095907
CREATED:20250511T134722Z
LAST-MODIFIED:20250511T134730Z
UID:10003818-1748599200-1748602800@fuusn.org
SUMMARY:Over 60s Walking Group
DESCRIPTION:First Friday of Month: Cutler Park\nMeet at Parking Lot at 84 Kendrick St\, Needham Heights\, MA 02494 \nSecond Friday of the month: Ware Cove/Flower Meadow\, Auburndale\nMeet at the parking lot at end of West Pine Street (104) \nThird Friday of the month: Hammond Pond Reservation/Webster Woods\nMeet at parking lot behind Chestnut Hill Shopping Center before Container Store. Hammond Pond Pkwy north from Rt 9. FIRST left after entering shopping center from Hammond Park Pkwy. Go to end of parking lot and entrance to the Reservation is straight ahead. The pond is on your right. Park anywhere. \nFourth Friday of Month: Kennard Park/Lost Pond\nMeet at Kennard parking lot\, 246 Dudley Road\, Newton \nIf Fifth Friday of month: Cutler Park\nFrom December- March- ALL walks are at the Newton Cemetery\nFor more information\, contact Ruth Comstock 617-571-4945 .
URL:https://fuusn.org/event/over-60s-walking-group-2/2025-05-30/
CATEGORIES:Over 60s,Social Events
ORGANIZER;CN="Ruth Comstock":MAILTO:ruthcomstock1@gmail.com
END:VEVENT
END:VCALENDAR