BEGIN:VCALENDAR
VERSION:2.0
PRODID:-//First Unitarian Universalist Society in Newton - ECPv6.15.17.1//NONSGML v1.0//EN
CALSCALE:GREGORIAN
METHOD:PUBLISH
X-WR-CALNAME:First Unitarian Universalist Society in Newton
X-ORIGINAL-URL:https://fuusn.org
X-WR-CALDESC:Events for First Unitarian Universalist Society in Newton
REFRESH-INTERVAL;VALUE=DURATION:PT1H
X-Robots-Tag:noindex
X-PUBLISHED-TTL:PT1H
BEGIN:VTIMEZONE
TZID:America/New_York
BEGIN:DAYLIGHT
TZOFFSETFROM:-0500
TZOFFSETTO:-0400
TZNAME:EDT
DTSTART:20220313T070000
END:DAYLIGHT
BEGIN:STANDARD
TZOFFSETFROM:-0400
TZOFFSETTO:-0500
TZNAME:EST
DTSTART:20221106T060000
END:STANDARD
BEGIN:DAYLIGHT
TZOFFSETFROM:-0500
TZOFFSETTO:-0400
TZNAME:EDT
DTSTART:20230312T070000
END:DAYLIGHT
BEGIN:STANDARD
TZOFFSETFROM:-0400
TZOFFSETTO:-0500
TZNAME:EST
DTSTART:20231105T060000
END:STANDARD
BEGIN:DAYLIGHT
TZOFFSETFROM:-0500
TZOFFSETTO:-0400
TZNAME:EDT
DTSTART:20240310T070000
END:DAYLIGHT
BEGIN:STANDARD
TZOFFSETFROM:-0400
TZOFFSETTO:-0500
TZNAME:EST
DTSTART:20241103T060000
END:STANDARD
BEGIN:DAYLIGHT
TZOFFSETFROM:-0500
TZOFFSETTO:-0400
TZNAME:EDT
DTSTART:20250309T070000
END:DAYLIGHT
BEGIN:STANDARD
TZOFFSETFROM:-0400
TZOFFSETTO:-0500
TZNAME:EST
DTSTART:20251102T060000
END:STANDARD
END:VTIMEZONE
BEGIN:VEVENT
DTSTART;TZID=America/New_York:20240211T113000
DTEND;TZID=America/New_York:20240211T130000
DTSTAMP:20260424T130758
CREATED:20231128T164830Z
LAST-MODIFIED:20231128T164830Z
UID:10001021-1707651000-1707656400@fuusn.org
SUMMARY:Visual Arts
DESCRIPTION:Drawings\, paintings\, watercolors\, collages\, mosaics\, stain glass work\, pottery\, etc.
URL:https://fuusn.org/event/visual-arts/
LOCATION:Alliance Room\, 1326 Washington St.\, West Newton\, MA\, 02465\, United States
CATEGORIES:Over 60s
END:VEVENT
BEGIN:VEVENT
DTSTART;TZID=America/New_York:20231217T113000
DTEND;TZID=America/New_York:20231217T130000
DTSTAMP:20260424T130758
CREATED:20231127T194846Z
LAST-MODIFIED:20231127T194846Z
UID:10001020-1702812600-1702818000@fuusn.org
SUMMARY:Over 60s Coffee Hour Arts Fest - Voice
DESCRIPTION:Each month\, the Over 60s Group spotlights one aspect of our creative community of artists. For December\, we will be celebrating voice: singing\, choir\, barber shop quartets\, madrigal. Anne Watson Born will provide excellent organizing guidance. If you’d like to participate\, contact music@fuusn.org.
URL:https://fuusn.org/event/over-60s-coffee-hour-arts-fest-voice/
LOCATION:Alliance Room\, 1326 Washington St.\, West Newton\, MA\, 02465\, United States
CATEGORIES:Music Meetings,Over 60s,Public Events
END:VEVENT
BEGIN:VEVENT
DTSTART;TZID=America/New_York:20231205T133000
DTEND;TZID=America/New_York:20231205T153000
DTSTAMP:20260424T130758
CREATED:20230824T184135Z
LAST-MODIFIED:20230824T184135Z
UID:10000577-1701783000-1701790200@fuusn.org
SUMMARY:Over 60s Meeting
DESCRIPTION:
URL:https://fuusn.org/event/over-60s-meeting-3/
LOCATION:Ministers’ Parlor
CATEGORIES:Over 60s
END:VEVENT
BEGIN:VEVENT
DTSTART;TZID=America/New_York:20231112T120000
DTEND;TZID=America/New_York:20231112T140000
DTSTAMP:20260424T130758
CREATED:20230824T182220Z
LAST-MODIFIED:20231104T192549Z
UID:10000572-1699790400-1699797600@fuusn.org
SUMMARY:Over 60s Presentation
DESCRIPTION:Susanna Bedell\, MD: Taking Control of your Health – Live Longer\, Live Healthier \nDo you want to know the latest about taking care of our health in 2023?  Come join us for current updates on both diet and the illnesses most likely to affect your health. Susanna Bedell\, MD\, practiced internal medicine for over 30 years and taught and did research at Harvard Medical School. She started a nutrition and wellness program at Codman Academy.  She is also currently teaching nutrition and self advocacy in clinics for the care of older adults. \nEveryone invited!  Tell your friends!
URL:https://fuusn.org/event/over-60s-presentation-2/
LOCATION:Alliance Room and Zoom
CATEGORIES:Over 60s
END:VEVENT
BEGIN:VEVENT
DTSTART;TZID=America/New_York:20231107T133000
DTEND;TZID=America/New_York:20231107T153000
DTSTAMP:20260424T130758
CREATED:20230824T182344Z
LAST-MODIFIED:20230824T182344Z
UID:10000573-1699363800-1699371000@fuusn.org
SUMMARY:Over 60s Meeting
DESCRIPTION:
URL:https://fuusn.org/event/over-60s-meeting-2/
LOCATION:Ministers’ Parlor
CATEGORIES:Over 60s
END:VEVENT
BEGIN:VEVENT
DTSTART;TZID=America/New_York:20231029T120000
DTEND;TZID=America/New_York:20231029T140000
DTSTAMP:20260424T130758
CREATED:20230824T175433Z
LAST-MODIFIED:20231116T174834Z
UID:10000567-1698580800-1698588000@fuusn.org
SUMMARY:Over 60s Presentation
DESCRIPTION:Ruth Kandel\, MD: The Dementias 2.0: Where are We Now \nThis presentation will review the latest info on the differing types of dementias with an understanding of therapeutic options\, including the latest headlines about monoclonal antibodies for treatment of Alzheimer’s. \nRuth Kandel MD\, Geriatrician\, is Director of Memory Disorders Clinic (Hebrew SeniorLife). She is an assistant Professor\, Harvard Medical School. Ruth is currently enjoying her retirement\, taking courses\, and writing a medical murder mystery.
URL:https://fuusn.org/event/over-60s-presentation/
LOCATION:Alliance Room and Zoom
CATEGORIES:Over 60s
END:VEVENT
BEGIN:VEVENT
DTSTART;TZID=America/New_York:20231003T133000
DTEND;TZID=America/New_York:20231003T153000
DTSTAMP:20260424T130758
CREATED:20230824T180532Z
LAST-MODIFIED:20230824T180532Z
UID:10000568-1696339800-1696347000@fuusn.org
SUMMARY:Over 60s
DESCRIPTION:
URL:https://fuusn.org/event/over-60s/
LOCATION:Ministers’ Parlor
CATEGORIES:Over 60s
END:VEVENT
BEGIN:VEVENT
DTSTART;TZID=America/New_York:20230917T120000
DTEND;TZID=America/New_York:20230917T133000
DTSTAMP:20260424T130758
CREATED:20230824T171127Z
LAST-MODIFIED:20230824T183417Z
UID:10000559-1694952000-1694957400@fuusn.org
SUMMARY:Palliative Care and Hospice - Valuable Resources
DESCRIPTION:Over 60s Sponsored September Presentation: \nPalliative Care and Hospice  – Valuable Resources \nSunday\, September 17th  – 12 noon to 1:30 pm \nAlliance Room and on Zoom \nPresenter:  Joanna Stull\, LMHC\n \nJoanna reminds us as we age\, we will be faced with making critical health care choices.  We are best served if we have an understanding of what Hospice and Palliative Care are before we find ourselves or our loved ones in crisis.  This presentation will help clear up confusion as well as clarify some common myths surrounding these kinds of care. \nJoanna\, our own FUUSN member\, is intimately acquainted both personally and professionally with these services.  For over 20 years\, she has ushered families and patients through end of life.  As a retired L.M.H.C. she currently provides valuable grief support. \nSmall bites for lunch provided. \nCome join us!! \nPlease RSVP (haskellwendy@gmail.com)
URL:https://fuusn.org/event/palliative-care-and-hospice-valuable-resources/
LOCATION:Alliance Room and Zoom
CATEGORIES:Over 60s,Social Events
END:VEVENT
END:VCALENDAR