BEGIN:VCALENDAR
VERSION:2.0
PRODID:-//First Unitarian Universalist Society in Newton - ECPv6.15.17.1//NONSGML v1.0//EN
CALSCALE:GREGORIAN
METHOD:PUBLISH
X-ORIGINAL-URL:https://fuusn.org
X-WR-CALDESC:Events for First Unitarian Universalist Society in Newton
REFRESH-INTERVAL;VALUE=DURATION:PT1H
X-Robots-Tag:noindex
X-PUBLISHED-TTL:PT1H
BEGIN:VTIMEZONE
TZID:America/New_York
BEGIN:DAYLIGHT
TZOFFSETFROM:-0500
TZOFFSETTO:-0400
TZNAME:EDT
DTSTART:20230312T070000
END:DAYLIGHT
BEGIN:STANDARD
TZOFFSETFROM:-0400
TZOFFSETTO:-0500
TZNAME:EST
DTSTART:20231105T060000
END:STANDARD
BEGIN:DAYLIGHT
TZOFFSETFROM:-0500
TZOFFSETTO:-0400
TZNAME:EDT
DTSTART:20240310T070000
END:DAYLIGHT
BEGIN:STANDARD
TZOFFSETFROM:-0400
TZOFFSETTO:-0500
TZNAME:EST
DTSTART:20241103T060000
END:STANDARD
BEGIN:DAYLIGHT
TZOFFSETFROM:-0500
TZOFFSETTO:-0400
TZNAME:EDT
DTSTART:20250309T070000
END:DAYLIGHT
BEGIN:STANDARD
TZOFFSETFROM:-0400
TZOFFSETTO:-0500
TZNAME:EST
DTSTART:20251102T060000
END:STANDARD
END:VTIMEZONE
BEGIN:VEVENT
DTSTART;TZID=America/New_York:20240204T150000
DTEND;TZID=America/New_York:20240204T180000
DTSTAMP:20260424T201904
CREATED:20231031T221703Z
LAST-MODIFIED:20240108T174746Z
UID:10000080-1707058800-1707069600@fuusn.org
SUMMARY:UU Plant-Based Eating Club - Instant Pot Meals - Cooking Together Session
DESCRIPTION:NOTE: This event is sold out!   Contact us (see below) if you want to be added to the waiting list.  \nJoin us for theme-based Cooking Together Sessions facilitated by a knowledgeable group member or guest. \nJoin our Club’s e-mail list at UU-plant-based-contact-up@googlegroups.com to sign up for this event.  Registrants will receive more details about the event. \nJoin us on Sunday February 4\, 2024 from 3 to 6 pm\, FUUSN Kitchen\, dinner included. \n 
URL:https://fuusn.org/event/uu-plant-based-eating-club-cooking-together-sessions-3/
LOCATION:FUUSN Kitchen and Alliance Room\, 1326 Washington ST\, Newton\, MA\, 02465
CATEGORIES:Plant-Based Eating Club
END:VEVENT
BEGIN:VEVENT
DTSTART;TZID=America/New_York:20240225T180000
DTEND;TZID=America/New_York:20240225T200000
DTSTAMP:20260424T201904
CREATED:20231125T043205Z
LAST-MODIFIED:20231125T043227Z
UID:10000068-1708884000-1708891200@fuusn.org
SUMMARY:UU Plant-Based Eating Club Potlucks
DESCRIPTION:Requirements:  attendees must be vaccinated and boosted for COVID.\n\nAll Potlucks:  \n\nPlan to bring a plant-based\, whole foods dish to share (no animal products/ingredients including eggs\, cheese\, dairy).   Especially welcome dishes prepared without salt\, oil\, and sugar.\nBring list of ingredients and/or recipe.\nJoin our Club’s e-mail list at uu-plant-based-contact-us@googlegroups.com to sign up for an event.    After sign-up\, registrants will receive info about locations\, menu themes\, potluck contact info\, and other topics.\n\nSmall Groups:  2023/Sept 17\, Oct 15\, Dec 17    2024/Jan 21\, Feb 25\, March 17\, May 19\, June 23 \n\nSmall group gatherings in homes\, typically from 7 to 10 people.\n\nLarge Groups:  2023/Nov 19 (First Parish Waltham)  2024/April 21 (FUUSN)\, July 13 picnic (members’ home\, July 14 rain date) \n\nTypically 30 to 40 participants\nVenues include FUUSN\, First Parish of Waltham\, and members’ home for picnic\n\n  \n 
URL:https://fuusn.org/event/uu-plant-based-eating-club-potlucks-3-5/
LOCATION:Location TBA\, MA\, United States
CATEGORIES:Plant-Based Eating Club
END:VEVENT
END:VCALENDAR