BEGIN:VCALENDAR
VERSION:2.0
PRODID:-//First Unitarian Universalist Society in Newton - ECPv6.15.17.1//NONSGML v1.0//EN
CALSCALE:GREGORIAN
METHOD:PUBLISH
X-ORIGINAL-URL:https://fuusn.org
X-WR-CALDESC:Events for First Unitarian Universalist Society in Newton
REFRESH-INTERVAL;VALUE=DURATION:PT1H
X-Robots-Tag:noindex
X-PUBLISHED-TTL:PT1H
BEGIN:VTIMEZONE
TZID:America/New_York
BEGIN:DAYLIGHT
TZOFFSETFROM:-0500
TZOFFSETTO:-0400
TZNAME:EDT
DTSTART:20250309T070000
END:DAYLIGHT
BEGIN:STANDARD
TZOFFSETFROM:-0400
TZOFFSETTO:-0500
TZNAME:EST
DTSTART:20251102T060000
END:STANDARD
BEGIN:DAYLIGHT
TZOFFSETFROM:-0500
TZOFFSETTO:-0400
TZNAME:EDT
DTSTART:20260308T070000
END:DAYLIGHT
BEGIN:STANDARD
TZOFFSETFROM:-0400
TZOFFSETTO:-0500
TZNAME:EST
DTSTART:20261101T060000
END:STANDARD
BEGIN:DAYLIGHT
TZOFFSETFROM:-0500
TZOFFSETTO:-0400
TZNAME:EDT
DTSTART:20270314T070000
END:DAYLIGHT
BEGIN:STANDARD
TZOFFSETFROM:-0400
TZOFFSETTO:-0500
TZNAME:EST
DTSTART:20271107T060000
END:STANDARD
END:VTIMEZONE
BEGIN:VEVENT
DTSTART;TZID=America/New_York:20260426T180000
DTEND;TZID=America/New_York:20260426T200000
DTSTAMP:20260421T103311
CREATED:20260225T155508Z
LAST-MODIFIED:20260225T155511Z
UID:10004400-1777226400-1777233600@fuusn.org
SUMMARY:UU Plant-Based Eating Club - Large Group Potluck
DESCRIPTION:Potluck for Plant-Based Eating Club members and those interested in learning more about plant-based eating. Bring a Plant-Based\, whole foods dish to share (no animal products). Join us! \nPlease visit the UU Plant-Based Eating Club webpage for more information.
URL:https://fuusn.org/event/uu-plant-based-eating-club-large-group-potluck-5-2/
LOCATION:Parish Hall and Kitchen
CATEGORIES:Plant-Based Eating Club
END:VEVENT
BEGIN:VEVENT
DTSTART;TZID=America/New_York:20260517T180000
DTEND;TZID=America/New_York:20260517T200000
DTSTAMP:20260421T103311
CREATED:20250826T135715Z
LAST-MODIFIED:20250826T135715Z
UID:10004396-1779040800-1779048000@fuusn.org
SUMMARY:UU Plant-Based Eating Club - Small Group Potlucks
DESCRIPTION:Intimate potlucks of 6 – 10 Plant-Based Eating Club members at members’ homes. Bring a plant-based\, whole foods dish to share (no animal products/ingredients including eggs\, cheese\, dairy). \nPlease visit the UU Plant-Based Eating Club webpage for more information.
URL:https://fuusn.org/event/uu-plant-based-eating-club-small-group-potlucks-6/2026-05-17/
LOCATION:Members’ Home TBA
CATEGORIES:Plant-Based Eating Club
END:VEVENT
BEGIN:VEVENT
DTSTART;TZID=America/New_York:20260628T180000
DTEND;TZID=America/New_York:20260628T200000
DTSTAMP:20260421T103311
CREATED:20250826T135715Z
LAST-MODIFIED:20250826T135715Z
UID:10004397-1782669600-1782676800@fuusn.org
SUMMARY:UU Plant-Based Eating Club - Small Group Potlucks
DESCRIPTION:Intimate potlucks of 6 – 10 Plant-Based Eating Club members at members’ homes. Bring a plant-based\, whole foods dish to share (no animal products/ingredients including eggs\, cheese\, dairy). \nPlease visit the UU Plant-Based Eating Club webpage for more information.
URL:https://fuusn.org/event/uu-plant-based-eating-club-small-group-potlucks-6/2026-06-28/
LOCATION:Members’ Home TBA
CATEGORIES:Plant-Based Eating Club
END:VEVENT
BEGIN:VEVENT
DTSTART;TZID=America/New_York:20260712T120000
DTEND;TZID=America/New_York:20260712T133000
DTSTAMP:20260421T103311
CREATED:20260327T182213Z
LAST-MODIFIED:20260327T182213Z
UID:10004659-1783857600-1783863000@fuusn.org
SUMMARY:Plant-Based Eating Club: 7 Day Rescue Diet Entree Swap
DESCRIPTION:Entree Swap (think cookie swap\, only healthy) for those participating in the 7-Day Rescue Diet Challenge. Visit the Plant Based Eating Club webpage for more information.
URL:https://fuusn.org/event/plant-based-eating-club-7-day-rescue-diet-entree-swap/
LOCATION:Alliance Room\, 1326 Washington St.\, West Newton\, MA\, 02465\, United States
CATEGORIES:Plant-Based Eating Club
END:VEVENT
END:VCALENDAR