BEGIN:VCALENDAR
VERSION:2.0
PRODID:-//First Unitarian Universalist Society in Newton - ECPv6.15.17.1//NONSGML v1.0//EN
CALSCALE:GREGORIAN
METHOD:PUBLISH
X-WR-CALNAME:First Unitarian Universalist Society in Newton
X-ORIGINAL-URL:https://fuusn.org
X-WR-CALDESC:Events for First Unitarian Universalist Society in Newton
REFRESH-INTERVAL;VALUE=DURATION:PT1H
X-Robots-Tag:noindex
X-PUBLISHED-TTL:PT1H
BEGIN:VTIMEZONE
TZID:America/New_York
BEGIN:DAYLIGHT
TZOFFSETFROM:-0500
TZOFFSETTO:-0400
TZNAME:EDT
DTSTART:20230312T070000
END:DAYLIGHT
BEGIN:STANDARD
TZOFFSETFROM:-0400
TZOFFSETTO:-0500
TZNAME:EST
DTSTART:20231105T060000
END:STANDARD
BEGIN:DAYLIGHT
TZOFFSETFROM:-0500
TZOFFSETTO:-0400
TZNAME:EDT
DTSTART:20240310T070000
END:DAYLIGHT
BEGIN:STANDARD
TZOFFSETFROM:-0400
TZOFFSETTO:-0500
TZNAME:EST
DTSTART:20241103T060000
END:STANDARD
BEGIN:DAYLIGHT
TZOFFSETFROM:-0500
TZOFFSETTO:-0400
TZNAME:EDT
DTSTART:20250309T070000
END:DAYLIGHT
BEGIN:STANDARD
TZOFFSETFROM:-0400
TZOFFSETTO:-0500
TZNAME:EST
DTSTART:20251102T060000
END:STANDARD
END:VTIMEZONE
BEGIN:VEVENT
DTSTART;VALUE=DATE:20241011
DTEND;VALUE=DATE:20241012
DTSTAMP:20260424T190423
CREATED:20240413T151649Z
LAST-MODIFIED:20241001T191903Z
UID:10001884-1728604800-1728691199@fuusn.org
SUMMARY:Ferry Beach Retreat
DESCRIPTION:
URL:https://fuusn.org/event/ferry-beach-retreat/2024-10-11/
LOCATION:Ferry Beach
CATEGORIES:Front Page,Retreats,Social Events
END:VEVENT
BEGIN:VEVENT
DTSTART;VALUE=DATE:20241012
DTEND;VALUE=DATE:20241013
DTSTAMP:20260424T190423
CREATED:20240413T151649Z
LAST-MODIFIED:20241001T191903Z
UID:10001885-1728691200-1728777599@fuusn.org
SUMMARY:Ferry Beach Retreat
DESCRIPTION:
URL:https://fuusn.org/event/ferry-beach-retreat/2024-10-12/
LOCATION:Ferry Beach
CATEGORIES:Front Page,Retreats,Social Events
END:VEVENT
BEGIN:VEVENT
DTSTART;VALUE=DATE:20241013
DTEND;VALUE=DATE:20241014
DTSTAMP:20260424T190423
CREATED:20240413T151649Z
LAST-MODIFIED:20241001T191903Z
UID:10001886-1728777600-1728863999@fuusn.org
SUMMARY:Ferry Beach Retreat
DESCRIPTION:
URL:https://fuusn.org/event/ferry-beach-retreat/2024-10-13/
LOCATION:Ferry Beach
CATEGORIES:Front Page,Retreats,Social Events
END:VEVENT
BEGIN:VEVENT
DTSTART;VALUE=DATE:20241014
DTEND;VALUE=DATE:20241015
DTSTAMP:20260424T190423
CREATED:20240413T151649Z
LAST-MODIFIED:20241001T191903Z
UID:10001887-1728864000-1728950399@fuusn.org
SUMMARY:Ferry Beach Retreat
DESCRIPTION:
URL:https://fuusn.org/event/ferry-beach-retreat/2024-10-14/
LOCATION:Ferry Beach
CATEGORIES:Front Page,Retreats,Social Events
END:VEVENT
END:VCALENDAR