BEGIN:VCALENDAR
VERSION:2.0
PRODID:-//First Unitarian Universalist Society in Newton - ECPv6.15.17.1//NONSGML v1.0//EN
CALSCALE:GREGORIAN
METHOD:PUBLISH
X-ORIGINAL-URL:https://fuusn.org
X-WR-CALDESC:Events for First Unitarian Universalist Society in Newton
REFRESH-INTERVAL;VALUE=DURATION:PT1H
X-Robots-Tag:noindex
X-PUBLISHED-TTL:PT1H
BEGIN:VTIMEZONE
TZID:America/New_York
BEGIN:DAYLIGHT
TZOFFSETFROM:-0500
TZOFFSETTO:-0400
TZNAME:EDT
DTSTART:20250309T070000
END:DAYLIGHT
BEGIN:STANDARD
TZOFFSETFROM:-0400
TZOFFSETTO:-0500
TZNAME:EST
DTSTART:20251102T060000
END:STANDARD
BEGIN:DAYLIGHT
TZOFFSETFROM:-0500
TZOFFSETTO:-0400
TZNAME:EDT
DTSTART:20260308T070000
END:DAYLIGHT
BEGIN:STANDARD
TZOFFSETFROM:-0400
TZOFFSETTO:-0500
TZNAME:EST
DTSTART:20261101T060000
END:STANDARD
BEGIN:DAYLIGHT
TZOFFSETFROM:-0500
TZOFFSETTO:-0400
TZNAME:EDT
DTSTART:20270314T070000
END:DAYLIGHT
BEGIN:STANDARD
TZOFFSETFROM:-0400
TZOFFSETTO:-0500
TZNAME:EST
DTSTART:20271107T060000
END:STANDARD
END:VTIMEZONE
BEGIN:VEVENT
DTSTART;TZID=America/New_York:20260503T114000
DTEND;TZID=America/New_York:20260503T121500
DTSTAMP:20260421T114622
CREATED:20251201T142759Z
LAST-MODIFIED:20251201T142801Z
UID:10004477-1777808400-1777810500@fuusn.org
SUMMARY:Alternative Coffee Hour
DESCRIPTION:Grab your coffee and join a small group to discuss topics arising from the service. Come to the Member Services table and you will be assigned to a group and meeting room. All are welcome! Visit our Alternative Coffee Hour webpage for more information.
URL:https://fuusn.org/event/alternative-coffee-hour-10-7/
LOCATION:Alliance Room and Parlor
END:VEVENT
END:VCALENDAR