BEGIN:VCALENDAR
VERSION:2.0
PRODID:-//First Unitarian Universalist Society in Newton - ECPv6.15.17.1//NONSGML v1.0//EN
CALSCALE:GREGORIAN
METHOD:PUBLISH
X-ORIGINAL-URL:https://fuusn.org
X-WR-CALDESC:Events for First Unitarian Universalist Society in Newton
REFRESH-INTERVAL;VALUE=DURATION:PT1H
X-Robots-Tag:noindex
X-PUBLISHED-TTL:PT1H
BEGIN:VTIMEZONE
TZID:America/New_York
BEGIN:DAYLIGHT
TZOFFSETFROM:-0500
TZOFFSETTO:-0400
TZNAME:EDT
DTSTART:20250309T070000
END:DAYLIGHT
BEGIN:STANDARD
TZOFFSETFROM:-0400
TZOFFSETTO:-0500
TZNAME:EST
DTSTART:20251102T060000
END:STANDARD
BEGIN:DAYLIGHT
TZOFFSETFROM:-0500
TZOFFSETTO:-0400
TZNAME:EDT
DTSTART:20260308T070000
END:DAYLIGHT
BEGIN:STANDARD
TZOFFSETFROM:-0400
TZOFFSETTO:-0500
TZNAME:EST
DTSTART:20261101T060000
END:STANDARD
BEGIN:DAYLIGHT
TZOFFSETFROM:-0500
TZOFFSETTO:-0400
TZNAME:EDT
DTSTART:20270314T070000
END:DAYLIGHT
BEGIN:STANDARD
TZOFFSETFROM:-0400
TZOFFSETTO:-0500
TZNAME:EST
DTSTART:20271107T060000
END:STANDARD
END:VTIMEZONE
BEGIN:VEVENT
DTSTART;TZID=America/New_York:20260510T080000
DTEND;TZID=America/New_York:20260510T120000
DTSTAMP:20260422T185521
CREATED:20260313T141648Z
LAST-MODIFIED:20260313T141648Z
UID:10004653-1778400000-1778414400@fuusn.org
SUMMARY:Mother's Day Walk for Peace
DESCRIPTION:Join Reverend Joel and FUUSN members walking to benefit the Louis D. Brown Peace Institute on Mother’s Day\, May 10\, 2026\, for the Louis D Brown Peace Institute’s Mother’s Day Walk for Peace!  The peace institute’s goal is to empower survivors and communities impacted by murder\, trauma\, grief and loss to cultivate cycles of peace and healing. \nTo register to walk go to www.mothersdaywalk4peace.org or to donate to our team effort visit https://www.mothersdaywalk4peace.org/FUUSN. This year’s walk is on May 10th. Team captain is Valerie Miller. \nTo learn more about the Louis D Brown Peace Institute visit https://ldbpeaceinstitute.org
URL:https://fuusn.org/event/mothers-day-walk-for-peace-3/
LOCATION:Offsite
END:VEVENT
BEGIN:VEVENT
DTSTART;TZID=America/New_York:20260510T101500
DTEND;TZID=America/New_York:20260510T113000
DTSTAMP:20260422T185521
CREATED:20250713T135220Z
LAST-MODIFIED:20250713T135220Z
UID:10004252-1778408100-1778412600@fuusn.org
SUMMARY:Worship Service
DESCRIPTION:
URL:https://fuusn.org/event/worship-service-6/2026-05-10/
LOCATION:Sanctuary and Zoom
CATEGORIES:Sunday Services
END:VEVENT
BEGIN:VEVENT
DTSTART;TZID=America/New_York:20260510T101500
DTEND;TZID=America/New_York:20260510T113000
DTSTAMP:20260422T185521
CREATED:20250717T152620Z
LAST-MODIFIED:20250717T152620Z
UID:10004280-1778408100-1778412600@fuusn.org
SUMMARY:Religious Exploration
DESCRIPTION:
URL:https://fuusn.org/event/religious-exploration/2026-05-10/
LOCATION:Location TBA\, MA
CATEGORIES:RE Classes,Religious Exploration
END:VEVENT
BEGIN:VEVENT
DTSTART;TZID=America/New_York:20260513T190000
DTEND;TZID=America/New_York:20260513T210000
DTSTAMP:20260422T185521
CREATED:20250708T143625Z
LAST-MODIFIED:20250708T143628Z
UID:10004153-1778698800-1778706000@fuusn.org
SUMMARY:Choir Rehearsal
DESCRIPTION:
URL:https://fuusn.org/event/choir-rehearsal-6-4/
LOCATION:Sanctuary
CATEGORIES:Choir Rehearsals
END:VEVENT
BEGIN:VEVENT
DTSTART;TZID=America/New_York:20260514T191500
DTEND;TZID=America/New_York:20260514T201500
DTSTAMP:20260422T185521
CREATED:20250829T130833Z
LAST-MODIFIED:20250829T131115Z
UID:10004447-1778786100-1778789700@fuusn.org
SUMMARY:Member Services Meeting
DESCRIPTION:
URL:https://fuusn.org/event/member-services-meeting-2/2026-05-14/
LOCATION:Online
CATEGORIES:Meetings
END:VEVENT
BEGIN:VEVENT
DTSTART;TZID=America/New_York:20260515T100000
DTEND;TZID=America/New_York:20260515T110000
DTSTAMP:20260422T185521
CREATED:20250511T134722Z
LAST-MODIFIED:20250511T134730Z
UID:10003868-1778839200-1778842800@fuusn.org
SUMMARY:Over 60s Walking Group
DESCRIPTION:First Friday of Month: Cutler Park\nMeet at Parking Lot at 84 Kendrick St\, Needham Heights\, MA 02494 \nSecond Friday of the month: Ware Cove/Flower Meadow\, Auburndale\nMeet at the parking lot at end of West Pine Street (104) \nThird Friday of the month: Hammond Pond Reservation/Webster Woods\nMeet at parking lot behind Chestnut Hill Shopping Center before Container Store. Hammond Pond Pkwy north from Rt 9. FIRST left after entering shopping center from Hammond Park Pkwy. Go to end of parking lot and entrance to the Reservation is straight ahead. The pond is on your right. Park anywhere. \nFourth Friday of Month: Kennard Park/Lost Pond\nMeet at Kennard parking lot\, 246 Dudley Road\, Newton \nIf Fifth Friday of month: Cutler Park\nFrom December- March- ALL walks are at the Newton Cemetery\nFor more information\, contact Ruth Comstock 617-571-4945 .
URL:https://fuusn.org/event/over-60s-walking-group-2/2026-05-15/
CATEGORIES:Over 60s,Social Events
ORGANIZER;CN="Ruth Comstock":MAILTO:ruthcomstock1@gmail.com
END:VEVENT
BEGIN:VEVENT
DTSTART;TZID=America/New_York:20260515T174500
DTEND;TZID=America/New_York:20260515T183000
DTSTAMP:20260422T185521
CREATED:20260108T164310Z
LAST-MODIFIED:20260331T134359Z
UID:10004623-1778867100-1778869800@fuusn.org
SUMMARY:Zoom Vespers
DESCRIPTION:Come to Vespers for music\, readings and conversation. The service runs from 6:00 pm to 6:30 pm. Pre-service music begins around 5:45 pm \nJoin Zoom Meeting \nzoom.us/j/97030763647
URL:https://fuusn.org/event/zoom-vespers-5/2026-05-15/
LOCATION:Online
CATEGORIES:Music Meetings,Public Events,Vespers
END:VEVENT
BEGIN:VEVENT
DTSTART;TZID=America/New_York:20260515T183000
DTEND;TZID=America/New_York:20260515T203000
DTSTAMP:20260422T185521
CREATED:20260401T134547Z
LAST-MODIFIED:20260407T135759Z
UID:10004490-1778869800-1778877000@fuusn.org
SUMMARY:Young Adults Dinner
DESCRIPTION:This is an opportunity for people in their 20s and 30s to get together and get to know one another over a shared meal and a relaxed environment with conversation and games. Please use Signup Genius to RSVP.
URL:https://fuusn.org/event/young-adults-dinner-2/
LOCATION:Alliance Room\, 1326 Washington St.\, West Newton\, MA\, 02465\, United States
END:VEVENT
BEGIN:VEVENT
DTSTART;TZID=America/New_York:20260517T101500
DTEND;TZID=America/New_York:20260517T113000
DTSTAMP:20260422T185521
CREATED:20250713T135220Z
LAST-MODIFIED:20250713T135220Z
UID:10004253-1779012900-1779017400@fuusn.org
SUMMARY:Worship Service
DESCRIPTION:
URL:https://fuusn.org/event/worship-service-6/2026-05-17/
LOCATION:Sanctuary and Zoom
CATEGORIES:Sunday Services
END:VEVENT
BEGIN:VEVENT
DTSTART;TZID=America/New_York:20260517T101500
DTEND;TZID=America/New_York:20260517T113000
DTSTAMP:20260422T185521
CREATED:20250717T152620Z
LAST-MODIFIED:20250717T152620Z
UID:10004281-1779012900-1779017400@fuusn.org
SUMMARY:Religious Exploration
DESCRIPTION:
URL:https://fuusn.org/event/religious-exploration/2026-05-17/
LOCATION:Location TBA\, MA
CATEGORIES:RE Classes,Religious Exploration
END:VEVENT
BEGIN:VEVENT
DTSTART;TZID=America/New_York:20260517T120000
DTEND;TZID=America/New_York:20260517T140000
DTSTAMP:20260422T185521
CREATED:20260210T202258Z
LAST-MODIFIED:20260414T133800Z
UID:10004491-1779019200-1779026400@fuusn.org
SUMMARY:Social Justice
DESCRIPTION:The Social Justice Speaker Series brings excellent speakers to FUUSN monthly during the church year. Reserve your spot for lunch or volunteer to help at the link below.  Visit the Social Justice Speaker Series for more information.  Also on Zoom (Click for Zoom).
URL:https://fuusn.org/event/social-justice-7/
LOCATION:Alliance Room\, 1326 Washington St.\, West Newton\, MA\, 02465\, United States
CATEGORIES:Public Events
END:VEVENT
BEGIN:VEVENT
DTSTART;TZID=America/New_York:20260517T123000
DTEND;TZID=America/New_York:20260517T153000
DTSTAMP:20260422T185521
CREATED:20251028T131614Z
LAST-MODIFIED:20251028T131614Z
UID:10004579-1779021000-1779031800@fuusn.org
SUMMARY:Cook a Meal for the Community Day Center of Waltham
DESCRIPTION:Help cook a meal for 50 clients of the Community Day Center of Waltham. We will meet in the FUUSN kitchen for fellowship\, fun\, and food prep. This event is family friendly! Please visit our webpage for more information and to Register.
URL:https://fuusn.org/event/cook-a-meal-for-the-community-day-center-of-waltham-6/
LOCATION:FUUSN Kitchen
END:VEVENT
BEGIN:VEVENT
DTSTART;TZID=America/New_York:20260517T153000
DTEND;TZID=America/New_York:20260517T170000
DTSTAMP:20260422T185521
CREATED:20250708T154258Z
LAST-MODIFIED:20250708T154928Z
UID:10004201-1779031800-1779037200@fuusn.org
SUMMARY:JourneySongs Hospice Choir Rehearsal
DESCRIPTION:Rehearsals are open to JourneySongs members.  Singers interested in joining may learn more at JourneySongs.org.
URL:https://fuusn.org/event/journey-songs-hospice-choir-rehearsal/2026-05-17/
LOCATION:Chapel
CATEGORIES:JourneySongs
END:VEVENT
BEGIN:VEVENT
DTSTART;TZID=America/New_York:20260517T180000
DTEND;TZID=America/New_York:20260517T200000
DTSTAMP:20260422T185521
CREATED:20250826T135715Z
LAST-MODIFIED:20250826T135715Z
UID:10004396-1779040800-1779048000@fuusn.org
SUMMARY:UU Plant-Based Eating Club - Small Group Potlucks
DESCRIPTION:Intimate potlucks of 6 – 10 Plant-Based Eating Club members at members’ homes. Bring a plant-based\, whole foods dish to share (no animal products/ingredients including eggs\, cheese\, dairy). \nPlease visit the UU Plant-Based Eating Club webpage for more information.
URL:https://fuusn.org/event/uu-plant-based-eating-club-small-group-potlucks-6/2026-05-17/
LOCATION:Members’ Home TBA
CATEGORIES:Plant-Based Eating Club
END:VEVENT
BEGIN:VEVENT
DTSTART;TZID=America/New_York:20260519T190000
DTEND;TZID=America/New_York:20260519T210000
DTSTAMP:20260422T185521
CREATED:20251015T132345Z
LAST-MODIFIED:20251015T132345Z
UID:10004573-1779217200-1779224400@fuusn.org
SUMMARY:Operations Council Meeting
DESCRIPTION:
URL:https://fuusn.org/event/operations-council-meeting-2/2026-05-19/
LOCATION:Alliance Room\, 1326 Washington St.\, West Newton\, MA\, 02465\, United States
CATEGORIES:Meetings,Operations Council
END:VEVENT
BEGIN:VEVENT
DTSTART;TZID=America/New_York:20260520T190000
DTEND;TZID=America/New_York:20260520T210000
DTSTAMP:20260422T185521
CREATED:20260417T160536Z
LAST-MODIFIED:20260417T160539Z
UID:10004154-1779303600-1779310800@fuusn.org
SUMMARY:Choir Rehearsal
DESCRIPTION:
URL:https://fuusn.org/event/choir-rehearsal-6-6/
LOCATION:Sanctuary
CATEGORIES:Choir Rehearsals
END:VEVENT
BEGIN:VEVENT
DTSTART;TZID=America/New_York:20260522T100000
DTEND;TZID=America/New_York:20260522T110000
DTSTAMP:20260422T185521
CREATED:20250511T134722Z
LAST-MODIFIED:20250511T134730Z
UID:10003869-1779444000-1779447600@fuusn.org
SUMMARY:Over 60s Walking Group
DESCRIPTION:First Friday of Month: Cutler Park\nMeet at Parking Lot at 84 Kendrick St\, Needham Heights\, MA 02494 \nSecond Friday of the month: Ware Cove/Flower Meadow\, Auburndale\nMeet at the parking lot at end of West Pine Street (104) \nThird Friday of the month: Hammond Pond Reservation/Webster Woods\nMeet at parking lot behind Chestnut Hill Shopping Center before Container Store. Hammond Pond Pkwy north from Rt 9. FIRST left after entering shopping center from Hammond Park Pkwy. Go to end of parking lot and entrance to the Reservation is straight ahead. The pond is on your right. Park anywhere. \nFourth Friday of Month: Kennard Park/Lost Pond\nMeet at Kennard parking lot\, 246 Dudley Road\, Newton \nIf Fifth Friday of month: Cutler Park\nFrom December- March- ALL walks are at the Newton Cemetery\nFor more information\, contact Ruth Comstock 617-571-4945 .
URL:https://fuusn.org/event/over-60s-walking-group-2/2026-05-22/
CATEGORIES:Over 60s,Social Events
ORGANIZER;CN="Ruth Comstock":MAILTO:ruthcomstock1@gmail.com
END:VEVENT
BEGIN:VEVENT
DTSTART;TZID=America/New_York:20260524T101500
DTEND;TZID=America/New_York:20260524T113000
DTSTAMP:20260422T185521
CREATED:20250713T143418Z
LAST-MODIFIED:20250713T143422Z
UID:10004254-1779617700-1779622200@fuusn.org
SUMMARY:Worship Service
DESCRIPTION:No Religious Exploration
URL:https://fuusn.org/event/worship-service-6-9/
LOCATION:Sanctuary and Zoom
CATEGORIES:Sunday Services
END:VEVENT
BEGIN:VEVENT
DTSTART;TZID=America/New_York:20260524T101500
DTEND;TZID=America/New_York:20260524T113000
DTSTAMP:20260422T185521
CREATED:20250717T154435Z
LAST-MODIFIED:20250717T154435Z
UID:10004297-1779617700-1779622200@fuusn.org
SUMMARY:No Religious Exploration
DESCRIPTION:No Religious Education – Sandy Island/Memorial Day weekend
URL:https://fuusn.org/event/no-religious-exploration-6/
CATEGORIES:RE Classes,Religious Exploration
END:VEVENT
BEGIN:VEVENT
DTSTART;TZID=America/New_York:20260526T190000
DTEND;TZID=America/New_York:20260526T210000
DTSTAMP:20260422T185521
CREATED:20250820T163100Z
LAST-MODIFIED:20250820T163104Z
UID:10003675-1779822000-1779829200@fuusn.org
SUMMARY:Board of Trustees Meeting
DESCRIPTION:
URL:https://fuusn.org/event/board-of-trustees-meeting-9-2/2026-05-26/
LOCATION:Chapel
END:VEVENT
BEGIN:VEVENT
DTSTART;TZID=America/New_York:20260529T100000
DTEND;TZID=America/New_York:20260529T110000
DTSTAMP:20260422T185521
CREATED:20250511T134722Z
LAST-MODIFIED:20250511T134730Z
UID:10003870-1780048800-1780052400@fuusn.org
SUMMARY:Over 60s Walking Group
DESCRIPTION:First Friday of Month: Cutler Park\nMeet at Parking Lot at 84 Kendrick St\, Needham Heights\, MA 02494 \nSecond Friday of the month: Ware Cove/Flower Meadow\, Auburndale\nMeet at the parking lot at end of West Pine Street (104) \nThird Friday of the month: Hammond Pond Reservation/Webster Woods\nMeet at parking lot behind Chestnut Hill Shopping Center before Container Store. Hammond Pond Pkwy north from Rt 9. FIRST left after entering shopping center from Hammond Park Pkwy. Go to end of parking lot and entrance to the Reservation is straight ahead. The pond is on your right. Park anywhere. \nFourth Friday of Month: Kennard Park/Lost Pond\nMeet at Kennard parking lot\, 246 Dudley Road\, Newton \nIf Fifth Friday of month: Cutler Park\nFrom December- March- ALL walks are at the Newton Cemetery\nFor more information\, contact Ruth Comstock 617-571-4945 .
URL:https://fuusn.org/event/over-60s-walking-group-2/2026-05-29/
CATEGORIES:Over 60s,Social Events
ORGANIZER;CN="Ruth Comstock":MAILTO:ruthcomstock1@gmail.com
END:VEVENT
BEGIN:VEVENT
DTSTART;TZID=America/New_York:20260529T174500
DTEND;TZID=America/New_York:20260529T183000
DTSTAMP:20260422T185521
CREATED:20260108T164310Z
LAST-MODIFIED:20260331T134359Z
UID:10004624-1780076700-1780079400@fuusn.org
SUMMARY:Zoom Vespers
DESCRIPTION:Come to Vespers for music\, readings and conversation. The service runs from 6:00 pm to 6:30 pm. Pre-service music begins around 5:45 pm \nJoin Zoom Meeting \nzoom.us/j/97030763647
URL:https://fuusn.org/event/zoom-vespers-5/2026-05-29/
LOCATION:Online
CATEGORIES:Music Meetings,Public Events,Vespers
END:VEVENT
BEGIN:VEVENT
DTSTART;TZID=America/New_York:20260531T101500
DTEND;TZID=America/New_York:20260531T113000
DTSTAMP:20260422T185521
CREATED:20250713T135220Z
LAST-MODIFIED:20250713T135220Z
UID:10004255-1780222500-1780227000@fuusn.org
SUMMARY:Worship Service
DESCRIPTION:
URL:https://fuusn.org/event/worship-service-6/2026-05-31/
LOCATION:Sanctuary and Zoom
CATEGORIES:Sunday Services
END:VEVENT
BEGIN:VEVENT
DTSTART;TZID=America/New_York:20260531T101500
DTEND;TZID=America/New_York:20260531T113000
DTSTAMP:20260422T185521
CREATED:20250717T152620Z
LAST-MODIFIED:20250717T152620Z
UID:10004282-1780222500-1780227000@fuusn.org
SUMMARY:Religious Exploration
DESCRIPTION:
URL:https://fuusn.org/event/religious-exploration/2026-05-31/
LOCATION:Location TBA\, MA
CATEGORIES:RE Classes,Religious Exploration
END:VEVENT
BEGIN:VEVENT
DTSTART;TZID=America/New_York:20260531T120000
DTEND;TZID=America/New_York:20260531T140000
DTSTAMP:20260422T185521
CREATED:20260327T131016Z
LAST-MODIFIED:20260327T184614Z
UID:10004664-1780228800-1780236000@fuusn.org
SUMMARY:Letters: In the Company of Writers
DESCRIPTION:Letters – Writing in the Company of Writers is a hands-on writing workshop where members engage in timed writing sessions based on a prompt and then share their writings with each other.
URL:https://fuusn.org/event/letters-in-the-company-of-writers-7/2026-05-31/
LOCATION:Alliance Room\, 1326 Washington St.\, West Newton\, MA\, 02465\, United States
END:VEVENT
BEGIN:VEVENT
DTSTART;TZID=America/New_York:20260531T153000
DTEND;TZID=America/New_York:20260531T170000
DTSTAMP:20260422T185521
CREATED:20250708T154258Z
LAST-MODIFIED:20250708T154928Z
UID:10004202-1780241400-1780246800@fuusn.org
SUMMARY:JourneySongs Hospice Choir Rehearsal
DESCRIPTION:Rehearsals are open to JourneySongs members.  Singers interested in joining may learn more at JourneySongs.org.
URL:https://fuusn.org/event/journey-songs-hospice-choir-rehearsal/2026-05-31/
LOCATION:Chapel
CATEGORIES:JourneySongs
END:VEVENT
BEGIN:VEVENT
DTSTART;TZID=America/New_York:20260603T190000
DTEND;TZID=America/New_York:20260603T210000
DTSTAMP:20260422T185521
CREATED:20250521T164959Z
LAST-MODIFIED:20250521T165216Z
UID:10004156-1780513200-1780520400@fuusn.org
SUMMARY:Choir Rehearsal
DESCRIPTION:
URL:https://fuusn.org/event/choir-rehearsal-6/2026-06-03/
LOCATION:Parish Hall
CATEGORIES:Choir Rehearsals
END:VEVENT
BEGIN:VEVENT
DTSTART;TZID=America/New_York:20260604T160000
DTEND;TZID=America/New_York:20260604T170000
DTSTAMP:20260422T185521
CREATED:20241001T161041Z
LAST-MODIFIED:20241001T161059Z
UID:10003424-1780588800-1780592400@fuusn.org
SUMMARY:Over 60s Zoom Meetup
DESCRIPTION:
URL:https://fuusn.org/event/over-60s-zoom-meetup-2-2/2026-06-04/
LOCATION:Online
CATEGORIES:Over 60s,Social Events
END:VEVENT
BEGIN:VEVENT
DTSTART;TZID=America/New_York:20260605T100000
DTEND;TZID=America/New_York:20260605T110000
DTSTAMP:20260422T185521
CREATED:20250511T134722Z
LAST-MODIFIED:20250511T134730Z
UID:10003871-1780653600-1780657200@fuusn.org
SUMMARY:Over 60s Walking Group
DESCRIPTION:First Friday of Month: Cutler Park\nMeet at Parking Lot at 84 Kendrick St\, Needham Heights\, MA 02494 \nSecond Friday of the month: Ware Cove/Flower Meadow\, Auburndale\nMeet at the parking lot at end of West Pine Street (104) \nThird Friday of the month: Hammond Pond Reservation/Webster Woods\nMeet at parking lot behind Chestnut Hill Shopping Center before Container Store. Hammond Pond Pkwy north from Rt 9. FIRST left after entering shopping center from Hammond Park Pkwy. Go to end of parking lot and entrance to the Reservation is straight ahead. The pond is on your right. Park anywhere. \nFourth Friday of Month: Kennard Park/Lost Pond\nMeet at Kennard parking lot\, 246 Dudley Road\, Newton \nIf Fifth Friday of month: Cutler Park\nFrom December- March- ALL walks are at the Newton Cemetery\nFor more information\, contact Ruth Comstock 617-571-4945 .
URL:https://fuusn.org/event/over-60s-walking-group-2/2026-06-05/
CATEGORIES:Over 60s,Social Events
ORGANIZER;CN="Ruth Comstock":MAILTO:ruthcomstock1@gmail.com
END:VEVENT
BEGIN:VEVENT
DTSTART;TZID=America/New_York:20260605T173000
DTEND;TZID=America/New_York:20260605T203000
DTSTAMP:20260422T185521
CREATED:20250903T131203Z
LAST-MODIFIED:20250903T131203Z
UID:10004360-1780680600-1780691400@fuusn.org
SUMMARY:Parents' Night Out
DESCRIPTION:Free Childcare for ages 6mo. through 5th grade (6th and 7th graders become helpers!) at FUUSN once a month. Reserve space for your kids today and plan that date night! RSVP Required.  Visit our webpage for more information.
URL:https://fuusn.org/event/parents-night-out-5/2026-06-05/
LOCATION:Parish Hall\, Chapel\, Nursery and Kitchen
CATEGORIES:Social Events
END:VEVENT
END:VCALENDAR