BEGIN:VCALENDAR
VERSION:2.0
PRODID:-//First Unitarian Universalist Society in Newton - ECPv6.15.17.1//NONSGML v1.0//EN
CALSCALE:GREGORIAN
METHOD:PUBLISH
X-ORIGINAL-URL:https://fuusn.org
X-WR-CALDESC:Events for First Unitarian Universalist Society in Newton
REFRESH-INTERVAL;VALUE=DURATION:PT1H
X-Robots-Tag:noindex
X-PUBLISHED-TTL:PT1H
BEGIN:VTIMEZONE
TZID:America/New_York
BEGIN:DAYLIGHT
TZOFFSETFROM:-0500
TZOFFSETTO:-0400
TZNAME:EDT
DTSTART:20220313T070000
END:DAYLIGHT
BEGIN:STANDARD
TZOFFSETFROM:-0400
TZOFFSETTO:-0500
TZNAME:EST
DTSTART:20221106T060000
END:STANDARD
BEGIN:DAYLIGHT
TZOFFSETFROM:-0500
TZOFFSETTO:-0400
TZNAME:EDT
DTSTART:20230312T070000
END:DAYLIGHT
BEGIN:STANDARD
TZOFFSETFROM:-0400
TZOFFSETTO:-0500
TZNAME:EST
DTSTART:20231105T060000
END:STANDARD
BEGIN:DAYLIGHT
TZOFFSETFROM:-0500
TZOFFSETTO:-0400
TZNAME:EDT
DTSTART:20240310T070000
END:DAYLIGHT
BEGIN:STANDARD
TZOFFSETFROM:-0400
TZOFFSETTO:-0500
TZNAME:EST
DTSTART:20241103T060000
END:STANDARD
BEGIN:DAYLIGHT
TZOFFSETFROM:-0500
TZOFFSETTO:-0400
TZNAME:EDT
DTSTART:20250309T070000
END:DAYLIGHT
BEGIN:STANDARD
TZOFFSETFROM:-0400
TZOFFSETTO:-0500
TZNAME:EST
DTSTART:20251102T060000
END:STANDARD
END:VTIMEZONE
BEGIN:VEVENT
DTSTART;TZID=America/New_York:20240602T101500
DTEND;TZID=America/New_York:20240602T113000
DTSTAMP:20260423T042749
CREATED:20240319T212152Z
LAST-MODIFIED:20240319T212152Z
UID:10001449-1717323300-1717327800@fuusn.org
SUMMARY:Pride
DESCRIPTION:Rev. Parisa Parsa \nHistorically one of the Seven Deadly Sins in Western Christianity\, pride has been reclaimed not just by LGBTQ+ folx but also as a healthy and important way to affirm our worth. What are you proud of?
URL:https://fuusn.org/event/pride/
LOCATION:Sanctuary and Zoom
CATEGORIES:Online Services,Public Events,Sunday Services
ORGANIZER;CN="Rev. Parisa Parsa":MAILTO:parisa@fuusn.org
END:VEVENT
BEGIN:VEVENT
DTSTART;TZID=America/New_York:20240526T101500
DTEND;TZID=America/New_York:20240526T233000
DTSTAMP:20260423T042749
CREATED:20240319T211457Z
LAST-MODIFIED:20240319T211457Z
UID:10001448-1716718500-1716766200@fuusn.org
SUMMARY:Memorial Day
DESCRIPTION:Rev. Parisa Parsa \nJoin us for a service honoring those we have lost in wars near and far.
URL:https://fuusn.org/event/memorial-day/
LOCATION:Sanctuary and Zoom
CATEGORIES:Online Services,Public Events,Sunday Services
ORGANIZER;CN="Rev. Parisa Parsa":MAILTO:parisa@fuusn.org
END:VEVENT
BEGIN:VEVENT
DTSTART;TZID=America/New_York:20240428T101500
DTEND;TZID=America/New_York:20240428T113000
DTSTAMP:20260423T042749
CREATED:20240319T210739Z
LAST-MODIFIED:20240327T192427Z
UID:10001445-1714299300-1714303800@fuusn.org
SUMMARY:Folk Music Sunday
DESCRIPTION:Join our wonderfully talented musicians for songs in celebration of our natural world\, and attending to climate change!
URL:https://fuusn.org/event/sunday-worship/
LOCATION:Sanctuary and Zoom
CATEGORIES:Online Services,Public Events,Sunday Services
ORGANIZER;CN="Rev. Parisa Parsa":MAILTO:parisa@fuusn.org
END:VEVENT
BEGIN:VEVENT
DTSTART;TZID=America/New_York:20240414T101500
DTEND;TZID=America/New_York:20240414T233000
DTSTAMP:20260423T042749
CREATED:20240319T205743Z
LAST-MODIFIED:20240327T185711Z
UID:10001443-1713089700-1713137400@fuusn.org
SUMMARY:Sunday Service
DESCRIPTION:Rev. Parisa Parsa
URL:https://fuusn.org/event/sunday-service-2/
LOCATION:Sanctuary and Zoom
CATEGORIES:Online Services,Public Events,Sunday Services
ORGANIZER;CN="Rev. Parisa Parsa":MAILTO:parisa@fuusn.org
END:VEVENT
BEGIN:VEVENT
DTSTART;TZID=America/New_York:20240407T101500
DTEND;TZID=America/New_York:20240407T113000
DTSTAMP:20260423T042749
CREATED:20240319T205504Z
LAST-MODIFIED:20240401T195419Z
UID:10001442-1712484900-1712489400@fuusn.org
SUMMARY:Might We Sit at the Table of the Almighty?
DESCRIPTION:Rev. Kevin Peterson\nStraddling the public domains of faith\, public reason\, and politics\, the Rev. Kevin C. Peterson is a Boston-based activist committed to advancing justice and good works in the public square. Trained and educated as a community activist\, a writer\, an organizer\, and a public speaker\, Rev. Peterson\, founder of the New Democracy Coalition\, addresses matters of civic life and democracy through public witness and engagement.\n \nHe is a policy advocate\, community and corporate convener\, and a grassroots civic activist comfortable in the classroom and with dialogue on the corners of embattled neighborhoods. Peterson principally focuses upon voter equality and racial equity for African Americans and Blacks throughout the African-American diaspora. He is gifted in the areas of diversity\, equity\, and inclusion discussions and corporate problem-solving relating to fairness. His sensibilities around fairness are grounded in a Blues-Jazz-and-Gospel-African-inflected worldview as exhibited through the life of Jesus and others such as Prathia Hall\, James Reeb\, John Brown\, Dr. Gardner Taylor\, John Coltrane\, Harriet Tubman\, James Baldwin\, Nimi Wariboko\, Cornel West\, Ralph Ellison\, Martin Luther King Jr.\, Billie Holiday\, August Wilson\, Dr. J\, Romare Bearden\, Toni Morrison\, and C.T. Vivian.
URL:https://fuusn.org/event/black-to-the-future-repair-and-transformation-2/
LOCATION:Sanctuary and Zoom
CATEGORIES:Online Services,Public Events,Sunday Services
ORGANIZER;CN="Rev. Parisa Parsa":MAILTO:parisa@fuusn.org
END:VEVENT
BEGIN:VEVENT
DTSTART;TZID=America/New_York:20240331T101500
DTEND;TZID=America/New_York:20240331T113000
DTSTAMP:20260423T042749
CREATED:20230713T235328Z
LAST-MODIFIED:20240322T154707Z
UID:10000044-1711880100-1711884600@fuusn.org
SUMMARY:Sacred Surprises
DESCRIPTION:Rev. Parisa Parsa\, Devin Shmueli\, and Anne Watson Born \n \nOur Easter service for all ages will celebrate the miracle and wonder of life in story and song! \nChildren of all ages are invited to join in our annual Easter Egg Hunt immediately following our 10:15 am intergenerational service. Please meet us in the Parish Hall to pick up a basket prior to the hunt which will be held on the FUUSN playground. All candy will be nut-free.
URL:https://fuusn.org/event/all-ages-easter-service/
LOCATION:Sanctuary and Zoom
CATEGORIES:Online Services,Public Events,Religious Exploration,Sunday Services
ORGANIZER;CN="Rev. Parisa Parsa":MAILTO:parisa@fuusn.org
END:VEVENT
BEGIN:VEVENT
DTSTART;TZID=America/New_York:20240324T101500
DTEND;TZID=America/New_York:20240324T113000
DTSTAMP:20260423T042749
CREATED:20240227T143028Z
LAST-MODIFIED:20240228T184821Z
UID:10001344-1711275300-1711279800@fuusn.org
SUMMARY:Yasss Queen
DESCRIPTION:Rev. Parisa Parsa \n \nCelebrate Purim with the tale of Queen Esther! Lift up the lives and gifts of our transgender siblings as we celebrate Transgender Day of Visibility! Join our worship celebration!
URL:https://fuusn.org/event/yasss-queen/
LOCATION:Sanctuary and Zoom
CATEGORIES:Online Services,Public Events,Special Services,Sunday Services
ORGANIZER;CN="Rev. Parisa Parsa":MAILTO:parisa@fuusn.org
END:VEVENT
BEGIN:VEVENT
DTSTART;TZID=America/New_York:20240310T101500
DTEND;TZID=America/New_York:20240310T113000
DTSTAMP:20260423T042749
CREATED:20240227T141813Z
LAST-MODIFIED:20240305T163503Z
UID:10001343-1710065700-1710070200@fuusn.org
SUMMARY:Surrender and Change
DESCRIPTION:Rev. Parisa Parsa \n \nWe often think of change as something we are responsible for initiating\, controlling\, and completing. Attending to transformation\, however\, requires an interesting relationship between active work and letting go. How can practices of surrender help us arrive at the transformation we seek?
URL:https://fuusn.org/event/surrender-and-change/
LOCATION:Sanctuary and Zoom
CATEGORIES:Online Services,Public Events,Sunday Services
ORGANIZER;CN="Rev. Parisa Parsa":MAILTO:parisa@fuusn.org
END:VEVENT
BEGIN:VEVENT
DTSTART;TZID=America/New_York:20240303T101500
DTEND;TZID=America/New_York:20240303T113000
DTSTAMP:20260423T042749
CREATED:20240227T134546Z
LAST-MODIFIED:20240228T184559Z
UID:10001342-1709460900-1709465400@fuusn.org
SUMMARY:Before it is Asked
DESCRIPTION:Rev. Parisa Parsa \n \nHow are we transformed by generosity? What conditions need to be present in us and in our community to help us realize the potential future we have together? This morning we launch the annual budget drive with story\, song and celebration. Join us! \n 
URL:https://fuusn.org/event/before-it-is-asked/
LOCATION:Sanctuary and Zoom
CATEGORIES:Online Services,Public Events,Sunday Services
ORGANIZER;CN="Rev. Parisa Parsa":MAILTO:parisa@fuusn.org
END:VEVENT
BEGIN:VEVENT
DTSTART;TZID=America/New_York:20240225T101500
DTEND;TZID=America/New_York:20240225T113000
DTSTAMP:20260423T042749
CREATED:20240124T202139Z
LAST-MODIFIED:20240124T202143Z
UID:10001196-1708856100-1708860600@fuusn.org
SUMMARY:The Shape of Justice
DESCRIPTION:Rev. Parisa Parsa \nAs we conclude our monthly theme of Justice and Equity\, we reflect on a line from one of our most beloved Unitarian Universalist hymns\, Spirit of Life. What does it mean to give life the shape of justice?
URL:https://fuusn.org/event/the-shape-of-justice/
LOCATION:Sanctuary and Zoom
CATEGORIES:Online Services,Public Events,Sunday Services
ORGANIZER;CN="Rev. Parisa Parsa":MAILTO:parisa@fuusn.org
END:VEVENT
BEGIN:VEVENT
DTSTART;TZID=America/New_York:20240211T101500
DTEND;TZID=America/New_York:20240211T113000
DTSTAMP:20260423T042749
CREATED:20240124T201055Z
LAST-MODIFIED:20240124T201059Z
UID:10001194-1707646500-1707651000@fuusn.org
SUMMARY:Bending the Arc
DESCRIPTION:Rev. Parisa Parsa \n“I do not pretend to understand the moral universe; the arc is a long one\, my eye reaches but little ways; I cannot calculate the curve and complete the figure by the experience of sight; I can divine it by conscience. And from what I see I am sure it bends toward justice.” \nThese words from Unitarian minister and theologian Theodore Parker in 1853 have taken on new life in their more succinct form paraphrased by the Rev. Dr. Martin Luther King Jr. (“The moral arc of the universe is long\, but I believe it bends toward justice.) How do we calculate the curve and complete the figure of the arc\, when so many well-intentioned folks have gone astray? What guides us in the work of creating justice\, and what can keep us humble?
URL:https://fuusn.org/event/bending-the-arc/
LOCATION:Sanctuary and Zoom
CATEGORIES:Online Services,Public Events,Sunday Services
ORGANIZER;CN="Rev. Parisa Parsa":MAILTO:parisa@fuusn.org
END:VEVENT
BEGIN:VEVENT
DTSTART;TZID=America/New_York:20240204T101500
DTEND;TZID=America/New_York:20240204T113000
DTSTAMP:20260423T042749
CREATED:20240102T211604Z
LAST-MODIFIED:20240124T195818Z
UID:10001057-1707041700-1707046200@fuusn.org
SUMMARY:You\, Here\, Now
DESCRIPTION:Rev. Parisa Parsa \nBeginning the monthly theme of Justice and Equity\, we reflect on Leo Tolstoy’s famous story of The Three Questions as we explore what our obligations are to justice making\, and how we know the next right thing to do.
URL:https://fuusn.org/event/sunday-service/
LOCATION:Sanctuary and Zoom
CATEGORIES:Online Services,Public Events,Sunday Services
ORGANIZER;CN="Rev. Parisa Parsa":MAILTO:parisa@fuusn.org
END:VEVENT
BEGIN:VEVENT
DTSTART;TZID=America/New_York:20240128T101500
DTEND;TZID=America/New_York:20240128T113000
DTSTAMP:20260423T042749
CREATED:20240102T211206Z
LAST-MODIFIED:20240124T192143Z
UID:10001056-1706436900-1706441400@fuusn.org
SUMMARY:Being BeLoved
DESCRIPTION:Rev. Parisa Parsa \n \nWe round out our month of exploring the Gift of Liberating Love with a meditation on belonging: giving and receiving the gift of connection in community. Reflecting on the story of Ruth and Naomi\, we’ll explore the risks and the rewards of claiming one another and the kind of love that binds us beyond kinship. What deepens and enriches our connections\, and what can threaten them?
URL:https://fuusn.org/event/being-beloved/
LOCATION:Sanctuary and Zoom
CATEGORIES:Online Services,Public Events,Sunday Services
ORGANIZER;CN="Rev. Parisa Parsa":MAILTO:parisa@fuusn.org
END:VEVENT
BEGIN:VEVENT
DTSTART;TZID=America/New_York:20240121T101500
DTEND;TZID=America/New_York:20240121T113000
DTSTAMP:20260423T042749
CREATED:20240102T210857Z
LAST-MODIFIED:20240102T210857Z
UID:10001055-1705832100-1705836600@fuusn.org
SUMMARY:Love is a Battlefield
DESCRIPTION:Rev. Parisa Parsa \nPat Benatar was talking about romantic love\, but the demands and the work it takes to love freely\, with integrity and with conviction makes love of all kinds a battlefield at times. What can we learn from love’s battles?
URL:https://fuusn.org/event/love-is-a-battlefield/
LOCATION:Sanctuary and Zoom
CATEGORIES:Online Services,Public Events,Sunday Services
ORGANIZER;CN="Rev. Parisa Parsa":MAILTO:parisa@fuusn.org
END:VEVENT
BEGIN:VEVENT
DTSTART;TZID=America/New_York:20240107T101500
DTEND;TZID=America/New_York:20240107T113000
DTSTAMP:20260423T042749
CREATED:20240102T210603Z
LAST-MODIFIED:20240107T104731Z
UID:10001054-1704622500-1704627000@fuusn.org
SUMMARY:More than a Feeling
DESCRIPTION:Rev. Parisa Parsa \nOur first Sunday in the month’s exploration of the Gift of Liberating Love will explore the ways love as a value and a guiding principle of our spiritual lives is far more than a glib\, sentimental notion. \nTHIS SERVICE WILL BE ON ZOOM ONLY due to the storm. Find us at this link: Worship  \n 
URL:https://fuusn.org/event/more-than-a-feeling/
LOCATION:Zoom
CATEGORIES:Online Services,Public Events,Sunday Services
ORGANIZER;CN="Rev. Parisa Parsa":MAILTO:parisa@fuusn.org
END:VEVENT
BEGIN:VEVENT
DTSTART;TZID=America/New_York:20231221T183000
DTEND;TZID=America/New_York:20231221T193000
DTSTAMP:20260423T042749
CREATED:20230714T151259Z
LAST-MODIFIED:20231129T190354Z
UID:10000048-1703183400-1703187000@fuusn.org
SUMMARY:Solstice/Longest Night Celebration
DESCRIPTION:On the eve of the winter solstice\, we gather to reflect on the ways that the darkness nourishes us and the light beckons us. After readings and music from many traditions’ observances of this longest night\, we process outside and offer our hopes for the light to come.
URL:https://fuusn.org/event/longest-night-celebration/
LOCATION:Sanctuary
ORGANIZER;CN="Rev. Parisa Parsa":MAILTO:parisa@fuusn.org
END:VEVENT
BEGIN:VEVENT
DTSTART;TZID=America/New_York:20231217T101500
DTEND;TZID=America/New_York:20231217T113000
DTSTAMP:20260423T042749
CREATED:20231206T123642Z
LAST-MODIFIED:20231206T123642Z
UID:10001041-1702808100-1702812600@fuusn.org
SUMMARY:The Sacred Thread
DESCRIPTION:What binds us together in friendship\, in kinship\, in romantic love and in community? How do we honor the impulse to compassion as we experience it\, and lift up the power and the mystery of its presence in our lives?
URL:https://fuusn.org/event/the-sacred-thread/
LOCATION:Sanctuary and Zoom
CATEGORIES:Online Services,Public Events,Sunday Services
ORGANIZER;CN="Rev. Parisa Parsa":MAILTO:parisa@fuusn.org
END:VEVENT
BEGIN:VEVENT
DTSTART;TZID=America/New_York:20231210T101500
DTEND;TZID=America/New_York:20231210T113000
DTSTAMP:20260423T042749
CREATED:20231129T020200Z
LAST-MODIFIED:20231129T020200Z
UID:10001027-1702203300-1702207800@fuusn.org
SUMMARY:Vision that Can See the Whole
DESCRIPTION:Rev. Parisa Parsa \nWhat have I done to deserve this? How could I be so lucky? How did we get here? Why are we here at all? The big questions of our lives put us directly in touch with the mystery of existence itself\, and our own limits. How can we practice opening our hearts and minds with awe and wonder?
URL:https://fuusn.org/event/vision-that-can-see-the-whole/
LOCATION:Sanctuary and Zoom
CATEGORIES:Online Services,Public Events,Sunday Services
ORGANIZER;CN="Rev. Parisa Parsa":MAILTO:parisa@fuusn.org
END:VEVENT
BEGIN:VEVENT
DTSTART;TZID=America/New_York:20231119T170000
DTEND;TZID=America/New_York:20231119T180000
DTSTAMP:20260423T042749
CREATED:20230714T150537Z
LAST-MODIFIED:20231106T195007Z
UID:10000047-1700413200-1700416800@fuusn.org
SUMMARY:Transgender Day of Remembrance Vigil
DESCRIPTION:We invite people of all faiths and identities to our annual vigil in memory of all those around the world whose lives were lost to violence due to their transgender identity. the ritual includes a litany of the names of those who were lost\, music\, prayers and candlelight.
URL:https://fuusn.org/event/transgender-day-of-remembrance-vigil/
LOCATION:Sanctuary
CATEGORIES:Public Events,Special Services
ORGANIZER;CN="Rev. Parisa Parsa":MAILTO:parisa@fuusn.org
END:VEVENT
BEGIN:VEVENT
DTSTART;TZID=America/New_York:20231105T101500
DTEND;TZID=America/New_York:20231105T233000
DTSTAMP:20260423T042749
CREATED:20231024T214803Z
LAST-MODIFIED:20231024T214803Z
UID:10000903-1699179300-1699227000@fuusn.org
SUMMARY:Saying Grace
DESCRIPTION:We usher in our month exploring the gift of gratitude by reflecting on the power of giving thanks – before sharing a meal\, while gazing upon a tree ablaze with fall color\, when receiving unexpected good news\, and when dealing with life’s disappointments. How can we enrich our lives by tune ourselves to the key of gratitude? \n 
URL:https://fuusn.org/event/saying-grace/
LOCATION:Sanctuary and Zoom
CATEGORIES:Online Services,Public Events,Sunday Services
ORGANIZER;CN="Rev. Parisa Parsa":MAILTO:parisa@fuusn.org
END:VEVENT
BEGIN:VEVENT
DTSTART;TZID=America/New_York:20230917T101500
DTEND;TZID=America/New_York:20230917T113000
DTSTAMP:20260423T042749
CREATED:20230913T150423Z
LAST-MODIFIED:20230913T155610Z
UID:10000705-1694945700-1694950200@fuusn.org
SUMMARY:Touched and Changed
DESCRIPTION:Rev. Parisa Parsa\, Anne Watson Born & Devin Shmueli \nWe honor our ancient heritage from Judaism with reflections on Rosh Hashanah\, and the ways we are called to live and renew our commitments to justice\, to one another\, and to the divine. We invite you to consider how the practice of offering and receiving welcome might be renewed in your life and in our community life in the weeks to come.
URL:https://fuusn.org/event/touched-and-changed/
LOCATION:Sanctuary and Zoom
CATEGORIES:Online Services,Public Events,Sunday Services
ORGANIZER;CN="Rev. Parisa Parsa":MAILTO:parisa@fuusn.org
END:VEVENT
BEGIN:VEVENT
DTSTART;TZID=America/New_York:20230913T101500
DTEND;TZID=America/New_York:20230913T113000
DTSTAMP:20260423T042749
CREATED:20230913T163742Z
LAST-MODIFIED:20230913T163742Z
UID:10000707-1694600100-1694604600@fuusn.org
SUMMARY:One In Name\, in Honor One: FUUSN's 175th Anniversary
DESCRIPTION:On October 24\, 1868\, a group of leaders in education\, agriculture and politics officially founded a new Unitarian congregation in West Newton. Among them were luminaries we still celebrate: Horace Mann\, Nathaniel Allen\, as well as lesser-known folks whose decisions and foresight have made possible what this congregation is today. We’ll join in story\, song and imagining some key points in our history this morning as we kick off our 175th anniversary celebration!
URL:https://fuusn.org/event/one-in-name-in-honor-one-fuusns-175th-anniversary/
LOCATION:Sanctuary and Zoom
CATEGORIES:Online Services,Public Events,Special Services,Sunday Services
ORGANIZER;CN="Rev. Parisa Parsa":MAILTO:parisa@fuusn.org
END:VEVENT
BEGIN:VEVENT
DTSTART;TZID=America/New_York:20230913T080000
DTEND;TZID=America/New_York:20230913T170000
DTSTAMP:20260423T042749
CREATED:20230913T161639Z
LAST-MODIFIED:20230913T163140Z
UID:10000706-1694592000-1694624400@fuusn.org
SUMMARY:The Gospel of Universalism
DESCRIPTION:Rev. Parisa Parsa \nToday’s world desperately needs the message of our Universalist heritage: the bold claim that all are saved and that we must tune ourselves to the love of God present in us\, among us\, and beyond us. Continuing our theme of Heritage\, we will explore some of the radical thinkers who kept this theology alive through history and consider how we might express the Universalism our heritage today.
URL:https://fuusn.org/event/the-gospel-of-universalism/
CATEGORIES:Online Services,Public Events,Sunday Services
ORGANIZER;CN="Rev. Parisa Parsa":MAILTO:parisa@fuusn.org
END:VEVENT
BEGIN:VEVENT
DTSTART;TZID=America/New_York:20230910T101500
DTEND;TZID=America/New_York:20230910T113000
DTSTAMP:20260423T042749
CREATED:20230705T165605Z
LAST-MODIFIED:20230705T165605Z
UID:10000020-1694340900-1694345400@fuusn.org
SUMMARY:Water Ceremony
DESCRIPTION:We resume Sunday Services in the sanctuary with our annual ritual of ingathering. All are invited to bring a small amount of water from your summer journeys\, near or far\, to symbolize what has given us life and nourished us in our time apart. Rev. Parisa Parsa\, Devin Shmueli\, Anne Watson Born\, Carson Cooman and our FUSN Sanctuary Choir are crafting this special celebration. \nThis service is designed for people of all ages! Optional nursery care is available for those under age 5.
URL:https://fuusn.org/event/water-ceremony/
LOCATION:Location TBA\, MA
CATEGORIES:Public Events,Sunday Services
ORGANIZER;CN="Rev. Parisa Parsa":MAILTO:parisa@fuusn.org
END:VEVENT
END:VCALENDAR