BEGIN:VCALENDAR
VERSION:2.0
PRODID:-//First Unitarian Universalist Society in Newton - ECPv6.15.17.1//NONSGML v1.0//EN
CALSCALE:GREGORIAN
METHOD:PUBLISH
X-WR-CALNAME:First Unitarian Universalist Society in Newton
X-ORIGINAL-URL:https://fuusn.org
X-WR-CALDESC:Events for First Unitarian Universalist Society in Newton
REFRESH-INTERVAL;VALUE=DURATION:PT1H
X-Robots-Tag:noindex
X-PUBLISHED-TTL:PT1H
BEGIN:VTIMEZONE
TZID:America/New_York
BEGIN:DAYLIGHT
TZOFFSETFROM:-0500
TZOFFSETTO:-0400
TZNAME:EDT
DTSTART:20220313T070000
END:DAYLIGHT
BEGIN:STANDARD
TZOFFSETFROM:-0400
TZOFFSETTO:-0500
TZNAME:EST
DTSTART:20221106T060000
END:STANDARD
BEGIN:DAYLIGHT
TZOFFSETFROM:-0500
TZOFFSETTO:-0400
TZNAME:EDT
DTSTART:20230312T070000
END:DAYLIGHT
BEGIN:STANDARD
TZOFFSETFROM:-0400
TZOFFSETTO:-0500
TZNAME:EST
DTSTART:20231105T060000
END:STANDARD
BEGIN:DAYLIGHT
TZOFFSETFROM:-0500
TZOFFSETTO:-0400
TZNAME:EDT
DTSTART:20240310T070000
END:DAYLIGHT
BEGIN:STANDARD
TZOFFSETFROM:-0400
TZOFFSETTO:-0500
TZNAME:EST
DTSTART:20241103T060000
END:STANDARD
BEGIN:DAYLIGHT
TZOFFSETFROM:-0500
TZOFFSETTO:-0400
TZNAME:EDT
DTSTART:20250309T070000
END:DAYLIGHT
BEGIN:STANDARD
TZOFFSETFROM:-0400
TZOFFSETTO:-0500
TZNAME:EST
DTSTART:20251102T060000
END:STANDARD
BEGIN:DAYLIGHT
TZOFFSETFROM:-0500
TZOFFSETTO:-0400
TZNAME:EDT
DTSTART:20260308T070000
END:DAYLIGHT
BEGIN:STANDARD
TZOFFSETFROM:-0400
TZOFFSETTO:-0500
TZNAME:EST
DTSTART:20261101T060000
END:STANDARD
BEGIN:DAYLIGHT
TZOFFSETFROM:-0500
TZOFFSETTO:-0400
TZNAME:EDT
DTSTART:20270314T070000
END:DAYLIGHT
BEGIN:STANDARD
TZOFFSETFROM:-0400
TZOFFSETTO:-0500
TZNAME:EST
DTSTART:20271107T060000
END:STANDARD
END:VTIMEZONE
BEGIN:VEVENT
DTSTART;TZID=America/New_York:20260322T120000
DTEND;TZID=America/New_York:20260322T150000
DTSTAMP:20260422T213340
CREATED:20251020T170438Z
LAST-MODIFIED:20251020T170438Z
UID:10004577-1774180800-1774191600@fuusn.org
SUMMARY:Cook a Meal for the Community Day Center of Waltham
DESCRIPTION:Help cook a meal for 50 clients of the Community Day Center of Waltham. We will meet in the FUUSN kitchen for fellowship\, fun\, and food prep. This event is family friendly! Please visit our webpage for more information and to Register.
URL:https://fuusn.org/event/cook-a-meal-for-the-community-day-center-of-waltham-4/
LOCATION:FUUSN Kitchen
END:VEVENT
BEGIN:VEVENT
DTSTART;TZID=America/New_York:20260104T120000
DTEND;TZID=America/New_York:20260104T150000
DTSTAMP:20260422T213340
CREATED:20251020T170331Z
LAST-MODIFIED:20251020T170333Z
UID:10004498-1767528000-1767538800@fuusn.org
SUMMARY:Cook a Meal for the Community Day Center of Waltham
DESCRIPTION:Help cook a meal for 50 clients of the Community Day Center of Waltham. We will meet in the FUUSN kitchen for fellowship\, fun\, and food prep. This event is family friendly! Please visit our webpage for more information and to Register.
URL:https://fuusn.org/event/cook-a-meal-for-the-community-day-center-of-waltham-3/
LOCATION:FUUSN Kitchen
END:VEVENT
BEGIN:VEVENT
DTSTART;TZID=America/New_York:20251214T123000
DTEND;TZID=America/New_York:20251214T153000
DTSTAMP:20260422T213340
CREATED:20251028T131421Z
LAST-MODIFIED:20251028T131421Z
UID:10004578-1765715400-1765726200@fuusn.org
SUMMARY:Cook a Meal for the Community Day Center of Waltham
DESCRIPTION:Help cook a meal for 50 clients of the Community Day Center of Waltham. We will meet in the FUUSN kitchen for fellowship\, fun\, and food prep. This event is family friendly! Please visit our webpage for more information and to Register.
URL:https://fuusn.org/event/cook-a-meal-for-the-community-day-center-of-waltham-5/
LOCATION:FUUSN Kitchen
END:VEVENT
BEGIN:VEVENT
DTSTART;TZID=America/New_York:20251116T133000
DTEND;TZID=America/New_York:20251116T163000
DTSTAMP:20260422T213340
CREATED:20250916T164138Z
LAST-MODIFIED:20250916T164138Z
UID:10004497-1763299800-1763310600@fuusn.org
SUMMARY:Cook a Meal for the Community Day Center of Waltham
DESCRIPTION:Help cook a meal for 50 clients of the Community Day Center of Waltham. We will meet in the FUUSN kitchen for fellowship\, fun\, and food prep. This event is family friendly! Please visit our webpage for more information and to Register.
URL:https://fuusn.org/event/cook-a-meal-for-the-community-day-center-of-waltham/2025-11-16/
LOCATION:FUUSN Kitchen
END:VEVENT
BEGIN:VEVENT
DTSTART;TZID=America/New_York:20251102T120000
DTEND;TZID=America/New_York:20251102T150000
DTSTAMP:20260422T213340
CREATED:20251020T170114Z
LAST-MODIFIED:20251020T170116Z
UID:10004496-1762084800-1762095600@fuusn.org
SUMMARY:Cook a Meal for the Community Day Center of Waltham
DESCRIPTION:Help cook a meal for 50 clients of the Community Day Center of Waltham. We will meet in the FUUSN kitchen for fellowship\, fun\, and food prep. This event is family friendly! Please visit our webpage for more information and to Register.
URL:https://fuusn.org/event/cook-a-meal-for-the-community-day-center-of-waltham-2/
LOCATION:FUUSN Kitchen
END:VEVENT
BEGIN:VEVENT
DTSTART;TZID=America/New_York:20251026T133000
DTEND;TZID=America/New_York:20251026T163000
DTSTAMP:20260422T213340
CREATED:20250916T164138Z
LAST-MODIFIED:20250916T164138Z
UID:10004576-1761485400-1761496200@fuusn.org
SUMMARY:Cook a Meal for the Community Day Center of Waltham
DESCRIPTION:Help cook a meal for 50 clients of the Community Day Center of Waltham. We will meet in the FUUSN kitchen for fellowship\, fun\, and food prep. This event is family friendly! Please visit our webpage for more information and to Register.
URL:https://fuusn.org/event/cook-a-meal-for-the-community-day-center-of-waltham/2025-10-26/
LOCATION:FUUSN Kitchen
END:VEVENT
BEGIN:VEVENT
DTSTART;TZID=America/New_York:20250903T180000
DTEND;TZID=America/New_York:20250903T193000
DTSTAMP:20260422T213340
CREATED:20250826T153627Z
LAST-MODIFIED:20250826T153627Z
UID:10004401-1756922400-1756927800@fuusn.org
SUMMARY:Choir Potluck
DESCRIPTION:Our FUUSN musicians are joyfully returning to rehearsals\, and we’d love to have you with us! We will kick off the new year with a potluck at FUUSN on Wednesday\, September 3. Come to connect with friends – and if you want to do some singing\, stay for rehearsal after – we will happily find you a seat\, some music\, and a choir buddy. All are welcome!
URL:https://fuusn.org/event/choir-potluck-3/
LOCATION:FUUSN Kitchen
CATEGORIES:Choir Rehearsals,Music Meetings
END:VEVENT
BEGIN:VEVENT
DTSTART;TZID=America/New_York:20250518T120000
DTEND;TZID=America/New_York:20250518T143000
DTSTAMP:20260422T213340
CREATED:20250422T175818Z
LAST-MODIFIED:20250422T180210Z
UID:10003814-1747569600-1747578600@fuusn.org
SUMMARY:Prepare a meal for the Community Day Center of Waltham
DESCRIPTION:Help make a meal for 50 at Community Day Center of Waltham. Meet in the FUUSN Kitchen. Open to all ages! Kids may make cookies!! Please RSVP if attending.
URL:https://fuusn.org/event/prepare-a-meal-for-the-community-day-center-of-waltham-2/
LOCATION:FUUSN Kitchen
END:VEVENT
BEGIN:VEVENT
DTSTART;TZID=America/New_York:20250323T140000
DTEND;TZID=America/New_York:20250323T180000
DTSTAMP:20260422T213340
CREATED:20250311T133808Z
LAST-MODIFIED:20250311T133808Z
UID:10003785-1742738400-1742752800@fuusn.org
SUMMARY:Prepare a meal for the Community Day Center of Waltham
DESCRIPTION:
URL:https://fuusn.org/event/prepare-a-meal-for-the-community-day-center-of-waltham/
LOCATION:FUUSN Kitchen
END:VEVENT
BEGIN:VEVENT
DTSTART;TZID=America/New_York:20250301T133000
DTEND;TZID=America/New_York:20250301T163000
DTSTAMP:20260422T213340
CREATED:20250916T164138Z
LAST-MODIFIED:20250916T164138Z
UID:10004495-1740835800-1740846600@fuusn.org
SUMMARY:Cook a Meal for the Community Day Center of Waltham
DESCRIPTION:Help cook a meal for 50 clients of the Community Day Center of Waltham. We will meet in the FUUSN kitchen for fellowship\, fun\, and food prep. This event is family friendly! Please visit our webpage for more information and to Register.
URL:https://fuusn.org/event/cook-a-meal-for-the-community-day-center-of-waltham/2025-03-01/
LOCATION:FUUSN Kitchen
END:VEVENT
BEGIN:VEVENT
DTSTART;TZID=America/New_York:20240517T183000
DTEND;TZID=America/New_York:20240517T213000
DTSTAMP:20260422T213340
CREATED:20240418T132428Z
LAST-MODIFIED:20240418T132428Z
UID:10001937-1715970600-1715981400@fuusn.org
SUMMARY:Youth Cooking for RE Sunday
DESCRIPTION:
URL:https://fuusn.org/event/youth-cooking-for-re-sunday/
LOCATION:FUUSN Kitchen
END:VEVENT
BEGIN:VEVENT
DTSTART;TZID=America/New_York:20240108T190000
DTEND;TZID=America/New_York:20240108T210000
DTSTAMP:20260422T213340
CREATED:20230904T132702Z
LAST-MODIFIED:20240104T192007Z
UID:10000655-1704740400-1704747600@fuusn.org
SUMMARY:Mandatory Legal Guardian Orientation
DESCRIPTION:
URL:https://fuusn.org/event/mandatory-legal-guardian-orientation/
LOCATION:FUUSN Kitchen
CATEGORIES:Training
END:VEVENT
BEGIN:VEVENT
DTSTART;TZID=America/New_York:20231112T150000
DTEND;TZID=America/New_York:20231112T170000
DTSTAMP:20260422T213340
CREATED:20230925T152137Z
LAST-MODIFIED:20231031T221953Z
UID:10000719-1699801200-1699808400@fuusn.org
SUMMARY:UU Plant-Based Eating Club - Food Sampling Session
DESCRIPTION:Join us for theme-based Cooking Together Sessions facilitated by a knowledgeable group member or guest. \nJoin our Club’s e-mail list at UU-plant-based-contact-up@googlegroups.com to sign up for this event.  Registrants will receive more details about the event. \nTopics:  \n\nThis session is an opportunity for people who are new to plant-based eating to try plant-based analogs to some common animal-based foods. Many people have expressed an interest in trying plant-based versions of their favorite foods\, but may not be ready to buy / prepare all the different options to see what they like.\nAt this event\, we will prepare and sample various plant-based burgers\, cheeses\, eggs\, yogurt\, and bacon and give everyone a chance to weigh in on what they like.\nWe will incorporate both pre-packaged foods that are generally available in the grocery store\, and also homemade versions that in most cases are more whole-food based as opposed to processed.\nPlease show up with an appetite and a sense of adventure!\n\n 
URL:https://fuusn.org/event/uu-plant-based-eating-club-cooking-together-sessions-2/
LOCATION:FUUSN Kitchen
CATEGORIES:Plant-Based Eating Club
END:VEVENT
END:VCALENDAR