BEGIN:VCALENDAR
VERSION:2.0
PRODID:-//First Unitarian Universalist Society in Newton - ECPv6.15.17.1//NONSGML v1.0//EN
CALSCALE:GREGORIAN
METHOD:PUBLISH
X-WR-CALNAME:First Unitarian Universalist Society in Newton
X-ORIGINAL-URL:https://fuusn.org
X-WR-CALDESC:Events for First Unitarian Universalist Society in Newton
REFRESH-INTERVAL;VALUE=DURATION:PT1H
X-Robots-Tag:noindex
X-PUBLISHED-TTL:PT1H
BEGIN:VTIMEZONE
TZID:America/New_York
BEGIN:DAYLIGHT
TZOFFSETFROM:-0500
TZOFFSETTO:-0400
TZNAME:EDT
DTSTART:20240310T070000
END:DAYLIGHT
BEGIN:STANDARD
TZOFFSETFROM:-0400
TZOFFSETTO:-0500
TZNAME:EST
DTSTART:20241103T060000
END:STANDARD
BEGIN:DAYLIGHT
TZOFFSETFROM:-0500
TZOFFSETTO:-0400
TZNAME:EDT
DTSTART:20250309T070000
END:DAYLIGHT
BEGIN:STANDARD
TZOFFSETFROM:-0400
TZOFFSETTO:-0500
TZNAME:EST
DTSTART:20251102T060000
END:STANDARD
BEGIN:DAYLIGHT
TZOFFSETFROM:-0500
TZOFFSETTO:-0400
TZNAME:EDT
DTSTART:20260308T070000
END:DAYLIGHT
BEGIN:STANDARD
TZOFFSETFROM:-0400
TZOFFSETTO:-0500
TZNAME:EST
DTSTART:20261101T060000
END:STANDARD
BEGIN:DAYLIGHT
TZOFFSETFROM:-0500
TZOFFSETTO:-0400
TZNAME:EDT
DTSTART:20270314T070000
END:DAYLIGHT
BEGIN:STANDARD
TZOFFSETFROM:-0400
TZOFFSETTO:-0500
TZNAME:EST
DTSTART:20271107T060000
END:STANDARD
END:VTIMEZONE
BEGIN:VEVENT
DTSTART;TZID=America/New_York:20260419T120000
DTEND;TZID=America/New_York:20260419T140000
DTSTAMP:20260421T141437
CREATED:20260210T202150Z
LAST-MODIFIED:20260414T133705Z
UID:10004322-1776600000-1776607200@fuusn.org
SUMMARY:Social Justice
DESCRIPTION:The Social Justice Speaker Series brings excellent speakers to FUUSN monthly during the church year. Reserve your spot for lunch or volunteer to help at the link below.  Visit the Social Justice Speaker Series for more information.  Also on Zoom (Click for Zoom).
URL:https://fuusn.org/event/social-justice-6/
LOCATION:Alliance Room\, 1326 Washington St.\, West Newton\, MA\, 02465\, United States
CATEGORIES:Public Events
END:VEVENT
BEGIN:VEVENT
DTSTART;TZID=America/New_York:20260412T123000
DTEND;TZID=America/New_York:20260412T143000
DTSTAMP:20260421T141437
CREATED:20260225T161350Z
LAST-MODIFIED:20260225T161350Z
UID:10004647-1775997000-1776004200@fuusn.org
SUMMARY:Racial Justice Ministry
DESCRIPTION:Discussion to better understand how systemic racism connects with our current authoritarian shift.
URL:https://fuusn.org/event/racial-justice-ministry/
LOCATION:Alliance Room\, 1326 Washington St.\, West Newton\, MA\, 02465\, United States
END:VEVENT
BEGIN:VEVENT
DTSTART;TZID=America/New_York:20260408T190000
DTEND;TZID=America/New_York:20260408T203000
DTSTAMP:20260421T141437
CREATED:20260327T184051Z
LAST-MODIFIED:20260327T184051Z
UID:10004662-1775674800-1775680200@fuusn.org
SUMMARY:Letter writing event (non partisan)
DESCRIPTION:FUUSN and Newton Indivisible Election Cmte are co- sponsoring a gathering for letter writing for VOTERIDERS.ORG. VR provides instructions to state resident for meeting changed voter ID requirements.
URL:https://fuusn.org/event/letter-writing-event-non-partisan/
LOCATION:Alliance Room\, 1326 Washington St.\, West Newton\, MA\, 02465\, United States
END:VEVENT
BEGIN:VEVENT
DTSTART;TZID=America/New_York:20260329T120000
DTEND;TZID=America/New_York:20260329T140000
DTSTAMP:20260421T141437
CREATED:20260327T131016Z
LAST-MODIFIED:20260327T184614Z
UID:10004657-1774785600-1774792800@fuusn.org
SUMMARY:Letters: In the Company of Writers
DESCRIPTION:Letters – Writing in the Company of Writers is a hands-on writing workshop where members engage in timed writing sessions based on a prompt and then share their writings with each other.
URL:https://fuusn.org/event/letters-in-the-company-of-writers-7/2026-03-29/
LOCATION:Alliance Room\, 1326 Washington St.\, West Newton\, MA\, 02465\, United States
END:VEVENT
BEGIN:VEVENT
DTSTART;TZID=America/New_York:20260317T190000
DTEND;TZID=America/New_York:20260317T210000
DTSTAMP:20260421T141437
CREATED:20251015T132345Z
LAST-MODIFIED:20251015T132345Z
UID:10004571-1773774000-1773781200@fuusn.org
SUMMARY:Operations Council Meeting
DESCRIPTION:
URL:https://fuusn.org/event/operations-council-meeting-2/2026-03-17/
LOCATION:Alliance Room\, 1326 Washington St.\, West Newton\, MA\, 02465\, United States
CATEGORIES:Meetings,Operations Council
END:VEVENT
BEGIN:VEVENT
DTSTART;TZID=America/New_York:20260308T123000
DTEND;TZID=America/New_York:20260308T143000
DTSTAMP:20260421T141437
CREATED:20251118T141852Z
LAST-MODIFIED:20251118T141852Z
UID:10004586-1772973000-1772980200@fuusn.org
SUMMARY:Letters: In the Company of Writers
DESCRIPTION:Letters—Writing in the Company of Writers is a hands-on writing workshop where members engage in timed writing sessions based on a prompt and then share their writing with each other.
URL:https://fuusn.org/event/letters-in-the-company-of-writers-6/
LOCATION:Alliance Room\, 1326 Washington St.\, West Newton\, MA\, 02465\, United States
END:VEVENT
BEGIN:VEVENT
DTSTART;TZID=America/New_York:20260304T093000
DTEND;TZID=America/New_York:20260304T153000
DTSTAMP:20260421T141437
CREATED:20260107T155324Z
LAST-MODIFIED:20260107T155324Z
UID:10004602-1772616600-1772638200@fuusn.org
SUMMARY:Aging Well in Community
DESCRIPTION:Follow up of workshop for the Over 60s called Women Aging Well in Community\, held at FUUSN on November 7\, 2025. This event will build upon previous discussions\, allowing participants to reconnect.
URL:https://fuusn.org/event/aging-well-in-community-3/
LOCATION:Alliance Room\, 1326 Washington St.\, West Newton\, MA\, 02465\, United States
CATEGORIES:Over 60s
END:VEVENT
BEGIN:VEVENT
DTSTART;TZID=America/New_York:20260301T120000
DTEND;TZID=America/New_York:20260301T140000
DTSTAMP:20260421T141437
CREATED:20260210T143402Z
LAST-MODIFIED:20260219T184005Z
UID:10004321-1772366400-1772373600@fuusn.org
SUMMARY:Social Justice
DESCRIPTION:Save Soil Event: Speaker: Greg Maslowe\, NCF Manager.  Newton Community Farm has been farmed continuously for over 350 years. Despite this long history of agricultural use\, the farm’s soil is a thriving biome with high levels of organic matter. Our goal\, as the current users of this land\, is to ensure that it will remain fertile and productive for future generations and a beneficial habitat for the abundant more than human life in this area. What techniques does NCF use to ensure these goals? How do these relate to contemporary notions such as regenerative agriculture? And what can you do to enhance the soil health of your own home or garden? \nPrathyusha Dasari\, a volunteer with the Save Soil movement\, will introduce this global initiative dedicated to addressing the growing soil crisis. Agricultural soil degradation contributes to an estimated 40% of global warming. What has Save Soil accomplished so far—and what can you do to help? SaveSoil.org \nLet us know if you’ll be attending by signing up here. Also on Zoom (Click for Zoom). \nIf you’re able to help with setup or cleanup\, please sign up here: \nThe Social Justice Speaker Series brings excellent speakers to FUUSN monthly during the church year. Reserve your spot for lunch or volunteer to help at the link below.  Visit the Social Justice Speaker Series webpage for more information.
URL:https://fuusn.org/event/social-justice-5/
LOCATION:Alliance Room\, 1326 Washington St.\, West Newton\, MA\, 02465\, United States
CATEGORIES:Public Events
END:VEVENT
BEGIN:VEVENT
DTSTART;TZID=America/New_York:20260222T120000
DTEND;TZID=America/New_York:20260222T140000
DTSTAMP:20260421T141437
CREATED:20260210T142205Z
LAST-MODIFIED:20260219T183830Z
UID:10004320-1771761600-1771768800@fuusn.org
SUMMARY:Social Justice
DESCRIPTION:Eastern Service Workers Association: Join us with Eastern Service Workers Association organizers. Hear how we can help low-income workers meet urgent needs.  Also on Zoom (Click for Zoom). \nThe Social Justice Speaker Series brings excellent speakers to FUUSN monthly during the church year. Reserve your spot for lunch or volunteer to help at the link below.  Visit the Social Justice Speaker Series Webpage for more information. \n 
URL:https://fuusn.org/event/social-justice-4/
LOCATION:Alliance Room\, 1326 Washington St.\, West Newton\, MA\, 02465\, United States
CATEGORIES:Public Events
END:VEVENT
BEGIN:VEVENT
DTSTART;TZID=America/New_York:20260217T190000
DTEND;TZID=America/New_York:20260217T210000
DTSTAMP:20260421T141437
CREATED:20251015T132345Z
LAST-MODIFIED:20251015T132345Z
UID:10004570-1771354800-1771362000@fuusn.org
SUMMARY:Operations Council Meeting
DESCRIPTION:
URL:https://fuusn.org/event/operations-council-meeting-2/2026-02-17/
LOCATION:Alliance Room\, 1326 Washington St.\, West Newton\, MA\, 02465\, United States
CATEGORIES:Meetings,Operations Council
END:VEVENT
BEGIN:VEVENT
DTSTART;TZID=America/New_York:20260215T130000
DTEND;TZID=America/New_York:20260215T150000
DTSTAMP:20260421T141437
CREATED:20260212T185702Z
LAST-MODIFIED:20260212T185702Z
UID:10004642-1771160400-1771167600@fuusn.org
SUMMARY:Red Hat Project
DESCRIPTION:Come make\, or get help making\, a Red Hat out of fleece. Materials will be provided. Red Hats are a symbol of pro-democracy and solidarity during these challenging times.
URL:https://fuusn.org/event/red-hat-project/
LOCATION:Alliance Room\, 1326 Washington St.\, West Newton\, MA\, 02465\, United States
END:VEVENT
BEGIN:VEVENT
DTSTART;TZID=America/New_York:20260210T113000
DTEND;TZID=America/New_York:20260210T123000
DTSTAMP:20260421T141437
CREATED:20260107T143142Z
LAST-MODIFIED:20260107T143142Z
UID:10004599-1770723000-1770726600@fuusn.org
SUMMARY:Eatin' With the Elders
DESCRIPTION:Over 60s committee invites you to our monthly luncheon with Rev’s Joel & Debra on Tuesday\, February 10. Bring a lunch\, enjoy interesting conversation with the Rev’s and other FUUSNites.
URL:https://fuusn.org/event/eatin-with-the-elders-6/
LOCATION:Alliance Room\, 1326 Washington St.\, West Newton\, MA\, 02465\, United States
CATEGORIES:Over 60s
END:VEVENT
BEGIN:VEVENT
DTSTART;TZID=America/New_York:20260208T120000
DTEND;TZID=America/New_York:20260208T140000
DTSTAMP:20260421T141437
CREATED:20251118T141759Z
LAST-MODIFIED:20251118T141759Z
UID:10004585-1770552000-1770559200@fuusn.org
SUMMARY:Letters: In the Company of Writers
DESCRIPTION:Letters—Writing in the Company of Writers is a hands-on writing workshop where members engage in timed writing sessions based on a prompt and then share their writing with each other.
URL:https://fuusn.org/event/letters-in-the-company-of-writers-5/
LOCATION:Alliance Room\, 1326 Washington St.\, West Newton\, MA\, 02465\, United States
END:VEVENT
BEGIN:VEVENT
DTSTART;TZID=America/New_York:20260125T120000
DTEND;TZID=America/New_York:20260125T140000
DTSTAMP:20260421T141437
CREATED:20250806T145719Z
LAST-MODIFIED:20250910T185017Z
UID:10004319-1769342400-1769349600@fuusn.org
SUMMARY:Social Justice
DESCRIPTION:The Social Justice Speaker Series brings excellent speakers to FUUSN monthly during the church year. Reserve your spot for lunch or volunteer to help at the link below.  Visit the Social Justice webpage for more information.
URL:https://fuusn.org/event/social-justice/2026-01-25/
LOCATION:Alliance Room\, 1326 Washington St.\, West Newton\, MA\, 02465\, United States
CATEGORIES:Public Events
END:VEVENT
BEGIN:VEVENT
DTSTART;TZID=America/New_York:20260120T190000
DTEND;TZID=America/New_York:20260120T210000
DTSTAMP:20260421T141437
CREATED:20251015T132345Z
LAST-MODIFIED:20251015T132345Z
UID:10004569-1768935600-1768942800@fuusn.org
SUMMARY:Operations Council Meeting
DESCRIPTION:
URL:https://fuusn.org/event/operations-council-meeting-2/2026-01-20/
LOCATION:Alliance Room\, 1326 Washington St.\, West Newton\, MA\, 02465\, United States
CATEGORIES:Meetings,Operations Council
END:VEVENT
BEGIN:VEVENT
DTSTART;TZID=America/New_York:20260113T113000
DTEND;TZID=America/New_York:20260113T123000
DTSTAMP:20260421T141437
CREATED:20251202T142537Z
LAST-MODIFIED:20260107T141830Z
UID:10004596-1768303800-1768307400@fuusn.org
SUMMARY:Eatin' With the Elders Potluck Luncheon
DESCRIPTION:Rev Joel & Rev Debra will host this luncheon in the Alliance Room for the Over 60s group on Tues.\, January 20. People will bring potluck dishes to share. The Revs will lead a discussion during lunch.
URL:https://fuusn.org/event/eatin-with-the-elders-potluck-luncheon-2/
LOCATION:Alliance Room\, 1326 Washington St.\, West Newton\, MA\, 02465\, United States
CATEGORIES:Over 60s
END:VEVENT
BEGIN:VEVENT
DTSTART;TZID=America/New_York:20260111T120000
DTEND;TZID=America/New_York:20260111T140000
DTSTAMP:20260421T141437
CREATED:20251118T141720Z
LAST-MODIFIED:20251118T141720Z
UID:10004584-1768132800-1768140000@fuusn.org
SUMMARY:Letters: In the Company of Writers
DESCRIPTION:Letters—Writing in the Company of Writers is a hands-on writing workshop where members engage in timed writing sessions based on a prompt and then share their writing with each other.
URL:https://fuusn.org/event/letters-in-the-company-of-writers-4/
LOCATION:Alliance Room\, 1326 Washington St.\, West Newton\, MA\, 02465\, United States
END:VEVENT
BEGIN:VEVENT
DTSTART;TZID=America/New_York:20251216T190000
DTEND;TZID=America/New_York:20251216T210000
DTSTAMP:20260421T141437
CREATED:20251015T132345Z
LAST-MODIFIED:20251015T132345Z
UID:10004568-1765911600-1765918800@fuusn.org
SUMMARY:Operations Council Meeting
DESCRIPTION:
URL:https://fuusn.org/event/operations-council-meeting-2/2025-12-16/
LOCATION:Alliance Room\, 1326 Washington St.\, West Newton\, MA\, 02465\, United States
CATEGORIES:Meetings,Operations Council
END:VEVENT
BEGIN:VEVENT
DTSTART;TZID=America/New_York:20251216T113000
DTEND;TZID=America/New_York:20251216T123000
DTSTAMP:20260421T141437
CREATED:20251104T163101Z
LAST-MODIFIED:20251104T163101Z
UID:10004583-1765884600-1765888200@fuusn.org
SUMMARY:Eatin' With the Elders Potluck Luncheon
DESCRIPTION:Rev Joel & Rev Debra will host this luncheon in the Alliance Room for the Over 60s group on Tues.\, Dec. 16. People will bring potluck dishes to share. The Revs will lead a discussion during lunch.
URL:https://fuusn.org/event/eatin-with-the-elders-potluck-luncheon/
LOCATION:Alliance Room\, 1326 Washington St.\, West Newton\, MA\, 02465\, United States
CATEGORIES:Over 60s
END:VEVENT
BEGIN:VEVENT
DTSTART;TZID=America/New_York:20251214T120000
DTEND;TZID=America/New_York:20251214T140000
DTSTAMP:20260421T141437
CREATED:20250806T145719Z
LAST-MODIFIED:20250910T185017Z
UID:10004318-1765713600-1765720800@fuusn.org
SUMMARY:Social Justice
DESCRIPTION:The Social Justice Speaker Series brings excellent speakers to FUUSN monthly during the church year. Reserve your spot for lunch or volunteer to help at the link below.  Visit the Social Justice webpage for more information.
URL:https://fuusn.org/event/social-justice/2025-12-14/
LOCATION:Alliance Room\, 1326 Washington St.\, West Newton\, MA\, 02465\, United States
CATEGORIES:Public Events
END:VEVENT
BEGIN:VEVENT
DTSTART;TZID=America/New_York:20251214T120000
DTEND;TZID=America/New_York:20251214T130000
DTSTAMP:20260421T141437
CREATED:20251210T162342Z
LAST-MODIFIED:20251210T162342Z
UID:10004598-1765713600-1765717200@fuusn.org
SUMMARY:Social Justice
DESCRIPTION:The Social Justice Speaker Series brings excellent speakers to FUUSN monthly during the church year. Reserve your spot for lunch or volunteer to help at the link below.  Visit the Social Justice webpage for more information.
URL:https://fuusn.org/event/social-justice-3/
LOCATION:Alliance Room\, 1326 Washington St.\, West Newton\, MA\, 02465\, United States
END:VEVENT
BEGIN:VEVENT
DTSTART;TZID=America/New_York:20251206T093000
DTEND;TZID=America/New_York:20251206T130000
DTSTAMP:20260421T141437
CREATED:20251118T173810Z
LAST-MODIFIED:20251118T173846Z
UID:10004587-1765013400-1765026000@fuusn.org
SUMMARY:Silent Auction
DESCRIPTION:The Silent Auction has items ranging from vintage/antique to modern\, ranging from artwork\, silver\, and china\, to jewelry\, household items\, and toys. There are always interesting items in the collection. The Auction runs during the Holiday Fair until 1pm (volunteers may shop during setup!); then on Sunday\, items that are still left are available to FUUSN congregants at their minimum bid price. We look forward to your participation!
URL:https://fuusn.org/event/silent-auction/
LOCATION:Alliance Room\, 1326 Washington St.\, West Newton\, MA\, 02465\, United States
END:VEVENT
BEGIN:VEVENT
DTSTART;TZID=America/New_York:20251118T190000
DTEND;TZID=America/New_York:20251118T210000
DTSTAMP:20260421T141437
CREATED:20251015T132345Z
LAST-MODIFIED:20251015T132345Z
UID:10004567-1763492400-1763499600@fuusn.org
SUMMARY:Operations Council Meeting
DESCRIPTION:
URL:https://fuusn.org/event/operations-council-meeting-2/2025-11-18/
LOCATION:Alliance Room\, 1326 Washington St.\, West Newton\, MA\, 02465\, United States
CATEGORIES:Meetings,Operations Council
END:VEVENT
BEGIN:VEVENT
DTSTART;TZID=America/New_York:20251117T190000
DTEND;TZID=America/New_York:20251117T210000
DTSTAMP:20260421T141437
CREATED:20251001T153306Z
LAST-MODIFIED:20251001T164219Z
UID:10004502-1763406000-1763413200@fuusn.org
SUMMARY:Holiday fair craft group
DESCRIPTION:Come join fellow artists and crafters to work on pieces for the holiday fair maker’s market. Please bring your ideas and/or in-progress projects to work together and share encouragement.
URL:https://fuusn.org/event/holiday-fair-craft-group/2025-11-17/
LOCATION:Alliance Room\, 1326 Washington St.\, West Newton\, MA\, 02465\, United States
END:VEVENT
BEGIN:VEVENT
DTSTART;TZID=America/New_York:20251116T120000
DTEND;TZID=America/New_York:20251116T140000
DTSTAMP:20260421T141437
CREATED:20250806T145719Z
LAST-MODIFIED:20250910T185017Z
UID:10004317-1763294400-1763301600@fuusn.org
SUMMARY:Social Justice
DESCRIPTION:The Social Justice Speaker Series brings excellent speakers to FUUSN monthly during the church year. Reserve your spot for lunch or volunteer to help at the link below.  Visit the Social Justice webpage for more information.
URL:https://fuusn.org/event/social-justice/2025-11-16/
LOCATION:Alliance Room\, 1326 Washington St.\, West Newton\, MA\, 02465\, United States
CATEGORIES:Public Events
END:VEVENT
BEGIN:VEVENT
DTSTART;TZID=America/New_York:20251107T100000
DTEND;TZID=America/New_York:20251107T150000
DTSTAMP:20260421T141437
CREATED:20251001T161138Z
LAST-MODIFIED:20251001T161138Z
UID:10004504-1762509600-1762527600@fuusn.org
SUMMARY:Aging Well in Community
DESCRIPTION:A Retreat for Women Workshop – A workshop including participants’ wisdom\, experiences of aging\, joys\, struggles\, concerns\, accomplishments shared. Journal writing. poetry\, both small and large group format. Lunch also.
URL:https://fuusn.org/event/aging-well-in-community-2/
LOCATION:Alliance Room\, 1326 Washington St.\, West Newton\, MA\, 02465\, United States
CATEGORIES:Over 60s
END:VEVENT
BEGIN:VEVENT
DTSTART;TZID=America/New_York:20251106T190000
DTEND;TZID=America/New_York:20251106T210000
DTSTAMP:20260421T141437
CREATED:20251001T153306Z
LAST-MODIFIED:20251001T164219Z
UID:10004501-1762455600-1762462800@fuusn.org
SUMMARY:Holiday fair craft group
DESCRIPTION:Come join fellow artists and crafters to work on pieces for the holiday fair maker’s market. Please bring your ideas and/or in-progress projects to work together and share encouragement.
URL:https://fuusn.org/event/holiday-fair-craft-group/2025-11-06/
LOCATION:Alliance Room\, 1326 Washington St.\, West Newton\, MA\, 02465\, United States
END:VEVENT
BEGIN:VEVENT
DTSTART;TZID=America/New_York:20251104T113000
DTEND;TZID=America/New_York:20251104T123000
DTSTAMP:20260421T141437
CREATED:20251029T130815Z
LAST-MODIFIED:20251029T130815Z
UID:10004581-1762255800-1762259400@fuusn.org
SUMMARY:Eat'in with the Elders
DESCRIPTION:Bring your own Lunch “Eat’in with the Elders”.  Come join us for this traditional\, enjoyable time together with our ministers.
URL:https://fuusn.org/event/eatin-with-the-elders-5/
LOCATION:Alliance Room\, 1326 Washington St.\, West Newton\, MA\, 02465\, United States
CATEGORIES:Over 60s
END:VEVENT
BEGIN:VEVENT
DTSTART;TZID=America/New_York:20251026T120000
DTEND;TZID=America/New_York:20251026T140000
DTSTAMP:20260421T141437
CREATED:20250806T145719Z
LAST-MODIFIED:20250910T185017Z
UID:10004316-1761480000-1761487200@fuusn.org
SUMMARY:Social Justice
DESCRIPTION:The Social Justice Speaker Series brings excellent speakers to FUUSN monthly during the church year. Reserve your spot for lunch or volunteer to help at the link below.  Visit the Social Justice webpage for more information.
URL:https://fuusn.org/event/social-justice/2025-10-26/
LOCATION:Alliance Room\, 1326 Washington St.\, West Newton\, MA\, 02465\, United States
CATEGORIES:Public Events
END:VEVENT
BEGIN:VEVENT
DTSTART;TZID=America/New_York:20251022T190000
DTEND;TZID=America/New_York:20251022T210000
DTSTAMP:20260421T141437
CREATED:20251001T153306Z
LAST-MODIFIED:20251001T164219Z
UID:10004500-1761159600-1761166800@fuusn.org
SUMMARY:Holiday fair craft group
DESCRIPTION:Come join fellow artists and crafters to work on pieces for the holiday fair maker’s market. Please bring your ideas and/or in-progress projects to work together and share encouragement.
URL:https://fuusn.org/event/holiday-fair-craft-group/2025-10-22/
LOCATION:Alliance Room\, 1326 Washington St.\, West Newton\, MA\, 02465\, United States
END:VEVENT
END:VCALENDAR