BEGIN:VCALENDAR
VERSION:2.0
PRODID:-//First Unitarian Universalist Society in Newton - ECPv6.15.17.1//NONSGML v1.0//EN
CALSCALE:GREGORIAN
METHOD:PUBLISH
X-WR-CALNAME:First Unitarian Universalist Society in Newton
X-ORIGINAL-URL:https://fuusn.org
X-WR-CALDESC:Events for First Unitarian Universalist Society in Newton
REFRESH-INTERVAL;VALUE=DURATION:PT1H
X-Robots-Tag:noindex
X-PUBLISHED-TTL:PT1H
BEGIN:VTIMEZONE
TZID:America/New_York
BEGIN:DAYLIGHT
TZOFFSETFROM:-0500
TZOFFSETTO:-0400
TZNAME:EDT
DTSTART:20230312T070000
END:DAYLIGHT
BEGIN:STANDARD
TZOFFSETFROM:-0400
TZOFFSETTO:-0500
TZNAME:EST
DTSTART:20231105T060000
END:STANDARD
BEGIN:DAYLIGHT
TZOFFSETFROM:-0500
TZOFFSETTO:-0400
TZNAME:EDT
DTSTART:20240310T070000
END:DAYLIGHT
BEGIN:STANDARD
TZOFFSETFROM:-0400
TZOFFSETTO:-0500
TZNAME:EST
DTSTART:20241103T060000
END:STANDARD
BEGIN:DAYLIGHT
TZOFFSETFROM:-0500
TZOFFSETTO:-0400
TZNAME:EDT
DTSTART:20250309T070000
END:DAYLIGHT
BEGIN:STANDARD
TZOFFSETFROM:-0400
TZOFFSETTO:-0500
TZNAME:EST
DTSTART:20251102T060000
END:STANDARD
END:VTIMEZONE
BEGIN:VEVENT
DTSTART;TZID=America/New_York:20241115T180000
DTEND;TZID=America/New_York:20241115T190000
DTSTAMP:20260421T212410
CREATED:20240715T173639Z
LAST-MODIFIED:20240715T180615Z
UID:10003022-1731693600-1731697200@fuusn.org
SUMMARY:Mentors Dinner
DESCRIPTION:
URL:https://fuusn.org/event/mentor-and-parents-dinner/
LOCATION:Alliance Room\, 1326 Washington St.\, West Newton\, MA\, 02465\, United States
END:VEVENT
BEGIN:VEVENT
DTSTART;TZID=America/New_York:20241113T190000
DTEND;TZID=America/New_York:20241113T203000
DTSTAMP:20260421T212410
CREATED:20241008T171301Z
LAST-MODIFIED:20241008T171301Z
UID:10003533-1731524400-1731529800@fuusn.org
SUMMARY:Lakewood Tennis Club
DESCRIPTION:
URL:https://fuusn.org/event/lakewood-tennis-club/
LOCATION:Alliance Room\, 1326 Washington St.\, West Newton\, MA\, 02465\, United States
END:VEVENT
BEGIN:VEVENT
DTSTART;TZID=America/New_York:20241110T113000
DTEND;TZID=America/New_York:20241110T123000
DTSTAMP:20260421T212410
CREATED:20241024T173735Z
LAST-MODIFIED:20241107T171319Z
UID:10003551-1731238200-1731241800@fuusn.org
SUMMARY:Post-Election Conversation with Ministers
DESCRIPTION:
URL:https://fuusn.org/event/conversation-with-ministers/
LOCATION:Alliance Room\, 1326 Washington St.\, West Newton\, MA\, 02465\, United States
CATEGORIES:Front Page
END:VEVENT
BEGIN:VEVENT
DTSTART;TZID=America/New_York:20241107T193000
DTEND;TZID=America/New_York:20241107T210000
DTSTAMP:20260421T212410
CREATED:20241028T140857Z
LAST-MODIFIED:20241028T140857Z
UID:10003560-1731007800-1731013200@fuusn.org
SUMMARY:Finance Committe Meeting
DESCRIPTION:
URL:https://fuusn.org/event/finance-committe-meeting/
LOCATION:Alliance Room\, 1326 Washington St.\, West Newton\, MA\, 02465\, United States
END:VEVENT
BEGIN:VEVENT
DTSTART;TZID=America/New_York:20241106T130000
DTEND;TZID=America/New_York:20241106T160000
DTSTAMP:20260421T212410
CREATED:20241008T173154Z
LAST-MODIFIED:20241025T151432Z
UID:10003535-1730898000-1730908800@fuusn.org
SUMMARY:Election Processing Event
DESCRIPTION:Join Rev. Debra & Rev. Joel for a post election day gathering. More information to come.
URL:https://fuusn.org/event/election-processing-event/
LOCATION:Alliance Room\, 1326 Washington St.\, West Newton\, MA\, 02465\, United States
END:VEVENT
BEGIN:VEVENT
DTSTART;TZID=America/New_York:20241105T200000
DTEND;TZID=America/New_York:20241105T230000
DTSTAMP:20260421T212410
CREATED:20241008T173033Z
LAST-MODIFIED:20241025T151349Z
UID:10003534-1730836800-1730847600@fuusn.org
SUMMARY:Election Night Viewing Party
DESCRIPTION:Join Fellow FUUSN members and friends to watch the election results together. Bring a dessert and beverage to share.
URL:https://fuusn.org/event/election-party/
LOCATION:Alliance Room\, 1326 Washington St.\, West Newton\, MA\, 02465\, United States
END:VEVENT
BEGIN:VEVENT
DTSTART;TZID=America/New_York:20241103T120000
DTEND;TZID=America/New_York:20241103T140000
DTSTAMP:20260421T212410
CREATED:20241031T163005Z
LAST-MODIFIED:20241031T163008Z
UID:10003153-1730635200-1730642400@fuusn.org
SUMMARY:Social Justice Action Presentation
DESCRIPTION:Everyone is invited for our monthly free lunch after coffee hour in the Alliance Room. Arthur Bembury\, Executive Director – Partakers\, will speak about his experiences supporting hundreds of prisoners to get a college education to improve their opportunities of success after leaving prison. Partakers has helped people get B.U. degrees while they are behind bars. Partakers is supported by an extraordinary and growing group of over 400 volunteer mentors. Their mentors dedicate their time and hearts to their students\, often over a period of years. FUUSN in the past has had many volunteers meet monthly with prisoners to encourage them as they work for their degrees. Come hear about the exciting work of this organization.
URL:https://fuusn.org/event/social-justice-action-presentation-3/
LOCATION:Alliance Room\, 1326 Washington St.\, West Newton\, MA\, 02465\, United States
CATEGORIES:Public Events
END:VEVENT
BEGIN:VEVENT
DTSTART;TZID=America/New_York:20241029T190000
DTEND;TZID=America/New_York:20241029T203000
DTSTAMP:20260421T212410
CREATED:20241024T173529Z
LAST-MODIFIED:20241025T145918Z
UID:10003550-1730228400-1730233800@fuusn.org
SUMMARY:Appreciative Inquiry Meeting
DESCRIPTION:Appreciative Inquiry (AI) is defined as “an asset-based approach to organizational and social engagement that utilizes questions and dialogue to help participants uncover existing strengths\, advantages\, or opportunities” in their organizations\, including congregations. We will create questions to help identify FUUSN’s strengths and opportunities. We want to hear what works well\, when was FUUSN at its best\, and what draws you to this congregation. We also hope that you’ll get to know us better as well. These conversations will help set the stage for our work with the congregation on mission\, vision\, governance\, and strategic planning. \nRegister here
URL:https://fuusn.org/event/meeting-with-the-ministers/
LOCATION:Alliance Room\, 1326 Washington St.\, West Newton\, MA\, 02465\, United States
END:VEVENT
BEGIN:VEVENT
DTSTART;TZID=America/New_York:20241028T113000
DTEND;TZID=America/New_York:20241028T130000
DTSTAMP:20260421T212410
CREATED:20241028T140643Z
LAST-MODIFIED:20241028T140643Z
UID:10003559-1730115000-1730120400@fuusn.org
SUMMARY:Over 60s Presentation
DESCRIPTION:
URL:https://fuusn.org/event/over-60s-presentation-9/
LOCATION:Alliance Room\, 1326 Washington St.\, West Newton\, MA\, 02465\, United States
END:VEVENT
BEGIN:VEVENT
DTSTART;TZID=America/New_York:20241027T120000
DTEND;TZID=America/New_York:20241027T133000
DTSTAMP:20260421T212410
CREATED:20241022T025114Z
LAST-MODIFIED:20241022T025143Z
UID:10003547-1730030400-1730035800@fuusn.org
SUMMARY:Intergenerational Listening Activity
DESCRIPTION:This Sunday\, the Member Services Committee will facilitate an opportunity for people of different generations to practice intergenerational deep listening. Come to the Alliance Room for this incredible opportunity to ask deep questions and answer questions deeply.
URL:https://fuusn.org/event/intergenerational-listening-activity/
LOCATION:Alliance Room\, 1326 Washington St.\, West Newton\, MA\, 02465\, United States
CATEGORIES:Public Events
END:VEVENT
BEGIN:VEVENT
DTSTART;TZID=America/New_York:20241022T184500
DTEND;TZID=America/New_York:20241022T201500
DTSTAMP:20260421T212410
CREATED:20240919T182517Z
LAST-MODIFIED:20241010T003739Z
UID:10003267-1729622700-1729628100@fuusn.org
SUMMARY:Teen Depression Workshop for Trusted Adults
DESCRIPTION:The First UU Society in Newton will be partnering with Families for Depression Awareness (FFDA) to offer loved ones and other trusted adults an opportunity to learn about teen mental wellness and how to support the teens in their lives. Families for Depression Awareness helps families recognize and cope with depression and bipolar disorder to get people well and prevent suicides. \nRegister for the Workshop
URL:https://fuusn.org/event/teen-depression-workshop/
LOCATION:Alliance Room\, 1326 Washington St.\, West Newton\, MA\, 02465\, United States
CATEGORIES:Front Page,Training
END:VEVENT
BEGIN:VEVENT
DTSTART;TZID=America/New_York:20241020T120000
DTEND;TZID=America/New_York:20241020T130000
DTSTAMP:20260421T212410
CREATED:20240226T195759Z
LAST-MODIFIED:20241010T003601Z
UID:10001340-1729425600-1729429200@fuusn.org
SUMMARY:Over 60s Presentation: Common Sense Mindfulness in Challenging Times
DESCRIPTION:Presenter: Marty Lowenthal\, author of twelve books\, senior teacher at the Dedicated Life Institute\, practitioner. \nAlliance Room: 12 – 1 pm. Finger food lunch.
URL:https://fuusn.org/event/over-60s-presentation-7/
LOCATION:Alliance Room\, 1326 Washington St.\, West Newton\, MA\, 02465\, United States
CATEGORIES:Front Page,Over 60s
END:VEVENT
BEGIN:VEVENT
DTSTART;TZID=America/New_York:20241018T103000
DTEND;TZID=America/New_York:20241018T120000
DTSTAMP:20260421T212410
CREATED:20240924T191055Z
LAST-MODIFIED:20240924T194505Z
UID:10003285-1729247400-1729252800@fuusn.org
SUMMARY:Appreciative Inquiry with Revs. Debra and Joel
DESCRIPTION:Appreciative Inquiry (AI) is defined as “an asset-based approach to organizational and social engagement that utilizes questions and dialogue to help participants uncover existing strengths\, advantages\, or opportunities” in their organizations\, including congregations. We will create questions to help identify FUUSN’s strengths and opportunities. We want to hear what works well\, when was FUUSN at its best\, and what draws you to this congregation. We also hope that you’ll get to know us better as well. These conversations will help set the stage for our work with the congregation on mission\, vision\, governance\, and strategic planning. \nPlease plan to attend only one session. \nRegister here.
URL:https://fuusn.org/event/appreciative-inquiry-with-revs-debra-and-joel/2024-10-18/
LOCATION:Alliance Room\, 1326 Washington St.\, West Newton\, MA\, 02465\, United States
CATEGORIES:Front Page,Meetings
END:VEVENT
BEGIN:VEVENT
DTSTART;TZID=America/New_York:20241016T193000
DTEND;TZID=America/New_York:20241016T210000
DTSTAMP:20260421T212410
CREATED:20240924T191055Z
LAST-MODIFIED:20240924T194505Z
UID:10003284-1729107000-1729112400@fuusn.org
SUMMARY:Appreciative Inquiry with Revs. Debra and Joel
DESCRIPTION:Appreciative Inquiry (AI) is defined as “an asset-based approach to organizational and social engagement that utilizes questions and dialogue to help participants uncover existing strengths\, advantages\, or opportunities” in their organizations\, including congregations. We will create questions to help identify FUUSN’s strengths and opportunities. We want to hear what works well\, when was FUUSN at its best\, and what draws you to this congregation. We also hope that you’ll get to know us better as well. These conversations will help set the stage for our work with the congregation on mission\, vision\, governance\, and strategic planning. \nPlease plan to attend only one session. \nRegister here.
URL:https://fuusn.org/event/appreciative-inquiry-with-revs-debra-and-joel/2024-10-16/
LOCATION:Alliance Room\, 1326 Washington St.\, West Newton\, MA\, 02465\, United States
CATEGORIES:Front Page,Meetings
END:VEVENT
BEGIN:VEVENT
DTSTART;TZID=America/New_York:20241013T120000
DTEND;TZID=America/New_York:20241013T140000
DTSTAMP:20260421T212410
CREATED:20240918T135123Z
LAST-MODIFIED:20241010T003345Z
UID:10003152-1728820800-1728828000@fuusn.org
SUMMARY:Social Justice Action Presentation: Short-Term Hosting of Immigrant Families
DESCRIPTION:Everyone is invited for our monthly free lunch after coffee hour in the Alliance Room. UU Rev. Kathleen McTigue will speak about her experiences with short-term hosting of small immigrant families who are desperate for privacy and support. The state’s 7\,500-person cap on sheltering homeless families and immigrants has left 750 people with small children struggling in large\, inhumane spaces and without privacy.
URL:https://fuusn.org/event/social-justice-action-presentation-2/
LOCATION:Alliance Room\, 1326 Washington St.\, West Newton\, MA\, 02465\, United States
CATEGORIES:Front Page,Public Events
END:VEVENT
BEGIN:VEVENT
DTSTART;TZID=America/New_York:20241008T190000
DTEND;TZID=America/New_York:20241008T203000
DTSTAMP:20260421T212410
CREATED:20240925T154122Z
LAST-MODIFIED:20240925T154126Z
UID:10003283-1728414000-1728419400@fuusn.org
SUMMARY:Appreciative Inquiry with Revs. Debra and Joel
DESCRIPTION:Appreciative Inquiry (AI) is defined as “an asset-based approach to organizational and social engagement that utilizes questions and dialogue to help participants uncover existing strengths\, advantages\, or opportunities” in their organizations\, including congregations. We will create questions to help identify FUUSN’s strengths and opportunities. We want to hear what works well\, when was FUUSN at its best\, and what draws you to this congregation. We also hope that you’ll get to know us better as well. These conversations will help set the stage for our work with the congregation on mission\, vision\, governance\, and strategic planning. \nPlease plan to attend only one session. \nRegister here.
URL:https://fuusn.org/event/appreciative-inquiry-with-revs-debra-and-joel-3/
LOCATION:Alliance Room\, 1326 Washington St.\, West Newton\, MA\, 02465\, United States
CATEGORIES:Front Page,Meetings
END:VEVENT
BEGIN:VEVENT
DTSTART;TZID=America/New_York:20241005T090000
DTEND;TZID=America/New_York:20241005T160000
DTSTAMP:20260421T212410
CREATED:20240925T190656Z
LAST-MODIFIED:20240925T190656Z
UID:10003402-1728118800-1728144000@fuusn.org
SUMMARY:Board Retreat
DESCRIPTION:
URL:https://fuusn.org/event/board-retreat-2/
LOCATION:Alliance Room\, 1326 Washington St.\, West Newton\, MA\, 02465\, United States
END:VEVENT
BEGIN:VEVENT
DTSTART;TZID=America/New_York:20240929T120000
DTEND;TZID=America/New_York:20240929T133000
DTSTAMP:20260421T212410
CREATED:20240517T154059Z
LAST-MODIFIED:20240826T154719Z
UID:10002230-1727611200-1727616600@fuusn.org
SUMMARY:Over 60s Presentation: Yoga for Beginner's Mind
DESCRIPTION:All WELCOME !! – Both beginners and practitioners. Presenter: Helena Froehlich\, Professional teacher and creator.\nAlliance Room: 12 – 1:30 pm. Refreshments.
URL:https://fuusn.org/event/over-60s-yoga/
LOCATION:Alliance Room\, 1326 Washington St.\, West Newton\, MA\, 02465\, United States
CATEGORIES:Classes,Over 60s
END:VEVENT
BEGIN:VEVENT
DTSTART;TZID=America/New_York:20240914T110000
DTEND;TZID=America/New_York:20240914T163000
DTSTAMP:20260421T212410
CREATED:20240912T153153Z
LAST-MODIFIED:20240912T153228Z
UID:10003263-1726311600-1726331400@fuusn.org
SUMMARY:Member Services Retreat (closed event)
DESCRIPTION:
URL:https://fuusn.org/event/member-services-retreat-closed-event/
LOCATION:Alliance Room\, 1326 Washington St.\, West Newton\, MA\, 02465\, United States
CATEGORIES:Meetings,Membership
END:VEVENT
BEGIN:VEVENT
DTSTART;TZID=America/New_York:20240912T130000
DTEND;TZID=America/New_York:20240912T140000
DTSTAMP:20260421T212410
CREATED:20240829T153700Z
LAST-MODIFIED:20240829T153700Z
UID:10003160-1726146000-1726149600@fuusn.org
SUMMARY:Annual Pledge Drive Meeting
DESCRIPTION:
URL:https://fuusn.org/event/annual-pledge-drive-meeting/
LOCATION:Alliance Room\, 1326 Washington St.\, West Newton\, MA\, 02465\, United States
CATEGORIES:Meetings
END:VEVENT
BEGIN:VEVENT
DTSTART;TZID=America/New_York:20240909T164500
DTEND;TZID=America/New_York:20240909T190000
DTSTAMP:20260421T212410
CREATED:20240831T150100Z
LAST-MODIFIED:20240831T150127Z
UID:10003161-1725900300-1725908400@fuusn.org
SUMMARY:Over 60s Committee Meeting
DESCRIPTION:
URL:https://fuusn.org/event/over-60s-committee-meeting/
LOCATION:Alliance Room\, 1326 Washington St.\, West Newton\, MA\, 02465\, United States
CATEGORIES:Meetings
END:VEVENT
BEGIN:VEVENT
DTSTART;TZID=America/New_York:20240908T120000
DTEND;TZID=America/New_York:20240908T140000
DTSTAMP:20260421T212410
CREATED:20240829T152714Z
LAST-MODIFIED:20240829T152714Z
UID:10003151-1725796800-1725804000@fuusn.org
SUMMARY:Social Justice Action Presentation
DESCRIPTION:Speakers to be announced later.
URL:https://fuusn.org/event/social-justice-action-presentation/2024-09-08/
LOCATION:Alliance Room\, 1326 Washington St.\, West Newton\, MA\, 02465\, United States
CATEGORIES:Public Events
END:VEVENT
BEGIN:VEVENT
DTSTART;TZID=America/New_York:20240906T180000
DTEND;TZID=America/New_York:20240906T190000
DTSTAMP:20260421T212410
CREATED:20240715T173824Z
LAST-MODIFIED:20240904T135056Z
UID:10003021-1725645600-1725649200@fuusn.org
SUMMARY:COA Mentor Dinner
DESCRIPTION:
URL:https://fuusn.org/event/mentor-and-parents-dinner-3/
LOCATION:Alliance Room\, 1326 Washington St.\, West Newton\, MA\, 02465\, United States
END:VEVENT
BEGIN:VEVENT
DTSTART;TZID=America/New_York:20240828T090000
DTEND;TZID=America/New_York:20240828T170000
DTSTAMP:20260421T212410
CREATED:20240717T135214Z
LAST-MODIFIED:20240717T135214Z
UID:10003047-1724835600-1724864400@fuusn.org
SUMMARY:Community Land Trust Group
DESCRIPTION:
URL:https://fuusn.org/event/community-land-trust-group/
LOCATION:Alliance Room\, 1326 Washington St.\, West Newton\, MA\, 02465\, United States
END:VEVENT
BEGIN:VEVENT
DTSTART;TZID=America/New_York:20240620T100000
DTEND;TZID=America/New_York:20240620T120000
DTSTAMP:20260421T212410
CREATED:20240322T150434Z
LAST-MODIFIED:20240522T182128Z
UID:10001450-1718877600-1718884800@fuusn.org
SUMMARY:Over 60s Presentation: Haiku Retreat
DESCRIPTION:
URL:https://fuusn.org/event/over-60s-presentation-8/
LOCATION:Alliance Room\, 1326 Washington St.\, West Newton\, MA\, 02465\, United States
CATEGORIES:Over 60s
END:VEVENT
BEGIN:VEVENT
DTSTART;TZID=America/New_York:20240602T113000
DTEND;TZID=America/New_York:20240602T130000
DTSTAMP:20260421T212410
CREATED:20231128T165501Z
LAST-MODIFIED:20240518T021248Z
UID:10001023-1717327800-1717333200@fuusn.org
SUMMARY:Gardening\, flowers\, landscape creations/planning
DESCRIPTION:Tips on invasive plants and enriching plants for insects\, butterflies\, – healthy eco-systems
URL:https://fuusn.org/event/gardening-flowers-landscape-creations-planning/
LOCATION:Alliance Room\, 1326 Washington St.\, West Newton\, MA\, 02465\, United States
CATEGORIES:Over 60s
END:VEVENT
BEGIN:VEVENT
DTSTART;TZID=America/New_York:20240530T180000
DTEND;TZID=America/New_York:20240530T190000
DTSTAMP:20260421T212410
CREATED:20240517T190344Z
LAST-MODIFIED:20240518T005054Z
UID:10002237-1717092000-1717095600@fuusn.org
SUMMARY:Candidating Week: Potluck Dinner and Meeting with Ops\, Finance and APD Steering committee
DESCRIPTION:
URL:https://fuusn.org/event/potluck-dinner-and-meeting-with-ops-finance-and-apd-steering-committee/
LOCATION:Alliance Room\, 1326 Washington St.\, West Newton\, MA\, 02465\, United States
CATEGORIES:Ministerial Search
END:VEVENT
BEGIN:VEVENT
DTSTART;TZID=America/New_York:20240530T103000
DTEND;TZID=America/New_York:20240530T233000
DTSTAMP:20260421T212410
CREATED:20240517T190444Z
LAST-MODIFIED:20240520T174344Z
UID:10002238-1717065000-1717111800@fuusn.org
SUMMARY:Candidating Week: Meet the Candidates Drop-in - Open to All
DESCRIPTION:
URL:https://fuusn.org/event/meet-the-candidates-drop-in/
LOCATION:Alliance Room\, 1326 Washington St.\, West Newton\, MA\, 02465\, United States
CATEGORIES:Ministerial Search
END:VEVENT
BEGIN:VEVENT
DTSTART;TZID=America/New_York:20240529T183000
DTEND;TZID=America/New_York:20240529T193000
DTSTAMP:20260421T212410
CREATED:20240517T185655Z
LAST-MODIFIED:20240518T002915Z
UID:10002235-1717007400-1717011000@fuusn.org
SUMMARY:Candidating Week Discussion: Spiritual Development and Unitarian Universalism - Open to All
DESCRIPTION:
URL:https://fuusn.org/event/open-discussion/
LOCATION:Alliance Room\, 1326 Washington St.\, West Newton\, MA\, 02465\, United States
CATEGORIES:Ministerial Search
END:VEVENT
BEGIN:VEVENT
DTSTART;TZID=America/New_York:20240529T110000
DTEND;TZID=America/New_York:20240529T120000
DTSTAMP:20260421T212410
CREATED:20240517T185540Z
LAST-MODIFIED:20240518T003939Z
UID:10002234-1716980400-1716984000@fuusn.org
SUMMARY:Candidating Week: Over 60s Meet and Greet with Revs. Debra and Joel
DESCRIPTION:
URL:https://fuusn.org/event/over-60s-meet-and-greet/
LOCATION:Alliance Room\, 1326 Washington St.\, West Newton\, MA\, 02465\, United States
CATEGORIES:Ministerial Search
END:VEVENT
END:VCALENDAR