BEGIN:VCALENDAR
VERSION:2.0
PRODID:-//First Unitarian Universalist Society in Newton - ECPv6.15.17.1//NONSGML v1.0//EN
CALSCALE:GREGORIAN
METHOD:PUBLISH
X-ORIGINAL-URL:https://fuusn.org
X-WR-CALDESC:Events for First Unitarian Universalist Society in Newton
REFRESH-INTERVAL;VALUE=DURATION:PT1H
X-Robots-Tag:noindex
X-PUBLISHED-TTL:PT1H
BEGIN:VTIMEZONE
TZID:America/New_York
BEGIN:DAYLIGHT
TZOFFSETFROM:-0500
TZOFFSETTO:-0400
TZNAME:EDT
DTSTART:20220313T070000
END:DAYLIGHT
BEGIN:STANDARD
TZOFFSETFROM:-0400
TZOFFSETTO:-0500
TZNAME:EST
DTSTART:20221106T060000
END:STANDARD
BEGIN:DAYLIGHT
TZOFFSETFROM:-0500
TZOFFSETTO:-0400
TZNAME:EDT
DTSTART:20230312T070000
END:DAYLIGHT
BEGIN:STANDARD
TZOFFSETFROM:-0400
TZOFFSETTO:-0500
TZNAME:EST
DTSTART:20231105T060000
END:STANDARD
BEGIN:DAYLIGHT
TZOFFSETFROM:-0500
TZOFFSETTO:-0400
TZNAME:EDT
DTSTART:20240310T070000
END:DAYLIGHT
BEGIN:STANDARD
TZOFFSETFROM:-0400
TZOFFSETTO:-0500
TZNAME:EST
DTSTART:20241103T060000
END:STANDARD
BEGIN:DAYLIGHT
TZOFFSETFROM:-0500
TZOFFSETTO:-0400
TZNAME:EDT
DTSTART:20250309T070000
END:DAYLIGHT
BEGIN:STANDARD
TZOFFSETFROM:-0400
TZOFFSETTO:-0500
TZNAME:EST
DTSTART:20251102T060000
END:STANDARD
BEGIN:DAYLIGHT
TZOFFSETFROM:-0500
TZOFFSETTO:-0400
TZNAME:EDT
DTSTART:20260308T070000
END:DAYLIGHT
BEGIN:STANDARD
TZOFFSETFROM:-0400
TZOFFSETTO:-0500
TZNAME:EST
DTSTART:20261101T060000
END:STANDARD
BEGIN:DAYLIGHT
TZOFFSETFROM:-0500
TZOFFSETTO:-0400
TZNAME:EDT
DTSTART:20270314T070000
END:DAYLIGHT
BEGIN:STANDARD
TZOFFSETFROM:-0400
TZOFFSETTO:-0500
TZNAME:EST
DTSTART:20271107T060000
END:STANDARD
END:VTIMEZONE
BEGIN:VEVENT
DTSTART;TZID=America/New_York:20260412T101500
DTEND;TZID=America/New_York:20260412T113000
DTSTAMP:20260421T114327
CREATED:20250717T152620Z
LAST-MODIFIED:20250717T152620Z
UID:10004278-1775988900-1775993400@fuusn.org
SUMMARY:Religious Exploration
DESCRIPTION:
URL:https://fuusn.org/event/religious-exploration/2026-04-12/
LOCATION:Location TBA\, MA
CATEGORIES:RE Classes,Religious Exploration
END:VEVENT
BEGIN:VEVENT
DTSTART;TZID=America/New_York:20260322T101500
DTEND;TZID=America/New_York:20260322T113000
DTSTAMP:20260421T114327
CREATED:20250717T152620Z
LAST-MODIFIED:20250717T152620Z
UID:10004277-1774174500-1774179000@fuusn.org
SUMMARY:Religious Exploration
DESCRIPTION:
URL:https://fuusn.org/event/religious-exploration/2026-03-22/
LOCATION:Location TBA\, MA
CATEGORIES:RE Classes,Religious Exploration
END:VEVENT
BEGIN:VEVENT
DTSTART;TZID=America/New_York:20260315T101500
DTEND;TZID=America/New_York:20260315T113000
DTSTAMP:20260421T114327
CREATED:20250717T152620Z
LAST-MODIFIED:20250717T152620Z
UID:10004276-1773569700-1773574200@fuusn.org
SUMMARY:Religious Exploration
DESCRIPTION:
URL:https://fuusn.org/event/religious-exploration/2026-03-15/
LOCATION:Location TBA\, MA
CATEGORIES:RE Classes,Religious Exploration
END:VEVENT
BEGIN:VEVENT
DTSTART;TZID=America/New_York:20260308T101500
DTEND;TZID=America/New_York:20260308T113000
DTSTAMP:20260421T114327
CREATED:20250717T152620Z
LAST-MODIFIED:20250717T152620Z
UID:10004275-1772964900-1772969400@fuusn.org
SUMMARY:Religious Exploration
DESCRIPTION:
URL:https://fuusn.org/event/religious-exploration/2026-03-08/
LOCATION:Location TBA\, MA
CATEGORIES:RE Classes,Religious Exploration
END:VEVENT
BEGIN:VEVENT
DTSTART;TZID=America/New_York:20260301T101500
DTEND;TZID=America/New_York:20260301T113000
DTSTAMP:20260421T114327
CREATED:20250717T152620Z
LAST-MODIFIED:20250717T152620Z
UID:10004274-1772360100-1772364600@fuusn.org
SUMMARY:Religious Exploration
DESCRIPTION:
URL:https://fuusn.org/event/religious-exploration/2026-03-01/
LOCATION:Location TBA\, MA
CATEGORIES:RE Classes,Religious Exploration
END:VEVENT
BEGIN:VEVENT
DTSTART;TZID=America/New_York:20260208T101500
DTEND;TZID=America/New_York:20260208T113000
DTSTAMP:20260421T114327
CREATED:20250717T152620Z
LAST-MODIFIED:20250717T152620Z
UID:10004273-1770545700-1770550200@fuusn.org
SUMMARY:Religious Exploration
DESCRIPTION:
URL:https://fuusn.org/event/religious-exploration/2026-02-08/
LOCATION:Location TBA\, MA
CATEGORIES:RE Classes,Religious Exploration
END:VEVENT
BEGIN:VEVENT
DTSTART;TZID=America/New_York:20260201T101500
DTEND;TZID=America/New_York:20260201T113000
DTSTAMP:20260421T114327
CREATED:20250717T152620Z
LAST-MODIFIED:20250717T152620Z
UID:10004272-1769940900-1769945400@fuusn.org
SUMMARY:Religious Exploration
DESCRIPTION:
URL:https://fuusn.org/event/religious-exploration/2026-02-01/
LOCATION:Location TBA\, MA
CATEGORIES:RE Classes,Religious Exploration
END:VEVENT
BEGIN:VEVENT
DTSTART;TZID=America/New_York:20260125T101500
DTEND;TZID=America/New_York:20260125T113000
DTSTAMP:20260421T114327
CREATED:20250717T152620Z
LAST-MODIFIED:20250717T152620Z
UID:10004271-1769336100-1769340600@fuusn.org
SUMMARY:Religious Exploration
DESCRIPTION:
URL:https://fuusn.org/event/religious-exploration/2026-01-25/
LOCATION:Location TBA\, MA
CATEGORIES:RE Classes,Religious Exploration
END:VEVENT
BEGIN:VEVENT
DTSTART;TZID=America/New_York:20260111T101500
DTEND;TZID=America/New_York:20260111T113000
DTSTAMP:20260421T114327
CREATED:20250717T152620Z
LAST-MODIFIED:20250717T152620Z
UID:10004270-1768126500-1768131000@fuusn.org
SUMMARY:Religious Exploration
DESCRIPTION:
URL:https://fuusn.org/event/religious-exploration/2026-01-11/
LOCATION:Location TBA\, MA
CATEGORIES:RE Classes,Religious Exploration
END:VEVENT
BEGIN:VEVENT
DTSTART;TZID=America/New_York:20260104T101500
DTEND;TZID=America/New_York:20260104T113000
DTSTAMP:20260421T114327
CREATED:20250717T152620Z
LAST-MODIFIED:20250717T152620Z
UID:10004269-1767521700-1767526200@fuusn.org
SUMMARY:Religious Exploration
DESCRIPTION:
URL:https://fuusn.org/event/religious-exploration/2026-01-04/
LOCATION:Location TBA\, MA
CATEGORIES:RE Classes,Religious Exploration
END:VEVENT
BEGIN:VEVENT
DTSTART;TZID=America/New_York:20251214T101500
DTEND;TZID=America/New_York:20251214T113000
DTSTAMP:20260421T114327
CREATED:20250717T152620Z
LAST-MODIFIED:20250717T152620Z
UID:10004268-1765707300-1765711800@fuusn.org
SUMMARY:Religious Exploration
DESCRIPTION:
URL:https://fuusn.org/event/religious-exploration/2025-12-14/
LOCATION:Location TBA\, MA
CATEGORIES:RE Classes,Religious Exploration
END:VEVENT
BEGIN:VEVENT
DTSTART;TZID=America/New_York:20251207T101500
DTEND;TZID=America/New_York:20251207T113000
DTSTAMP:20260421T114327
CREATED:20250717T152620Z
LAST-MODIFIED:20250717T152620Z
UID:10004267-1765102500-1765107000@fuusn.org
SUMMARY:Religious Exploration
DESCRIPTION:
URL:https://fuusn.org/event/religious-exploration/2025-12-07/
LOCATION:Location TBA\, MA
CATEGORIES:RE Classes,Religious Exploration
END:VEVENT
BEGIN:VEVENT
DTSTART;TZID=America/New_York:20251116T101500
DTEND;TZID=America/New_York:20251116T113000
DTSTAMP:20260421T114327
CREATED:20250717T152620Z
LAST-MODIFIED:20250717T152620Z
UID:10004266-1763288100-1763292600@fuusn.org
SUMMARY:Religious Exploration
DESCRIPTION:
URL:https://fuusn.org/event/religious-exploration/2025-11-16/
LOCATION:Location TBA\, MA
CATEGORIES:RE Classes,Religious Exploration
END:VEVENT
BEGIN:VEVENT
DTSTART;TZID=America/New_York:20251109T101500
DTEND;TZID=America/New_York:20251109T113000
DTSTAMP:20260421T114327
CREATED:20250717T152620Z
LAST-MODIFIED:20250717T152620Z
UID:10004265-1762683300-1762687800@fuusn.org
SUMMARY:Religious Exploration
DESCRIPTION:
URL:https://fuusn.org/event/religious-exploration/2025-11-09/
LOCATION:Location TBA\, MA
CATEGORIES:RE Classes,Religious Exploration
END:VEVENT
BEGIN:VEVENT
DTSTART;TZID=America/New_York:20251102T101500
DTEND;TZID=America/New_York:20251102T113000
DTSTAMP:20260421T114327
CREATED:20250717T152620Z
LAST-MODIFIED:20250717T152620Z
UID:10004264-1762078500-1762083000@fuusn.org
SUMMARY:Religious Exploration
DESCRIPTION:
URL:https://fuusn.org/event/religious-exploration/2025-11-02/
LOCATION:Location TBA\, MA
CATEGORIES:RE Classes,Religious Exploration
END:VEVENT
BEGIN:VEVENT
DTSTART;TZID=America/New_York:20251026T101500
DTEND;TZID=America/New_York:20251026T113000
DTSTAMP:20260421T114327
CREATED:20250717T152620Z
LAST-MODIFIED:20250717T152620Z
UID:10004263-1761473700-1761478200@fuusn.org
SUMMARY:Religious Exploration
DESCRIPTION:
URL:https://fuusn.org/event/religious-exploration/2025-10-26/
LOCATION:Location TBA\, MA
CATEGORIES:RE Classes,Religious Exploration
END:VEVENT
BEGIN:VEVENT
DTSTART;TZID=America/New_York:20251019T101500
DTEND;TZID=America/New_York:20251019T113000
DTSTAMP:20260421T114327
CREATED:20250717T152620Z
LAST-MODIFIED:20250717T152620Z
UID:10004262-1760868900-1760873400@fuusn.org
SUMMARY:Religious Exploration
DESCRIPTION:
URL:https://fuusn.org/event/religious-exploration/2025-10-19/
LOCATION:Location TBA\, MA
CATEGORIES:RE Classes,Religious Exploration
END:VEVENT
BEGIN:VEVENT
DTSTART;TZID=America/New_York:20250928T101500
DTEND;TZID=America/New_York:20250928T113000
DTSTAMP:20260421T114327
CREATED:20250717T152620Z
LAST-MODIFIED:20250717T152620Z
UID:10004261-1759054500-1759059000@fuusn.org
SUMMARY:Religious Exploration
DESCRIPTION:
URL:https://fuusn.org/event/religious-exploration/2025-09-28/
LOCATION:Location TBA\, MA
CATEGORIES:RE Classes,Religious Exploration
END:VEVENT
BEGIN:VEVENT
DTSTART;TZID=America/New_York:20250921T101500
DTEND;TZID=America/New_York:20250921T113000
DTSTAMP:20260421T114327
CREATED:20250717T152620Z
LAST-MODIFIED:20250717T152620Z
UID:10004260-1758449700-1758454200@fuusn.org
SUMMARY:Religious Exploration
DESCRIPTION:
URL:https://fuusn.org/event/religious-exploration/2025-09-21/
LOCATION:Location TBA\, MA
CATEGORIES:RE Classes,Religious Exploration
END:VEVENT
BEGIN:VEVENT
DTSTART;TZID=America/New_York:20231112T101500
DTEND;TZID=America/New_York:20231112T113000
DTSTAMP:20260421T114327
CREATED:20231030T193547Z
LAST-MODIFIED:20231031T015044Z
UID:10000986-1699784100-1699788600@fuusn.org
SUMMARY:Music Sunday
DESCRIPTION:The First Unitarian Universalist Society in Newton will mark Veterans Day with a Music Sunday service on Sunday\, November 12\, at 10:15am. The service will feature works by Vaughan Williams\, Crosby Stills & Nash\, Debussy\, and more. Pianist Lois Shapiro and guitarist Bob MacWilliams will play\, and the choir will sing excerpts from Vaughan Williams’ Dona Nobis Pacem. This timely anti-war piece was composed in 1936 on texts by Walt Whitman\, closing with the iconic text from Isaiah\, “Nation shall not lift up a sword against nation\, neither shall they learn war any more.”
URL:https://fuusn.org/event/music-sunday/
LOCATION:Location TBA\, MA
CATEGORIES:Special Services,Sunday Services
END:VEVENT
BEGIN:VEVENT
DTSTART;TZID=America/New_York:20231111T100000
DTEND;TZID=America/New_York:20231111T120000
DTSTAMP:20260421T114327
CREATED:20231108T154835Z
LAST-MODIFIED:20231109T212430Z
UID:10000998-1699696800-1699704000@fuusn.org
SUMMARY:Tree Sale Setup
DESCRIPTION:Come and help us prepare for the annual Tree Sale. Email fuusn-trees@fuusn.org to sign up or just come on over. Outdoor work\, so dress warmly.
URL:https://fuusn.org/event/tree-sale-setup/
LOCATION:Location TBA\, MA
CATEGORIES:Public Events,Tree Sale
END:VEVENT
BEGIN:VEVENT
DTSTART;TZID=America/New_York:20231105T101500
DTEND;TZID=America/New_York:20231105T113000
DTSTAMP:20260421T114327
CREATED:20230713T162535Z
LAST-MODIFIED:20230713T234834Z
UID:10000028-1699179300-1699183800@fuusn.org
SUMMARY:Spirit Circle: NBARC Focus
DESCRIPTION:
URL:https://fuusn.org/event/religious-exploration-classes-2/
LOCATION:Location TBA\, MA
CATEGORIES:RE Classes,Religious Exploration
END:VEVENT
BEGIN:VEVENT
DTSTART;TZID=America/New_York:20231001T101500
DTEND;TZID=America/New_York:20231001T113000
DTSTAMP:20260421T114327
CREATED:20230712T204111Z
LAST-MODIFIED:20230927T205230Z
UID:10000026-1696155300-1696159800@fuusn.org
SUMMARY:Blessing of the Animals - Multigenerational Service (No Religious Exploration)
DESCRIPTION:You are invited to bring your favorite furry\, hairy\, feathered\, scaly\, or shelled pet to the Sunday morning service at FUUSN. We will celebrate our kinship with all living creatures in the spirit of St. Francis of Assisi and share one of his iconic stories of compassion. This will be a service for all generations\, and we encourage you to invite pet-loving friends to join us! \nYou can bring your beloved creatures along or bring a photo of them; we will also offer a memorial for pets who are no longer with us (who can also be represented with a photo). \nDeciding whether to bring your pet or bring a photo? If you can say yes to these things\, please bring ‘em: \n\nI can keep my pet in my physical control (via leash\, carrier\, box etc.) indoors for 45 minutes\nMy pet won’t be overly stressed by the presence of other animals or humans\n\nIf you are someone who is allergic to animals but would like to be present for the service\, we recommend that you wear a mask and sit in the pews near the rear of the sanctuary to limit your exposure.
URL:https://fuusn.org/event/blessing-of-the-animals-multigenerational-service-no-re/
LOCATION:Location TBA\, MA
CATEGORIES:Public Events,RE Classes,Religious Exploration,Special Services,Sunday Services
END:VEVENT
BEGIN:VEVENT
DTSTART;TZID=America/New_York:20230929T190000
DTEND;TZID=America/New_York:20230929T210000
DTSTAMP:20260421T114327
CREATED:20230926T200621Z
LAST-MODIFIED:20230926T200758Z
UID:10000724-1696014000-1696021200@fuusn.org
SUMMARY:Youth Group S'mores Night
DESCRIPTION:On Friday\, September 29th\, 2023\, our Youth Group (9th-12th Grades) will have a S’mores Night from 7:00 PM to 9:00 PM at FUUSN. In case of rain\, we will reschedule to a later date.
URL:https://fuusn.org/event/youth-group-smores-night/
LOCATION:Location TBA\, MA
CATEGORIES:RE Classes,Youth Group
END:VEVENT
BEGIN:VEVENT
DTSTART;TZID=America/New_York:20230924T101500
DTEND;TZID=America/New_York:20230924T113000
DTSTAMP:20260421T114327
CREATED:20230712T203926Z
LAST-MODIFIED:20230713T234630Z
UID:10000025-1695550500-1695555000@fuusn.org
SUMMARY:Religious Exploration Classes Begin
DESCRIPTION:
URL:https://fuusn.org/event/religious-exploration-classes-1/
LOCATION:Location TBA\, MA
CATEGORIES:RE Classes,Religious Exploration
END:VEVENT
BEGIN:VEVENT
DTSTART;TZID=America/New_York:20230917T101500
DTEND;TZID=America/New_York:20230917T113000
DTSTAMP:20260421T114327
CREATED:20230712T203646Z
LAST-MODIFIED:20230713T162032Z
UID:10000024-1694945700-1694950200@fuusn.org
SUMMARY:Spirit Circle: Covenant Focus
DESCRIPTION:
URL:https://fuusn.org/event/spirit-circle-covenant-focus/
LOCATION:Location TBA\, MA
CATEGORIES:RE Classes,Religious Exploration
END:VEVENT
BEGIN:VEVENT
DTSTART;TZID=America/New_York:20230910T101500
DTEND;TZID=America/New_York:20230910T113000
DTSTAMP:20260421T114327
CREATED:20230705T165605Z
LAST-MODIFIED:20230705T165605Z
UID:10000020-1694340900-1694345400@fuusn.org
SUMMARY:Water Ceremony
DESCRIPTION:We resume Sunday Services in the sanctuary with our annual ritual of ingathering. All are invited to bring a small amount of water from your summer journeys\, near or far\, to symbolize what has given us life and nourished us in our time apart. Rev. Parisa Parsa\, Devin Shmueli\, Anne Watson Born\, Carson Cooman and our FUSN Sanctuary Choir are crafting this special celebration. \nThis service is designed for people of all ages! Optional nursery care is available for those under age 5.
URL:https://fuusn.org/event/water-ceremony/
LOCATION:Location TBA\, MA
CATEGORIES:Public Events,Sunday Services
ORGANIZER;CN="Rev. Parisa Parsa":MAILTO:parisa@fuusn.org
END:VEVENT
BEGIN:VEVENT
DTSTART;TZID=America/New_York:20230819T170000
DTEND;TZID=America/New_York:20230819T180000
DTSTAMP:20260421T114327
CREATED:20230627T184240Z
LAST-MODIFIED:20230815T141905Z
UID:10000018-1692464400-1692468000@fuusn.org
SUMMARY:Summer Chime Concert
DESCRIPTION:All are invited to bring blankets or lawn chairs to FUUSN’s front lawn for a casual (free) concert. Feel free to bring a picnic supper. In case of rain\, indoor seating will be provided. \nEach concert will last about one hour. During the summer series chimers will include Paul Antonucci\, Bob Feldman\, Cathy Longley-Cook\, and Jenny Xia\, and quite likely others. View our program. \nDid you notice the silence? FUUSN’s bells went silent in February when chimers noticed damage to a pulley. Repairs in June were made by John McShane\, on behalf of his family’s firm\, McShane Bell Co. Back in 1916\, the same company that forged and installed FUUSN’s bells! \nThe chime consists of eleven bells with a combined weight just shy of seven tons. Each bell is engraved with a motto that FUUSN chose\, giving insight into the the theology and values of 1916 West Newton Unitarians. Listed from largest to smallest\, the bells are engraved as follows:\nMy tongue shall tell of the Fatherhood of God;\nMy voice shall prophesy of the Brotherhood of Man;\nI speak of the saving power of the good life;\nI proclaim the freedom of the mind to think and of the soul to worship;\nI testify to the supreme worth of human service;\nI ring out for the selfishness and meanness of men;\nI ring in the generous spirit and the blameless life;\nI sound abroad the joy at the heart of the world;\nI cry the eternal progress of mankind;\nI am the voice of Faith\, Hope and Love;\nI sing the valors and the excellence of the humble children of God. \nView our Flyer: Summer Chimes Flyer 2023nb \nWould you be interested in learning how to play the chime? We are always looking for new chimers. If so\, or if you have questions\, contact Gayle Smalley\, email: gaylesmalley at mindspring dot com.
URL:https://fuusn.org/event/summer-chime-concert-3/
LOCATION:Location TBA\, MA
CATEGORIES:Concerts,Public Events
END:VEVENT
BEGIN:VEVENT
DTSTART;TZID=America/New_York:20230723T170000
DTEND;TZID=America/New_York:20230723T180000
DTSTAMP:20260421T114327
CREATED:20230627T184150Z
LAST-MODIFIED:20230717T170822Z
UID:10000017-1690131600-1690135200@fuusn.org
SUMMARY:Summer Chime Concert
DESCRIPTION:All are invited to bring blankets or lawn chairs to FUUSN’s front lawn for a casual (free) concert. Feel free to bring a picnic supper. In case of rain\, indoor seating will be provided. \nEach concert will last about one hour. During the summer series chimers will include Paul Antonucci\, Bob Feldman\, Cathy Longley-Cook\, and Jenny Xia\, and quite likely others. \nDid you notice the silence? FUUSN’s bells went silent in February when chimers noticed damage to a pulley. Repairs in June were made by John McShane\, on behalf of his family’s firm\, McShane Bell Co. Back in 1916\, the same company that forged and installed FUUSN’s bells! \nThe chime consists of eleven bells with a combined weight just shy of seven tons. Each bell is engraved with a motto that FUUSN chose\, giving insight into the the theology and values of 1916 West Newton Unitarians. Listed from largest to smallest\, the bells are engraved as follows:\nMy tongue shall tell of the Fatherhood of God;\nMy voice shall prophesy of the Brotherhood of Man;\nI speak of the saving power of the good life;\nI proclaim the freedom of the mind to think and of the soul to worship;\nI testify to the supreme worth of human service;\nI ring out for the selfishness and meanness of men;\nI ring in the generous spirit and the blameless life;\nI sound abroad the joy at the heart of the world;\nI cry the eternal progress of mankind;\nI am the voice of Faith\, Hope and Love;\nI sing the valors and the excellence of the humble children of God. \nView our Flyer: Summer Chimes Flyer 2023nb \nWould you be interested in learning how to play the chime? We are always looking for new chimers. If so\, or if you have questions\, contact Gayle Smalley\, email: gaylesmalley@mindspring.com.
URL:https://fuusn.org/event/summer-chime-concert-2/
LOCATION:Location TBA\, MA
CATEGORIES:Concerts,Public Events
END:VEVENT
BEGIN:VEVENT
DTSTART;TZID=America/New_York:20230712T190000
DTEND;TZID=America/New_York:20230712T200000
DTSTAMP:20260421T114327
CREATED:20230627T184042Z
LAST-MODIFIED:20230717T170725Z
UID:10000016-1689188400-1689192000@fuusn.org
SUMMARY:Summer Chime Concert
DESCRIPTION:All are invited to bring blankets or lawn chairs to FUUSN’s front lawn for a casual (free) concert. Feel free to bring a picnic supper. In case of rain\, indoor seating will be provided. \nEach concert will last about one hour. During the summer series chimers will include Paul Antonucci\, Bob Feldman\, Cathy Longley-Cook\, and Jenny Xia\, and quite likely others. \nDid you notice the silence? FUUSN’s bells went silent in February when chimers noticed damage to a pulley. Repairs in June were made by John McShane\, on behalf of his family’s firm\, McShane Bell Co. Back in 1916\, the same company that forged and installed FUUSN’s bells! \nThe chime consists of eleven bells with a combined weight just shy of seven tons. Each bell is engraved with a motto that FUUSN chose\, giving insight into the the theology and values of 1916 West Newton Unitarians. Listed from largest to smallest\, the bells are engraved as follows:\nMy tongue shall tell of the Fatherhood of God;\nMy voice shall prophesy of the Brotherhood of Man;\nI speak of the saving power of the good life;\nI proclaim the freedom of the mind to think and of the soul to worship;\nI testify to the supreme worth of human service;\nI ring out for the selfishness and meanness of men;\nI ring in the generous spirit and the blameless life;\nI sound abroad the joy at the heart of the world;\nI cry the eternal progress of mankind;\nI am the voice of Faith\, Hope and Love;\nI sing the valors and the excellence of the humble children of God. \nWould you be interested in learning how to play the chime? We are always looking for new chimers. If so\, or if you have questions\, contact Gayle Smalley\, email: gaylesmalley at mindspring dot com. \nView our Flyer: Summer Chimes Flyer 2023nb
URL:https://fuusn.org/event/summer-chime-concert/
LOCATION:Location TBA\, MA
CATEGORIES:Concerts,Public Events
END:VEVENT
END:VCALENDAR