BEGIN:VCALENDAR
VERSION:2.0
PRODID:-//First Unitarian Universalist Society in Newton - ECPv6.15.17.1//NONSGML v1.0//EN
CALSCALE:GREGORIAN
METHOD:PUBLISH
X-ORIGINAL-URL:https://fuusn.org
X-WR-CALDESC:Events for First Unitarian Universalist Society in Newton
REFRESH-INTERVAL;VALUE=DURATION:PT1H
X-Robots-Tag:noindex
X-PUBLISHED-TTL:PT1H
BEGIN:VTIMEZONE
TZID:America/New_York
BEGIN:DAYLIGHT
TZOFFSETFROM:-0500
TZOFFSETTO:-0400
TZNAME:EDT
DTSTART:20250309T070000
END:DAYLIGHT
BEGIN:STANDARD
TZOFFSETFROM:-0400
TZOFFSETTO:-0500
TZNAME:EST
DTSTART:20251102T060000
END:STANDARD
BEGIN:DAYLIGHT
TZOFFSETFROM:-0500
TZOFFSETTO:-0400
TZNAME:EDT
DTSTART:20260308T070000
END:DAYLIGHT
BEGIN:STANDARD
TZOFFSETFROM:-0400
TZOFFSETTO:-0500
TZNAME:EST
DTSTART:20261101T060000
END:STANDARD
BEGIN:DAYLIGHT
TZOFFSETFROM:-0500
TZOFFSETTO:-0400
TZNAME:EDT
DTSTART:20270314T070000
END:DAYLIGHT
BEGIN:STANDARD
TZOFFSETFROM:-0400
TZOFFSETTO:-0500
TZNAME:EST
DTSTART:20271107T060000
END:STANDARD
BEGIN:DAYLIGHT
TZOFFSETFROM:-0500
TZOFFSETTO:-0400
TZNAME:EDT
DTSTART:20280312T070000
END:DAYLIGHT
BEGIN:STANDARD
TZOFFSETFROM:-0400
TZOFFSETTO:-0500
TZNAME:EST
DTSTART:20281105T060000
END:STANDARD
BEGIN:DAYLIGHT
TZOFFSETFROM:-0500
TZOFFSETTO:-0400
TZNAME:EDT
DTSTART:20290311T070000
END:DAYLIGHT
BEGIN:STANDARD
TZOFFSETFROM:-0400
TZOFFSETTO:-0500
TZNAME:EST
DTSTART:20291104T060000
END:STANDARD
BEGIN:DAYLIGHT
TZOFFSETFROM:-0500
TZOFFSETTO:-0400
TZNAME:EDT
DTSTART:20300310T070000
END:DAYLIGHT
BEGIN:STANDARD
TZOFFSETFROM:-0400
TZOFFSETTO:-0500
TZNAME:EST
DTSTART:20301103T060000
END:STANDARD
END:VTIMEZONE
BEGIN:VEVENT
DTSTART;TZID=America/New_York:20261001T160000
DTEND;TZID=America/New_York:20261001T170000
DTSTAMP:20260422T002304
CREATED:20241001T161041Z
LAST-MODIFIED:20241001T161059Z
UID:10003428-1790870400-1790874000@fuusn.org
SUMMARY:Over 60s Zoom Meetup
DESCRIPTION:
URL:https://fuusn.org/event/over-60s-zoom-meetup-2-2/2026-10-01/
LOCATION:Online
CATEGORIES:Over 60s,Social Events
END:VEVENT
BEGIN:VEVENT
DTSTART;TZID=America/New_York:20261105T160000
DTEND;TZID=America/New_York:20261105T170000
DTSTAMP:20260422T002304
CREATED:20241001T161041Z
LAST-MODIFIED:20241001T161059Z
UID:10003429-1793894400-1793898000@fuusn.org
SUMMARY:Over 60s Zoom Meetup
DESCRIPTION:
URL:https://fuusn.org/event/over-60s-zoom-meetup-2-2/2026-11-05/
LOCATION:Online
CATEGORIES:Over 60s,Social Events
END:VEVENT
BEGIN:VEVENT
DTSTART;TZID=America/New_York:20261203T160000
DTEND;TZID=America/New_York:20261203T170000
DTSTAMP:20260422T002304
CREATED:20241001T161041Z
LAST-MODIFIED:20241001T161059Z
UID:10003430-1796313600-1796317200@fuusn.org
SUMMARY:Over 60s Zoom Meetup
DESCRIPTION:
URL:https://fuusn.org/event/over-60s-zoom-meetup-2-2/2026-12-03/
LOCATION:Online
CATEGORIES:Over 60s,Social Events
END:VEVENT
BEGIN:VEVENT
DTSTART;TZID=America/New_York:20270107T160000
DTEND;TZID=America/New_York:20270107T170000
DTSTAMP:20260422T002304
CREATED:20241001T161041Z
LAST-MODIFIED:20241001T161059Z
UID:10003431-1799337600-1799341200@fuusn.org
SUMMARY:Over 60s Zoom Meetup
DESCRIPTION:
URL:https://fuusn.org/event/over-60s-zoom-meetup-2-2/2027-01-07/
LOCATION:Online
CATEGORIES:Over 60s,Social Events
END:VEVENT
BEGIN:VEVENT
DTSTART;TZID=America/New_York:20270204T160000
DTEND;TZID=America/New_York:20270204T170000
DTSTAMP:20260422T002304
CREATED:20241001T161041Z
LAST-MODIFIED:20241001T161059Z
UID:10003432-1801756800-1801760400@fuusn.org
SUMMARY:Over 60s Zoom Meetup
DESCRIPTION:
URL:https://fuusn.org/event/over-60s-zoom-meetup-2-2/2027-02-04/
LOCATION:Online
CATEGORIES:Over 60s,Social Events
END:VEVENT
BEGIN:VEVENT
DTSTART;TZID=America/New_York:20270304T160000
DTEND;TZID=America/New_York:20270304T170000
DTSTAMP:20260422T002304
CREATED:20241001T161041Z
LAST-MODIFIED:20241001T161059Z
UID:10003433-1804176000-1804179600@fuusn.org
SUMMARY:Over 60s Zoom Meetup
DESCRIPTION:
URL:https://fuusn.org/event/over-60s-zoom-meetup-2-2/2027-03-04/
LOCATION:Online
CATEGORIES:Over 60s,Social Events
END:VEVENT
BEGIN:VEVENT
DTSTART;TZID=America/New_York:20270401T160000
DTEND;TZID=America/New_York:20270401T170000
DTSTAMP:20260422T002304
CREATED:20241001T161041Z
LAST-MODIFIED:20241001T161059Z
UID:10003434-1806595200-1806598800@fuusn.org
SUMMARY:Over 60s Zoom Meetup
DESCRIPTION:
URL:https://fuusn.org/event/over-60s-zoom-meetup-2-2/2027-04-01/
LOCATION:Online
CATEGORIES:Over 60s,Social Events
END:VEVENT
BEGIN:VEVENT
DTSTART;TZID=America/New_York:20270506T160000
DTEND;TZID=America/New_York:20270506T170000
DTSTAMP:20260422T002304
CREATED:20241001T161041Z
LAST-MODIFIED:20241001T161059Z
UID:10003435-1809619200-1809622800@fuusn.org
SUMMARY:Over 60s Zoom Meetup
DESCRIPTION:
URL:https://fuusn.org/event/over-60s-zoom-meetup-2-2/2027-05-06/
LOCATION:Online
CATEGORIES:Over 60s,Social Events
END:VEVENT
BEGIN:VEVENT
DTSTART;TZID=America/New_York:20270603T160000
DTEND;TZID=America/New_York:20270603T170000
DTSTAMP:20260422T002304
CREATED:20241001T161041Z
LAST-MODIFIED:20241001T161059Z
UID:10003436-1812038400-1812042000@fuusn.org
SUMMARY:Over 60s Zoom Meetup
DESCRIPTION:
URL:https://fuusn.org/event/over-60s-zoom-meetup-2-2/2027-06-03/
LOCATION:Online
CATEGORIES:Over 60s,Social Events
END:VEVENT
BEGIN:VEVENT
DTSTART;TZID=America/New_York:20270701T160000
DTEND;TZID=America/New_York:20270701T170000
DTSTAMP:20260422T002304
CREATED:20241001T161041Z
LAST-MODIFIED:20241001T161059Z
UID:10003437-1814457600-1814461200@fuusn.org
SUMMARY:Over 60s Zoom Meetup
DESCRIPTION:
URL:https://fuusn.org/event/over-60s-zoom-meetup-2-2/2027-07-01/
LOCATION:Online
CATEGORIES:Over 60s,Social Events
END:VEVENT
BEGIN:VEVENT
DTSTART;TZID=America/New_York:20270805T160000
DTEND;TZID=America/New_York:20270805T170000
DTSTAMP:20260422T002304
CREATED:20241001T161041Z
LAST-MODIFIED:20241001T161059Z
UID:10003438-1817481600-1817485200@fuusn.org
SUMMARY:Over 60s Zoom Meetup
DESCRIPTION:
URL:https://fuusn.org/event/over-60s-zoom-meetup-2-2/2027-08-05/
LOCATION:Online
CATEGORIES:Over 60s,Social Events
END:VEVENT
BEGIN:VEVENT
DTSTART;TZID=America/New_York:20270902T160000
DTEND;TZID=America/New_York:20270902T170000
DTSTAMP:20260422T002304
CREATED:20241001T161041Z
LAST-MODIFIED:20241001T161059Z
UID:10003439-1819900800-1819904400@fuusn.org
SUMMARY:Over 60s Zoom Meetup
DESCRIPTION:
URL:https://fuusn.org/event/over-60s-zoom-meetup-2-2/2027-09-02/
LOCATION:Online
CATEGORIES:Over 60s,Social Events
END:VEVENT
BEGIN:VEVENT
DTSTART;TZID=America/New_York:20271007T160000
DTEND;TZID=America/New_York:20271007T170000
DTSTAMP:20260422T002304
CREATED:20241001T161041Z
LAST-MODIFIED:20241001T161059Z
UID:10003440-1822924800-1822928400@fuusn.org
SUMMARY:Over 60s Zoom Meetup
DESCRIPTION:
URL:https://fuusn.org/event/over-60s-zoom-meetup-2-2/2027-10-07/
LOCATION:Online
CATEGORIES:Over 60s,Social Events
END:VEVENT
BEGIN:VEVENT
DTSTART;TZID=America/New_York:20271104T160000
DTEND;TZID=America/New_York:20271104T170000
DTSTAMP:20260422T002305
CREATED:20241001T161041Z
LAST-MODIFIED:20241001T161059Z
UID:10003441-1825344000-1825347600@fuusn.org
SUMMARY:Over 60s Zoom Meetup
DESCRIPTION:
URL:https://fuusn.org/event/over-60s-zoom-meetup-2-2/2027-11-04/
LOCATION:Online
CATEGORIES:Over 60s,Social Events
END:VEVENT
BEGIN:VEVENT
DTSTART;TZID=America/New_York:20271202T160000
DTEND;TZID=America/New_York:20271202T170000
DTSTAMP:20260422T002305
CREATED:20241001T161041Z
LAST-MODIFIED:20241001T161059Z
UID:10003442-1827763200-1827766800@fuusn.org
SUMMARY:Over 60s Zoom Meetup
DESCRIPTION:
URL:https://fuusn.org/event/over-60s-zoom-meetup-2-2/2027-12-02/
LOCATION:Online
CATEGORIES:Over 60s,Social Events
END:VEVENT
BEGIN:VEVENT
DTSTART;TZID=America/New_York:20280106T160000
DTEND;TZID=America/New_York:20280106T170000
DTSTAMP:20260422T002305
CREATED:20241001T161041Z
LAST-MODIFIED:20241001T161059Z
UID:10003443-1830787200-1830790800@fuusn.org
SUMMARY:Over 60s Zoom Meetup
DESCRIPTION:
URL:https://fuusn.org/event/over-60s-zoom-meetup-2-2/2028-01-06/
LOCATION:Online
CATEGORIES:Over 60s,Social Events
END:VEVENT
BEGIN:VEVENT
DTSTART;TZID=America/New_York:20280203T160000
DTEND;TZID=America/New_York:20280203T170000
DTSTAMP:20260422T002305
CREATED:20241001T161041Z
LAST-MODIFIED:20241001T161059Z
UID:10003444-1833206400-1833210000@fuusn.org
SUMMARY:Over 60s Zoom Meetup
DESCRIPTION:
URL:https://fuusn.org/event/over-60s-zoom-meetup-2-2/2028-02-03/
LOCATION:Online
CATEGORIES:Over 60s,Social Events
END:VEVENT
BEGIN:VEVENT
DTSTART;TZID=America/New_York:20280302T160000
DTEND;TZID=America/New_York:20280302T170000
DTSTAMP:20260422T002305
CREATED:20241001T161041Z
LAST-MODIFIED:20241001T161059Z
UID:10003445-1835625600-1835629200@fuusn.org
SUMMARY:Over 60s Zoom Meetup
DESCRIPTION:
URL:https://fuusn.org/event/over-60s-zoom-meetup-2-2/2028-03-02/
LOCATION:Online
CATEGORIES:Over 60s,Social Events
END:VEVENT
BEGIN:VEVENT
DTSTART;TZID=America/New_York:20280406T160000
DTEND;TZID=America/New_York:20280406T170000
DTSTAMP:20260422T002305
CREATED:20241001T161041Z
LAST-MODIFIED:20241001T161059Z
UID:10003446-1838649600-1838653200@fuusn.org
SUMMARY:Over 60s Zoom Meetup
DESCRIPTION:
URL:https://fuusn.org/event/over-60s-zoom-meetup-2-2/2028-04-06/
LOCATION:Online
CATEGORIES:Over 60s,Social Events
END:VEVENT
BEGIN:VEVENT
DTSTART;TZID=America/New_York:20280504T160000
DTEND;TZID=America/New_York:20280504T170000
DTSTAMP:20260422T002305
CREATED:20241001T161041Z
LAST-MODIFIED:20241001T161059Z
UID:10003447-1841068800-1841072400@fuusn.org
SUMMARY:Over 60s Zoom Meetup
DESCRIPTION:
URL:https://fuusn.org/event/over-60s-zoom-meetup-2-2/2028-05-04/
LOCATION:Online
CATEGORIES:Over 60s,Social Events
END:VEVENT
BEGIN:VEVENT
DTSTART;TZID=America/New_York:20280601T160000
DTEND;TZID=America/New_York:20280601T170000
DTSTAMP:20260422T002305
CREATED:20241001T161041Z
LAST-MODIFIED:20241001T161059Z
UID:10003448-1843488000-1843491600@fuusn.org
SUMMARY:Over 60s Zoom Meetup
DESCRIPTION:
URL:https://fuusn.org/event/over-60s-zoom-meetup-2-2/2028-06-01/
LOCATION:Online
CATEGORIES:Over 60s,Social Events
END:VEVENT
BEGIN:VEVENT
DTSTART;TZID=America/New_York:20280706T160000
DTEND;TZID=America/New_York:20280706T170000
DTSTAMP:20260422T002305
CREATED:20241001T161041Z
LAST-MODIFIED:20241001T161059Z
UID:10003449-1846512000-1846515600@fuusn.org
SUMMARY:Over 60s Zoom Meetup
DESCRIPTION:
URL:https://fuusn.org/event/over-60s-zoom-meetup-2-2/2028-07-06/
LOCATION:Online
CATEGORIES:Over 60s,Social Events
END:VEVENT
BEGIN:VEVENT
DTSTART;TZID=America/New_York:20280803T160000
DTEND;TZID=America/New_York:20280803T170000
DTSTAMP:20260422T002305
CREATED:20241001T161041Z
LAST-MODIFIED:20241001T161059Z
UID:10003450-1848931200-1848934800@fuusn.org
SUMMARY:Over 60s Zoom Meetup
DESCRIPTION:
URL:https://fuusn.org/event/over-60s-zoom-meetup-2-2/2028-08-03/
LOCATION:Online
CATEGORIES:Over 60s,Social Events
END:VEVENT
BEGIN:VEVENT
DTSTART;TZID=America/New_York:20280907T160000
DTEND;TZID=America/New_York:20280907T170000
DTSTAMP:20260422T002305
CREATED:20241001T161041Z
LAST-MODIFIED:20241001T161059Z
UID:10003451-1851955200-1851958800@fuusn.org
SUMMARY:Over 60s Zoom Meetup
DESCRIPTION:
URL:https://fuusn.org/event/over-60s-zoom-meetup-2-2/2028-09-07/
LOCATION:Online
CATEGORIES:Over 60s,Social Events
END:VEVENT
BEGIN:VEVENT
DTSTART;TZID=America/New_York:20281005T160000
DTEND;TZID=America/New_York:20281005T170000
DTSTAMP:20260422T002305
CREATED:20241001T161041Z
LAST-MODIFIED:20241001T161059Z
UID:10003452-1854374400-1854378000@fuusn.org
SUMMARY:Over 60s Zoom Meetup
DESCRIPTION:
URL:https://fuusn.org/event/over-60s-zoom-meetup-2-2/2028-10-05/
LOCATION:Online
CATEGORIES:Over 60s,Social Events
END:VEVENT
BEGIN:VEVENT
DTSTART;TZID=America/New_York:20281102T160000
DTEND;TZID=America/New_York:20281102T170000
DTSTAMP:20260422T002305
CREATED:20241001T161041Z
LAST-MODIFIED:20241001T161059Z
UID:10003453-1856793600-1856797200@fuusn.org
SUMMARY:Over 60s Zoom Meetup
DESCRIPTION:
URL:https://fuusn.org/event/over-60s-zoom-meetup-2-2/2028-11-02/
LOCATION:Online
CATEGORIES:Over 60s,Social Events
END:VEVENT
BEGIN:VEVENT
DTSTART;TZID=America/New_York:20281207T160000
DTEND;TZID=America/New_York:20281207T170000
DTSTAMP:20260422T002305
CREATED:20241001T161041Z
LAST-MODIFIED:20241001T161059Z
UID:10003454-1859817600-1859821200@fuusn.org
SUMMARY:Over 60s Zoom Meetup
DESCRIPTION:
URL:https://fuusn.org/event/over-60s-zoom-meetup-2-2/2028-12-07/
LOCATION:Online
CATEGORIES:Over 60s,Social Events
END:VEVENT
BEGIN:VEVENT
DTSTART;TZID=America/New_York:20290104T160000
DTEND;TZID=America/New_York:20290104T170000
DTSTAMP:20260422T002305
CREATED:20241001T161041Z
LAST-MODIFIED:20241001T161059Z
UID:10003455-1862236800-1862240400@fuusn.org
SUMMARY:Over 60s Zoom Meetup
DESCRIPTION:
URL:https://fuusn.org/event/over-60s-zoom-meetup-2-2/2029-01-04/
LOCATION:Online
CATEGORIES:Over 60s,Social Events
END:VEVENT
BEGIN:VEVENT
DTSTART;TZID=America/New_York:20290201T160000
DTEND;TZID=America/New_York:20290201T170000
DTSTAMP:20260422T002305
CREATED:20241001T161041Z
LAST-MODIFIED:20241001T161059Z
UID:10003456-1864656000-1864659600@fuusn.org
SUMMARY:Over 60s Zoom Meetup
DESCRIPTION:
URL:https://fuusn.org/event/over-60s-zoom-meetup-2-2/2029-02-01/
LOCATION:Online
CATEGORIES:Over 60s,Social Events
END:VEVENT
BEGIN:VEVENT
DTSTART;TZID=America/New_York:20290301T160000
DTEND;TZID=America/New_York:20290301T170000
DTSTAMP:20260422T002305
CREATED:20241001T161041Z
LAST-MODIFIED:20241001T161059Z
UID:10003457-1867075200-1867078800@fuusn.org
SUMMARY:Over 60s Zoom Meetup
DESCRIPTION:
URL:https://fuusn.org/event/over-60s-zoom-meetup-2-2/2029-03-01/
LOCATION:Online
CATEGORIES:Over 60s,Social Events
END:VEVENT
END:VCALENDAR