BEGIN:VCALENDAR
VERSION:2.0
PRODID:-//First Unitarian Universalist Society in Newton - ECPv6.15.17.1//NONSGML v1.0//EN
CALSCALE:GREGORIAN
METHOD:PUBLISH
X-ORIGINAL-URL:https://fuusn.org
X-WR-CALDESC:Events for First Unitarian Universalist Society in Newton
REFRESH-INTERVAL;VALUE=DURATION:PT1H
X-Robots-Tag:noindex
X-PUBLISHED-TTL:PT1H
BEGIN:VTIMEZONE
TZID:America/New_York
BEGIN:DAYLIGHT
TZOFFSETFROM:-0500
TZOFFSETTO:-0400
TZNAME:EDT
DTSTART:20230312T070000
END:DAYLIGHT
BEGIN:STANDARD
TZOFFSETFROM:-0400
TZOFFSETTO:-0500
TZNAME:EST
DTSTART:20231105T060000
END:STANDARD
BEGIN:DAYLIGHT
TZOFFSETFROM:-0500
TZOFFSETTO:-0400
TZNAME:EDT
DTSTART:20240310T070000
END:DAYLIGHT
BEGIN:STANDARD
TZOFFSETFROM:-0400
TZOFFSETTO:-0500
TZNAME:EST
DTSTART:20241103T060000
END:STANDARD
BEGIN:DAYLIGHT
TZOFFSETFROM:-0500
TZOFFSETTO:-0400
TZNAME:EDT
DTSTART:20250309T070000
END:DAYLIGHT
BEGIN:STANDARD
TZOFFSETFROM:-0400
TZOFFSETTO:-0500
TZNAME:EST
DTSTART:20251102T060000
END:STANDARD
BEGIN:DAYLIGHT
TZOFFSETFROM:-0500
TZOFFSETTO:-0400
TZNAME:EDT
DTSTART:20260308T070000
END:DAYLIGHT
BEGIN:STANDARD
TZOFFSETFROM:-0400
TZOFFSETTO:-0500
TZNAME:EST
DTSTART:20261101T060000
END:STANDARD
BEGIN:DAYLIGHT
TZOFFSETFROM:-0500
TZOFFSETTO:-0400
TZNAME:EDT
DTSTART:20270314T070000
END:DAYLIGHT
BEGIN:STANDARD
TZOFFSETFROM:-0400
TZOFFSETTO:-0500
TZNAME:EST
DTSTART:20271107T060000
END:STANDARD
END:VTIMEZONE
BEGIN:VEVENT
DTSTART;TZID=America/New_York:20260329T140000
DTEND;TZID=America/New_York:20260329T170000
DTSTAMP:20260421T130502
CREATED:20260211T143223Z
LAST-MODIFIED:20260311T133818Z
UID:10004640-1774792800-1774803600@fuusn.org
SUMMARY:“How Not to Die” Movie Followed by Live Q&A
DESCRIPTION:Showing of acclaimed new documentary movie followed by a live Q&A with one or more physicians specializing in lifestyle medicine and plant-based nutrition. Members of the public are welcome. Please register here.
URL:https://fuusn.org/event/how-not-to-die-movie-followed-by-live-qa/
LOCATION:Parish Hall and Kitchen
CATEGORIES:Plant-Based Eating Club
END:VEVENT
BEGIN:VEVENT
DTSTART;TZID=America/New_York:20260320T173000
DTEND;TZID=America/New_York:20260320T193000
DTSTAMP:20260421T130502
CREATED:20260120T175853Z
LAST-MODIFIED:20260313T135045Z
UID:10004633-1774027800-1774035000@fuusn.org
SUMMARY:Fun and Games for All Ages Potluck Dinner and Games Night
DESCRIPTION:Fun and Games for All Ages Potluck Dinner and Games Night:  Low-key intergen potluck and games night! Bring some food and a board game and have a relaxing time.
URL:https://fuusn.org/event/fun-and-games-for-all-ages-potluck-dinner-and-games-night/
LOCATION:Parish Hall and Kitchen
CATEGORIES:Social Events
END:VEVENT
BEGIN:VEVENT
DTSTART;TZID=America/New_York:20260315T111500
DTEND;TZID=America/New_York:20260315T130000
DTSTAMP:20260421T130502
CREATED:20251120T160507Z
LAST-MODIFIED:20251120T160507Z
UID:10004591-1773573300-1773579600@fuusn.org
SUMMARY:Community Lunch
DESCRIPTION:Enjoy an all-you-can-eat lunch with other FUUSNites for $5. Kids 12 and under eat free! Have even more fun and volunteer to help!
URL:https://fuusn.org/event/community-lunch-8/
LOCATION:Parish Hall and Kitchen
END:VEVENT
BEGIN:VEVENT
DTSTART;TZID=America/New_York:20251123T111500
DTEND;TZID=America/New_York:20251123T130000
DTSTAMP:20260421T130502
CREATED:20251120T160407Z
LAST-MODIFIED:20251120T160407Z
UID:10004590-1763896500-1763902800@fuusn.org
SUMMARY:Community Lunch
DESCRIPTION:Enjoy an all-you-can-eat lunch with other FUUSNites for $5. Kids 12 and under eat free! Have even more fun and volunteer to help!
URL:https://fuusn.org/event/community-lunch-7/
LOCATION:Parish Hall and Kitchen
CATEGORIES:Front Page
END:VEVENT
BEGIN:VEVENT
DTSTART;TZID=America/New_York:20251101T173000
DTEND;TZID=America/New_York:20251101T193000
DTSTAMP:20260421T130502
CREATED:20250911T154129Z
LAST-MODIFIED:20250911T154129Z
UID:10004492-1762018200-1762025400@fuusn.org
SUMMARY:Fun & Games for All Ages Halloween Potluck
DESCRIPTION:Halloween Fun and Games Night Potluck Dinner and dancing – An amazing intergenerational fun evening! Bring food and/or drink for 6 people. For more information and to sign up see our webpage.
URL:https://fuusn.org/event/fun-games-for-all-ages-halloween-potluck/
LOCATION:Parish Hall and Kitchen
END:VEVENT
BEGIN:VEVENT
DTSTART;TZID=America/New_York:20251005T180000
DTEND;TZID=America/New_York:20251005T200000
DTSTAMP:20260421T130502
CREATED:20250826T140510Z
LAST-MODIFIED:20251222T145231Z
UID:10004399-1759687200-1759694400@fuusn.org
SUMMARY:UU Plant-Based Eating Club - Large Group Potluck
DESCRIPTION:Potluck for Plant-Based Eating Club members and those interested in learning more about plant-based eating. Bring a Plant-Based\, whole foods dish to share (no animal products). Join us! \nPlease visit the UU Plant-Based Eating Club webpage for more information.
URL:https://fuusn.org/event/uu-plant-based-eating-club-large-group-potluck-5/
LOCATION:Parish Hall and Kitchen
CATEGORIES:Plant-Based Eating Club
END:VEVENT
BEGIN:VEVENT
DTSTART;TZID=America/New_York:20250504T180000
DTEND;TZID=America/New_York:20250504T200000
DTSTAMP:20260421T130502
CREATED:20240822T032044Z
LAST-MODIFIED:20250422T183728Z
UID:10003139-1746381600-1746388800@fuusn.org
SUMMARY:UU Plant-Based Eating Club - Large Group Potluck
DESCRIPTION:Sign-up to attend: \n\nRSVP required to attend.  Click May 4 Potluck to register by May 3rd!\n\nVenue:   \n\nFirst Unitarian Universalist Society of Newton\, 1326 Washington St\, Newton MA 02465\n\nAll Potlucks:  \n\nPlan to bring a plant-based\, whole foods dish to share (no animal products/ingredients including eggs\, cheese\, dairy).\nBring list of ingredients and/or recipe.\nJoin our Club’s e-mail list at uu-plant-based-contact-us@googlegroups.com to sign up for an event.    After sign-up\, registrants will receive info about locations\, menu themes\, potluck contact info\, and other topics.\n\nPOTLUCK SCHEDULE FOR THIS YEAR (Aug 2024 – July 2025) \nSmall Groups:   \n\n2024 – Sept 22\, November 10\, December 15    \n2025 – January 12\, February 9\, March 9\, June 1\nSmall group gatherings in homes\, typically from 7 to 10 people.\n\nLarge Groups:   \n\n2024 – Oct 20 at First Parish Waltham\n2025 – May 4 at FUUSN\, July 12 & 13 picnics at members’ homes\nTypically 30 to 40 participants for gatherings in parish halls; 8 to 15 per home for July picnics\nVenues include FUUSN\, First Parish of Waltham\, and members’ home for picnic\n\n  \n 
URL:https://fuusn.org/event/uu-plant-based-eating-club-large-group-potluck-3/
LOCATION:Parish Hall and Kitchen
CATEGORIES:Front Page,Plant-Based Eating Club
END:VEVENT
BEGIN:VEVENT
DTSTART;TZID=America/New_York:20241222T143000
DTEND;TZID=America/New_York:20241222T190000
DTSTAMP:20260421T130502
CREATED:20241104T144942Z
LAST-MODIFIED:20241104T144942Z
UID:10003562-1734877800-1734894000@fuusn.org
SUMMARY:Private Party
DESCRIPTION:
URL:https://fuusn.org/event/private-party-6/
LOCATION:Parish Hall and Kitchen
END:VEVENT
BEGIN:VEVENT
DTSTART;TZID=America/New_York:20241123T170000
DTEND;TZID=America/New_York:20241123T230000
DTSTAMP:20260421T130502
CREATED:20240801T144931Z
LAST-MODIFIED:20240801T190221Z
UID:10003067-1732381200-1732402800@fuusn.org
SUMMARY:Private Party
DESCRIPTION:
URL:https://fuusn.org/event/private-party-4/
LOCATION:Parish Hall and Kitchen
END:VEVENT
BEGIN:VEVENT
DTSTART;TZID=America/New_York:20241123T110000
DTEND;TZID=America/New_York:20241123T160000
DTSTAMP:20260421T130502
CREATED:20241108T155311Z
LAST-MODIFIED:20241108T155311Z
UID:10003570-1732359600-1732377600@fuusn.org
SUMMARY:Private Party
DESCRIPTION:
URL:https://fuusn.org/event/private-party-7/
LOCATION:Parish Hall and Kitchen
END:VEVENT
BEGIN:VEVENT
DTSTART;TZID=America/New_York:20241116T170000
DTEND;TZID=America/New_York:20241116T220000
DTSTAMP:20260421T130502
CREATED:20240826T152644Z
LAST-MODIFIED:20240826T152644Z
UID:10003148-1731776400-1731794400@fuusn.org
SUMMARY:Private Event
DESCRIPTION:
URL:https://fuusn.org/event/private-event-5/
LOCATION:Parish Hall and Kitchen
CATEGORIES:Rentals
END:VEVENT
BEGIN:VEVENT
DTSTART;TZID=America/New_York:20241026T093000
DTEND;TZID=America/New_York:20241026T130000
DTSTAMP:20260421T130502
CREATED:20240403T135836Z
LAST-MODIFIED:20241010T003856Z
UID:10001492-1729935000-1729947600@fuusn.org
SUMMARY:FUUSN Yard Sale
DESCRIPTION:Find it at the FUUSN Yard Sale! Toys and games\, household items\, art\, collectibles\, kitchen gadgets\, pet items\, tools\, office supplies\, crafts\, luggage\, frames\, baskets\, and more! Low prices! Please invite your friends and neighbors! \nVolunteer to make the Yard Sale and Holiday Fair a success. Your participation matters. These events have been so successful because the FUUSN community has donated\, volunteered and spread the word. \nSign up with our Signup Genius form: Yard Sale – Volunteer! Donations can be dropped off in the Parish Hall beginning after the service on 10/21.
URL:https://fuusn.org/event/fuusn-yard-sale-2/
LOCATION:Parish Hall and Kitchen
CATEGORIES:Front Page
END:VEVENT
BEGIN:VEVENT
DTSTART;TZID=America/New_York:20240915T090000
DTEND;TZID=America/New_York:20240915T101500
DTSTAMP:20260421T130502
CREATED:20240412T152229Z
LAST-MODIFIED:20240611T135127Z
UID:10001871-1726390800-1726395300@fuusn.org
SUMMARY:Community Breakfast
DESCRIPTION:
URL:https://fuusn.org/event/community-lunch-3/
LOCATION:Parish Hall and Kitchen
END:VEVENT
BEGIN:VEVENT
DTSTART;TZID=America/New_York:20240904T180000
DTEND;TZID=America/New_York:20240904T193000
DTSTAMP:20260421T130502
CREATED:20240621T140734Z
LAST-MODIFIED:20240621T140734Z
UID:10002726-1725472800-1725478200@fuusn.org
SUMMARY:Choir Potluck
DESCRIPTION:
URL:https://fuusn.org/event/choir-potluck-2/
LOCATION:Parish Hall and Kitchen
END:VEVENT
BEGIN:VEVENT
DTSTART;TZID=America/New_York:20240828T193000
DTEND;TZID=America/New_York:20240828T223000
DTSTAMP:20260421T130502
CREATED:20240416T141949Z
LAST-MODIFIED:20240625T132911Z
UID:10001934-1724873400-1724884200@fuusn.org
SUMMARY:Country Dance Society
DESCRIPTION:
URL:https://fuusn.org/event/country-dance-society/2024-08-28/
LOCATION:Parish Hall and Kitchen
CATEGORIES:Private Event,Rentals
END:VEVENT
BEGIN:VEVENT
DTSTART;TZID=America/New_York:20240827T080000
DTEND;TZID=America/New_York:20240827T140000
DTSTAMP:20260421T130502
CREATED:20240506T172309Z
LAST-MODIFIED:20240506T172309Z
UID:10002220-1724745600-1724767200@fuusn.org
SUMMARY:Pinevillage Summer Training
DESCRIPTION:
URL:https://fuusn.org/event/pinevillage-summer-training-2/
LOCATION:Parish Hall and Kitchen
END:VEVENT
BEGIN:VEVENT
DTSTART;TZID=America/New_York:20240826T080000
DTEND;TZID=America/New_York:20240826T163000
DTSTAMP:20260421T130502
CREATED:20240506T172212Z
LAST-MODIFIED:20240506T172212Z
UID:10002219-1724659200-1724689800@fuusn.org
SUMMARY:Pinevillage Summer Training
DESCRIPTION:
URL:https://fuusn.org/event/pinevillage-summer-training/
LOCATION:Parish Hall and Kitchen
CATEGORIES:Rentals
END:VEVENT
BEGIN:VEVENT
DTSTART;TZID=America/New_York:20240821T193000
DTEND;TZID=America/New_York:20240821T223000
DTSTAMP:20260421T130502
CREATED:20240416T141949Z
LAST-MODIFIED:20240625T132911Z
UID:10001933-1724268600-1724279400@fuusn.org
SUMMARY:Country Dance Society
DESCRIPTION:
URL:https://fuusn.org/event/country-dance-society/2024-08-21/
LOCATION:Parish Hall and Kitchen
CATEGORIES:Private Event,Rentals
END:VEVENT
BEGIN:VEVENT
DTSTART;TZID=America/New_York:20240814T193000
DTEND;TZID=America/New_York:20240814T223000
DTSTAMP:20260421T130502
CREATED:20240416T141949Z
LAST-MODIFIED:20240625T132911Z
UID:10001932-1723663800-1723674600@fuusn.org
SUMMARY:Country Dance Society
DESCRIPTION:
URL:https://fuusn.org/event/country-dance-society/2024-08-14/
LOCATION:Parish Hall and Kitchen
CATEGORIES:Private Event,Rentals
END:VEVENT
BEGIN:VEVENT
DTSTART;TZID=America/New_York:20240807T193000
DTEND;TZID=America/New_York:20240807T223000
DTSTAMP:20260421T130502
CREATED:20240416T141949Z
LAST-MODIFIED:20240625T132911Z
UID:10001931-1723059000-1723069800@fuusn.org
SUMMARY:Country Dance Society
DESCRIPTION:
URL:https://fuusn.org/event/country-dance-society/2024-08-07/
LOCATION:Parish Hall and Kitchen
CATEGORIES:Private Event,Rentals
END:VEVENT
BEGIN:VEVENT
DTSTART;TZID=America/New_York:20240731T193000
DTEND;TZID=America/New_York:20240731T223000
DTSTAMP:20260421T130502
CREATED:20240416T141949Z
LAST-MODIFIED:20240625T132911Z
UID:10001930-1722454200-1722465000@fuusn.org
SUMMARY:Country Dance Society
DESCRIPTION:
URL:https://fuusn.org/event/country-dance-society/2024-07-31/
LOCATION:Parish Hall and Kitchen
CATEGORIES:Private Event,Rentals
END:VEVENT
BEGIN:VEVENT
DTSTART;TZID=America/New_York:20240724T193000
DTEND;TZID=America/New_York:20240724T223000
DTSTAMP:20260421T130502
CREATED:20240416T141949Z
LAST-MODIFIED:20240625T132911Z
UID:10001929-1721849400-1721860200@fuusn.org
SUMMARY:Country Dance Society
DESCRIPTION:
URL:https://fuusn.org/event/country-dance-society/2024-07-24/
LOCATION:Parish Hall and Kitchen
CATEGORIES:Private Event,Rentals
END:VEVENT
BEGIN:VEVENT
DTSTART;TZID=America/New_York:20240717T193000
DTEND;TZID=America/New_York:20240717T223000
DTSTAMP:20260421T130502
CREATED:20240416T141949Z
LAST-MODIFIED:20240625T132911Z
UID:10001928-1721244600-1721255400@fuusn.org
SUMMARY:Country Dance Society
DESCRIPTION:
URL:https://fuusn.org/event/country-dance-society/2024-07-17/
LOCATION:Parish Hall and Kitchen
CATEGORIES:Private Event,Rentals
END:VEVENT
BEGIN:VEVENT
DTSTART;TZID=America/New_York:20240716T193000
DTEND;TZID=America/New_York:20240716T223000
DTSTAMP:20260421T130502
CREATED:20240416T142231Z
LAST-MODIFIED:20240416T142231Z
UID:10001935-1721158200-1721169000@fuusn.org
SUMMARY:Country Dance Society
DESCRIPTION:
URL:https://fuusn.org/event/country-dance-society-2/
LOCATION:Parish Hall and Kitchen
END:VEVENT
BEGIN:VEVENT
DTSTART;TZID=America/New_York:20240630T153000
DTEND;TZID=America/New_York:20240630T170000
DTSTAMP:20260421T130502
CREATED:20230927T160339Z
LAST-MODIFIED:20240417T134141Z
UID:10000792-1719761400-1719766800@fuusn.org
SUMMARY:JourneySongs Hospice Choir Rehearsal
DESCRIPTION:
URL:https://fuusn.org/event/journey-songs-17/
LOCATION:Parish Hall and Kitchen
CATEGORIES:Choir Rehearsals,JourneySongs
END:VEVENT
BEGIN:VEVENT
DTSTART;TZID=America/New_York:20240614T150000
DTEND;TZID=America/New_York:20240614T170000
DTSTAMP:20260421T130502
CREATED:20240604T174957Z
LAST-MODIFIED:20240604T174957Z
UID:10002250-1718377200-1718384400@fuusn.org
SUMMARY:Pinevillage Graduation
DESCRIPTION:
URL:https://fuusn.org/event/pinevillage-graduation/
LOCATION:Parish Hall and Kitchen
END:VEVENT
BEGIN:VEVENT
DTSTART;TZID=America/New_York:20240505T170000
DTEND;TZID=America/New_York:20240505T193000
DTSTAMP:20260421T130502
CREATED:20240403T232924Z
LAST-MODIFIED:20240403T232929Z
UID:10000800-1714928400-1714937400@fuusn.org
SUMMARY:All8 Arts Workshop Series
DESCRIPTION:Once a month between October through May for two hours\, youth in 7th grade and older together with adults are invited to participate in an exploration of all eight UU principles through photography\, creative writing\, fine art\, collage\, digital art\, and sculpting. Members of our Racial Justice Ministry team will be facilitating this program. Preregistration required – no spots available.
URL:https://fuusn.org/event/all8-arts-workshop-series-3/2024-05-05/
LOCATION:Parish Hall and Kitchen
CATEGORIES:Classes,Religious Exploration
END:VEVENT
BEGIN:VEVENT
DTSTART;TZID=America/New_York:20240428T180000
DTEND;TZID=America/New_York:20240428T200000
DTSTAMP:20260421T130502
CREATED:20240228T182241Z
LAST-MODIFIED:20240228T182241Z
UID:10001346-1714327200-1714334400@fuusn.org
SUMMARY:Passover Seder
DESCRIPTION:
URL:https://fuusn.org/event/passover-seder-2/
LOCATION:Parish Hall and Kitchen
CATEGORIES:Public Events
END:VEVENT
BEGIN:VEVENT
DTSTART;TZID=America/New_York:20240421T180000
DTEND;TZID=America/New_York:20240421T200000
DTSTAMP:20260421T130502
CREATED:20231105T173647Z
LAST-MODIFIED:20231125T042801Z
UID:10000997-1713722400-1713729600@fuusn.org
SUMMARY:UU Plant-Based Eating Club Potluck - FUUSN
DESCRIPTION:Requirements:  attendees must be vaccinated and boosted for COVID.\n\nAll Potlucks:  \n\nPlan to bring a plant-based\, whole foods dish to share (no animal products/ingredients including eggs\, cheese\, dairy).   Especially welcome dishes prepared without salt\, oil\, and sugar.\nBring list of ingredients and/or recipe.\nJoin our Club’s e-mail list at uu-plant-based-contact-us@googlegroups.com to sign up for an event.    After sign-up\, registrants will receive info about locations\, menu themes\, potluck contact info\, and other topics.\n\nSmall Groups:  2023/Sept 17\, Oct 15\, Dec 17    2024/Jan 21\, Feb 25\, March 17\, May 19\, June 23 \n\nSmall group gatherings in homes\, typically from 7 to 10 people.\n\nLarge Groups:  2023/Nov 19 (First Parish Waltham)  2024/April 21 (FUUSN)\, July 13 picnic (members’ home\, July 14 rain date) \n\nTypically 30 to 40 participants\nVenues include FUUSN\, First Parish of Waltham\, and members’ home for picnic\n\n  \n 
URL:https://fuusn.org/event/uu-plant-based-eating-club-potlucks-3-2/
LOCATION:Parish Hall and Kitchen
CATEGORIES:Plant-Based Eating Club
END:VEVENT
BEGIN:VEVENT
DTSTART;TZID=America/New_York:20240407T170000
DTEND;TZID=America/New_York:20240407T193000
DTSTAMP:20260421T130502
CREATED:20240403T232924Z
LAST-MODIFIED:20240403T232929Z
UID:10000799-1712509200-1712518200@fuusn.org
SUMMARY:All8 Arts Workshop Series
DESCRIPTION:Once a month between October through May for two hours\, youth in 7th grade and older together with adults are invited to participate in an exploration of all eight UU principles through photography\, creative writing\, fine art\, collage\, digital art\, and sculpting. Members of our Racial Justice Ministry team will be facilitating this program. Preregistration required – no spots available.
URL:https://fuusn.org/event/all8-arts-workshop-series-3/2024-04-07/
LOCATION:Parish Hall and Kitchen
CATEGORIES:Classes,Religious Exploration
END:VEVENT
END:VCALENDAR