BEGIN:VCALENDAR
VERSION:2.0
PRODID:-//First Unitarian Universalist Society in Newton - ECPv6.15.17.1//NONSGML v1.0//EN
CALSCALE:GREGORIAN
METHOD:PUBLISH
X-WR-CALNAME:First Unitarian Universalist Society in Newton
X-ORIGINAL-URL:https://fuusn.org
X-WR-CALDESC:Events for First Unitarian Universalist Society in Newton
REFRESH-INTERVAL;VALUE=DURATION:PT1H
X-Robots-Tag:noindex
X-PUBLISHED-TTL:PT1H
BEGIN:VTIMEZONE
TZID:America/New_York
BEGIN:DAYLIGHT
TZOFFSETFROM:-0500
TZOFFSETTO:-0400
TZNAME:EDT
DTSTART:20230312T070000
END:DAYLIGHT
BEGIN:STANDARD
TZOFFSETFROM:-0400
TZOFFSETTO:-0500
TZNAME:EST
DTSTART:20231105T060000
END:STANDARD
BEGIN:DAYLIGHT
TZOFFSETFROM:-0500
TZOFFSETTO:-0400
TZNAME:EDT
DTSTART:20240310T070000
END:DAYLIGHT
BEGIN:STANDARD
TZOFFSETFROM:-0400
TZOFFSETTO:-0500
TZNAME:EST
DTSTART:20241103T060000
END:STANDARD
BEGIN:DAYLIGHT
TZOFFSETFROM:-0500
TZOFFSETTO:-0400
TZNAME:EDT
DTSTART:20250309T070000
END:DAYLIGHT
BEGIN:STANDARD
TZOFFSETFROM:-0400
TZOFFSETTO:-0500
TZNAME:EST
DTSTART:20251102T060000
END:STANDARD
BEGIN:DAYLIGHT
TZOFFSETFROM:-0500
TZOFFSETTO:-0400
TZNAME:EDT
DTSTART:20260308T070000
END:DAYLIGHT
BEGIN:STANDARD
TZOFFSETFROM:-0400
TZOFFSETTO:-0500
TZNAME:EST
DTSTART:20261101T060000
END:STANDARD
END:VTIMEZONE
BEGIN:VEVENT
DTSTART;TZID=America/New_York:20250530T190000
DTEND;TZID=America/New_York:20250530T220000
DTSTAMP:20260421T212744
CREATED:20240715T182857Z
LAST-MODIFIED:20240715T182857Z
UID:10003046-1748631600-1748642400@fuusn.org
SUMMARY:Mentors/Candidates Service Rehearsal
DESCRIPTION:
URL:https://fuusn.org/event/mentors-candidates-service-rehearsal/
LOCATION:Sanctuary
END:VEVENT
BEGIN:VEVENT
DTSTART;TZID=America/New_York:20250423T190000
DTEND;TZID=America/New_York:20250423T210000
DTSTAMP:20260421T212744
CREATED:20240812T150407Z
LAST-MODIFIED:20240812T150407Z
UID:10003125-1745434800-1745442000@fuusn.org
SUMMARY:Band Rehearsal
DESCRIPTION:
URL:https://fuusn.org/event/band-rehearsal/2025-04-23/
LOCATION:Sanctuary
CATEGORIES:Choir Rehearsals,Music Meetings
END:VEVENT
BEGIN:VEVENT
DTSTART;TZID=America/New_York:20250420T113000
DTEND;TZID=America/New_York:20250420T130000
DTSTAMP:20260421T212744
CREATED:20250326T132405Z
LAST-MODIFIED:20250326T132405Z
UID:10003799-1745148600-1745154000@fuusn.org
SUMMARY:Band Rehearsal
DESCRIPTION:
URL:https://fuusn.org/event/band-rehearsal-11/
LOCATION:Sanctuary
CATEGORIES:Choir Rehearsals,Music Meetings
END:VEVENT
BEGIN:VEVENT
DTSTART;TZID=America/New_York:20250413T113000
DTEND;TZID=America/New_York:20250413T130000
DTSTAMP:20260421T212744
CREATED:20250326T132252Z
LAST-MODIFIED:20250326T132252Z
UID:10003798-1744543800-1744549200@fuusn.org
SUMMARY:Band Rehearsal
DESCRIPTION:
URL:https://fuusn.org/event/band-rehearsal-10/
LOCATION:Sanctuary
CATEGORIES:Choir Rehearsals,Music Meetings
END:VEVENT
BEGIN:VEVENT
DTSTART;TZID=America/New_York:20250406T114500
DTEND;TZID=America/New_York:20250406T130000
DTSTAMP:20260421T212744
CREATED:20240812T150407Z
LAST-MODIFIED:20240812T150407Z
UID:10003123-1743939900-1743944400@fuusn.org
SUMMARY:Band Rehearsal
DESCRIPTION:
URL:https://fuusn.org/event/band-rehearsal/2025-04-06/
LOCATION:Sanctuary
CATEGORIES:Choir Rehearsals,Music Meetings
END:VEVENT
BEGIN:VEVENT
DTSTART;TZID=America/New_York:20250330T113000
DTEND;TZID=America/New_York:20250330T130000
DTSTAMP:20260421T212744
CREATED:20250326T132209Z
LAST-MODIFIED:20250326T132209Z
UID:10003797-1743334200-1743339600@fuusn.org
SUMMARY:Band Rehearsal
DESCRIPTION:
URL:https://fuusn.org/event/band-rehearsal-9/
LOCATION:Sanctuary
CATEGORIES:Choir Rehearsals,Music Meetings
END:VEVENT
BEGIN:VEVENT
DTSTART;TZID=America/New_York:20250309T114500
DTEND;TZID=America/New_York:20250309T130000
DTSTAMP:20260421T212744
CREATED:20240812T145827Z
LAST-MODIFIED:20240812T145827Z
UID:10003105-1741520700-1741525200@fuusn.org
SUMMARY:Choir Rehearsal
DESCRIPTION:
URL:https://fuusn.org/event/choir-rehearsal-2/2025-03-09/
LOCATION:Sanctuary
CATEGORIES:Choir Rehearsals,Music Meetings
END:VEVENT
BEGIN:VEVENT
DTSTART;TZID=America/New_York:20250308T150000
DTEND;TZID=America/New_York:20250308T173000
DTSTAMP:20260421T212744
CREATED:20240530T135448Z
LAST-MODIFIED:20241023T134808Z
UID:10002245-1741446000-1741455000@fuusn.org
SUMMARY:Benefit Concert
DESCRIPTION:
URL:https://fuusn.org/event/benefit-concert/
LOCATION:Sanctuary
END:VEVENT
BEGIN:VEVENT
DTSTART;TZID=America/New_York:20250302T114500
DTEND;TZID=America/New_York:20250302T130000
DTSTAMP:20260421T212744
CREATED:20240812T145827Z
LAST-MODIFIED:20240812T145827Z
UID:10003104-1740915900-1740920400@fuusn.org
SUMMARY:Choir Rehearsal
DESCRIPTION:
URL:https://fuusn.org/event/choir-rehearsal-2/2025-03-02/
LOCATION:Sanctuary
CATEGORIES:Choir Rehearsals,Music Meetings
END:VEVENT
BEGIN:VEVENT
DTSTART;TZID=America/New_York:20250222T100000
DTEND;TZID=America/New_York:20250222T120000
DTSTAMP:20260421T212744
CREATED:20250206T160024Z
LAST-MODIFIED:20250206T160024Z
UID:10003758-1740218400-1740225600@fuusn.org
SUMMARY:Band Rehearsal
DESCRIPTION:
URL:https://fuusn.org/event/band-rehearsal-7/
LOCATION:Sanctuary
CATEGORIES:Choir Rehearsals,Music Meetings
END:VEVENT
BEGIN:VEVENT
DTSTART;TZID=America/New_York:20250220T190000
DTEND;TZID=America/New_York:20250220T210000
DTSTAMP:20260421T212744
CREATED:20250218T141616Z
LAST-MODIFIED:20250218T141616Z
UID:10003768-1740078000-1740085200@fuusn.org
SUMMARY:Band Rehearsal
DESCRIPTION:
URL:https://fuusn.org/event/band-rehearsal-8/
LOCATION:Sanctuary
CATEGORIES:Choir Rehearsals,Music Meetings
END:VEVENT
BEGIN:VEVENT
DTSTART;TZID=America/New_York:20250216T113000
DTEND;TZID=America/New_York:20250216T133000
DTSTAMP:20260421T212744
CREATED:20250206T153922Z
LAST-MODIFIED:20250206T155438Z
UID:10003756-1739705400-1739712600@fuusn.org
SUMMARY:Band Rehearsal
DESCRIPTION:
URL:https://fuusn.org/event/band-rehearsal-5/
LOCATION:Sanctuary
CATEGORIES:Choir Rehearsals,Music Meetings
END:VEVENT
BEGIN:VEVENT
DTSTART;TZID=America/New_York:20250213T190000
DTEND;TZID=America/New_York:20250213T210000
DTSTAMP:20260421T212744
CREATED:20250206T155552Z
LAST-MODIFIED:20250206T155552Z
UID:10003757-1739473200-1739480400@fuusn.org
SUMMARY:Band Rehearsal
DESCRIPTION:
URL:https://fuusn.org/event/band-rehearsal-6/
LOCATION:Sanctuary
CATEGORIES:Choir Rehearsals,Music Meetings
END:VEVENT
BEGIN:VEVENT
DTSTART;TZID=America/New_York:20250209T113000
DTEND;TZID=America/New_York:20250209T133000
DTSTAMP:20260421T212744
CREATED:20250206T153810Z
LAST-MODIFIED:20250206T155357Z
UID:10003755-1739100600-1739107800@fuusn.org
SUMMARY:Band Rehearsal
DESCRIPTION:
URL:https://fuusn.org/event/band-rehearsal-4/
LOCATION:Sanctuary
CATEGORIES:Choir Rehearsals,Music Meetings
END:VEVENT
BEGIN:VEVENT
DTSTART;TZID=America/New_York:20250126T114500
DTEND;TZID=America/New_York:20250126T130000
DTSTAMP:20260421T212744
CREATED:20240812T150407Z
LAST-MODIFIED:20240812T150407Z
UID:10003121-1737891900-1737896400@fuusn.org
SUMMARY:Band Rehearsal
DESCRIPTION:
URL:https://fuusn.org/event/band-rehearsal/2025-01-26/
LOCATION:Sanctuary
CATEGORIES:Choir Rehearsals,Music Meetings
END:VEVENT
BEGIN:VEVENT
DTSTART;TZID=America/New_York:20250119T114500
DTEND;TZID=America/New_York:20250119T130000
DTSTAMP:20260421T212744
CREATED:20240812T150407Z
LAST-MODIFIED:20240812T150407Z
UID:10003120-1737287100-1737291600@fuusn.org
SUMMARY:Band Rehearsal
DESCRIPTION:
URL:https://fuusn.org/event/band-rehearsal/2025-01-19/
LOCATION:Sanctuary
CATEGORIES:Choir Rehearsals,Music Meetings
END:VEVENT
BEGIN:VEVENT
DTSTART;TZID=America/New_York:20250112T114500
DTEND;TZID=America/New_York:20250112T130000
DTSTAMP:20260421T212744
CREATED:20240812T150407Z
LAST-MODIFIED:20240812T150407Z
UID:10003119-1736682300-1736686800@fuusn.org
SUMMARY:Band Rehearsal
DESCRIPTION:
URL:https://fuusn.org/event/band-rehearsal/2025-01-12/
LOCATION:Sanctuary
CATEGORIES:Choir Rehearsals,Music Meetings
END:VEVENT
BEGIN:VEVENT
DTSTART;TZID=America/New_York:20250105T114500
DTEND;TZID=America/New_York:20250105T130000
DTSTAMP:20260421T212744
CREATED:20240812T150407Z
LAST-MODIFIED:20240812T150407Z
UID:10003118-1736077500-1736082000@fuusn.org
SUMMARY:Band Rehearsal
DESCRIPTION:
URL:https://fuusn.org/event/band-rehearsal/2025-01-05/
LOCATION:Sanctuary
CATEGORIES:Choir Rehearsals,Music Meetings
END:VEVENT
BEGIN:VEVENT
DTSTART;TZID=America/New_York:20241229T114500
DTEND;TZID=America/New_York:20241229T130000
DTSTAMP:20260421T212744
CREATED:20241223T190604Z
LAST-MODIFIED:20241223T190608Z
UID:10003117-1735472700-1735477200@fuusn.org
SUMMARY:Band Rehearsal
DESCRIPTION:
URL:https://fuusn.org/event/band-rehearsal-3/
LOCATION:Sanctuary
CATEGORIES:Choir Rehearsals,Music Meetings
END:VEVENT
BEGIN:VEVENT
DTSTART;TZID=America/New_York:20241229T101500
DTEND;TZID=America/New_York:20241229T113000
DTSTAMP:20260421T212744
CREATED:20241121T192127Z
LAST-MODIFIED:20241206T185840Z
UID:10003580-1735467300-1735471800@fuusn.org
SUMMARY:Worship Service: Quaker Service (no Zoom)
DESCRIPTION:Anne Watson Born\, Director of Music Ministry\nOur annual Quaker-style service will be held on Sunday December 31\, 2023 at 10:15am in the Sanctuary. “…group silence is a type of communion\, using both the religious and secular meaning of the word. We are taking sustenance and solace from each other\, receiving a blessing of the spirit. We are also communing together\, experiencing community\, in silence with each other. We are all focused on becoming present to ourselves so that we can become present to others.” (Heather McRae-Wolf)
URL:https://fuusn.org/event/worship-service-quaker-service/
LOCATION:Sanctuary
CATEGORIES:Front Page,Special Services,Sunday Services
END:VEVENT
BEGIN:VEVENT
DTSTART;TZID=America/New_York:20241224T220000
DTEND;TZID=America/New_York:20241224T230000
DTSTAMP:20260421T212744
CREATED:20241121T191946Z
LAST-MODIFIED:20241223T144700Z
UID:10003579-1735077600-1735081200@fuusn.org
SUMMARY:Worship Service: Christmas Eve Music and Candles (no Zoom)
DESCRIPTION:Rev. Dr. Debra Haffner and Rev. Joel Miller\nThis cherished service brings readings to celebrate Christmas\, winter\, and new birth alongside musical offerings spanning many genres. Join us for quiet beauty\, contemplation and spiritual grounding to ring in Christmas. \nPlease join us in the parish hall after the 10:00 pm service to enjoy cookies and cider and greet friends returning from college and other far away places. \nThis service will not be available on Zoom.
URL:https://fuusn.org/event/worship-service-christmas-eve-music-and-candles/
LOCATION:Sanctuary
CATEGORIES:Front Page,Special Services
END:VEVENT
BEGIN:VEVENT
DTSTART;TZID=America/New_York:20241222T114500
DTEND;TZID=America/New_York:20241222T130000
DTSTAMP:20260421T212744
CREATED:20240812T150407Z
LAST-MODIFIED:20240812T150407Z
UID:10003116-1734867900-1734872400@fuusn.org
SUMMARY:Band Rehearsal
DESCRIPTION:
URL:https://fuusn.org/event/band-rehearsal/2024-12-22/
LOCATION:Sanctuary
CATEGORIES:Choir Rehearsals,Music Meetings
END:VEVENT
BEGIN:VEVENT
DTSTART;TZID=America/New_York:20241221T180000
DTEND;TZID=America/New_York:20241221T190000
DTSTAMP:20260421T212744
CREATED:20241114T192905Z
LAST-MODIFIED:20241206T185619Z
UID:10003573-1734804000-1734807600@fuusn.org
SUMMARY:Winter Solstice Service (no Zoom)
DESCRIPTION:On the eve of the winter solstice\, we gather to reflect on the ways that the darkness nourishes us and the light beckons us. After readings and music from many traditions’ observances of this longest night\, we process outside and offer our hopes for the light to come. \nThis service will not be available on Zoom.
URL:https://fuusn.org/event/winter-solstice-service/
LOCATION:Sanctuary
CATEGORIES:Front Page,Special Services
ORGANIZER;CN="Rev. Joel Miller":MAILTO:rev.joel@fusn.org
END:VEVENT
BEGIN:VEVENT
DTSTART;TZID=America/New_York:20241219T190000
DTEND;TZID=America/New_York:20241219T200000
DTSTAMP:20260421T212744
CREATED:20240812T150407Z
LAST-MODIFIED:20240812T150407Z
UID:10003115-1734634800-1734638400@fuusn.org
SUMMARY:Band Rehearsal
DESCRIPTION:
URL:https://fuusn.org/event/band-rehearsal/2024-12-19/
LOCATION:Sanctuary
CATEGORIES:Choir Rehearsals,Music Meetings
END:VEVENT
BEGIN:VEVENT
DTSTART;TZID=America/New_York:20241215T114500
DTEND;TZID=America/New_York:20241215T130000
DTSTAMP:20260421T212744
CREATED:20240812T150407Z
LAST-MODIFIED:20240812T150407Z
UID:10003114-1734263100-1734267600@fuusn.org
SUMMARY:Band Rehearsal
DESCRIPTION:
URL:https://fuusn.org/event/band-rehearsal/2024-12-15/
LOCATION:Sanctuary
CATEGORIES:Choir Rehearsals,Music Meetings
END:VEVENT
BEGIN:VEVENT
DTSTART;TZID=America/New_York:20241208T114500
DTEND;TZID=America/New_York:20241208T130000
DTSTAMP:20260421T212744
CREATED:20240812T150407Z
LAST-MODIFIED:20240812T150407Z
UID:10003113-1733658300-1733662800@fuusn.org
SUMMARY:Band Rehearsal
DESCRIPTION:
URL:https://fuusn.org/event/band-rehearsal/2024-12-08/
LOCATION:Sanctuary
CATEGORIES:Choir Rehearsals,Music Meetings
END:VEVENT
BEGIN:VEVENT
DTSTART;TZID=America/New_York:20241206T163000
DTEND;TZID=America/New_York:20241206T183000
DTSTAMP:20260421T212744
CREATED:20241202T152431Z
LAST-MODIFIED:20241202T152431Z
UID:10003585-1733502600-1733509800@fuusn.org
SUMMARY:Creationdance
DESCRIPTION:
URL:https://fuusn.org/event/creationdance-10/
LOCATION:Headstart Room
END:VEVENT
BEGIN:VEVENT
DTSTART;TZID=America/New_York:20241201T114500
DTEND;TZID=America/New_York:20241201T130000
DTSTAMP:20260421T212744
CREATED:20240812T150407Z
LAST-MODIFIED:20240812T150407Z
UID:10003112-1733053500-1733058000@fuusn.org
SUMMARY:Band Rehearsal
DESCRIPTION:
URL:https://fuusn.org/event/band-rehearsal/2024-12-01/
LOCATION:Sanctuary
CATEGORIES:Choir Rehearsals,Music Meetings
END:VEVENT
BEGIN:VEVENT
DTSTART;TZID=America/New_York:20241201T101500
DTEND;TZID=America/New_York:20241201T113000
DTSTAMP:20260421T212744
CREATED:20241121T190754Z
LAST-MODIFIED:20241121T190754Z
UID:10003576-1733048100-1733052600@fuusn.org
SUMMARY:Worship Service: Feel\, Deal\, Heal
DESCRIPTION:Devin Shmueli\, Director of Family and Community Ministries\nWhile recovery is not one-size-fits-all\, one thing we can learn from people in recovery – living with behavioral or substance addiction – is that it is necessary for one to lean into complex feelings rather than find unhealthy ways to cope. What does feel\, deal\, heal mean? Healing starts with feeling. \nYou may also join us on Zoom: https://bit.ly/fuusn-worship-2024-2025 \nSubmit your Joys and Sorrows here.
URL:https://fuusn.org/event/worship-service-feel-deal-heal/
LOCATION:Sanctuary
CATEGORIES:Front Page,Online Services,Sunday Services
END:VEVENT
BEGIN:VEVENT
DTSTART;TZID=America/New_York:20241124T114500
DTEND;TZID=America/New_York:20241124T130000
DTSTAMP:20260421T212744
CREATED:20240812T150407Z
LAST-MODIFIED:20240812T150407Z
UID:10003111-1732448700-1732453200@fuusn.org
SUMMARY:Band Rehearsal
DESCRIPTION:
URL:https://fuusn.org/event/band-rehearsal/2024-11-24/
LOCATION:Sanctuary
CATEGORIES:Choir Rehearsals,Music Meetings
END:VEVENT
END:VCALENDAR