BEGIN:VCALENDAR
VERSION:2.0
PRODID:-//First Unitarian Universalist Society in Newton - ECPv6.15.17.1//NONSGML v1.0//EN
CALSCALE:GREGORIAN
METHOD:PUBLISH
X-WR-CALNAME:First Unitarian Universalist Society in Newton
X-ORIGINAL-URL:https://fuusn.org
X-WR-CALDESC:Events for First Unitarian Universalist Society in Newton
REFRESH-INTERVAL;VALUE=DURATION:PT1H
X-Robots-Tag:noindex
X-PUBLISHED-TTL:PT1H
BEGIN:VTIMEZONE
TZID:America/New_York
BEGIN:DAYLIGHT
TZOFFSETFROM:-0500
TZOFFSETTO:-0400
TZNAME:EDT
DTSTART:20220313T070000
END:DAYLIGHT
BEGIN:STANDARD
TZOFFSETFROM:-0400
TZOFFSETTO:-0500
TZNAME:EST
DTSTART:20221106T060000
END:STANDARD
BEGIN:DAYLIGHT
TZOFFSETFROM:-0500
TZOFFSETTO:-0400
TZNAME:EDT
DTSTART:20230312T070000
END:DAYLIGHT
BEGIN:STANDARD
TZOFFSETFROM:-0400
TZOFFSETTO:-0500
TZNAME:EST
DTSTART:20231105T060000
END:STANDARD
BEGIN:DAYLIGHT
TZOFFSETFROM:-0500
TZOFFSETTO:-0400
TZNAME:EDT
DTSTART:20240310T070000
END:DAYLIGHT
BEGIN:STANDARD
TZOFFSETFROM:-0400
TZOFFSETTO:-0500
TZNAME:EST
DTSTART:20241103T060000
END:STANDARD
BEGIN:DAYLIGHT
TZOFFSETFROM:-0500
TZOFFSETTO:-0400
TZNAME:EDT
DTSTART:20250309T070000
END:DAYLIGHT
BEGIN:STANDARD
TZOFFSETFROM:-0400
TZOFFSETTO:-0500
TZNAME:EST
DTSTART:20251102T060000
END:STANDARD
END:VTIMEZONE
BEGIN:VEVENT
DTSTART;TZID=America/New_York:20241027T114500
DTEND;TZID=America/New_York:20241027T130000
DTSTAMP:20260422T014638
CREATED:20240812T150407Z
LAST-MODIFIED:20240812T150407Z
UID:10003107-1730029500-1730034000@fuusn.org
SUMMARY:Band Rehearsal
DESCRIPTION:
URL:https://fuusn.org/event/band-rehearsal/2024-10-27/
LOCATION:Sanctuary
CATEGORIES:Choir Rehearsals,Music Meetings
END:VEVENT
BEGIN:VEVENT
DTSTART;TZID=America/New_York:20241027T114500
DTEND;TZID=America/New_York:20241027T130000
DTSTAMP:20260422T014638
CREATED:20240812T145827Z
LAST-MODIFIED:20240812T145827Z
UID:10003102-1730029500-1730034000@fuusn.org
SUMMARY:Choir Rehearsal
DESCRIPTION:
URL:https://fuusn.org/event/choir-rehearsal-2/2024-10-27/
LOCATION:Sanctuary
CATEGORIES:Choir Rehearsals,Music Meetings
END:VEVENT
BEGIN:VEVENT
DTSTART;TZID=America/New_York:20241020T114500
DTEND;TZID=America/New_York:20241020T130000
DTSTAMP:20260422T014638
CREATED:20240812T150407Z
LAST-MODIFIED:20240812T150407Z
UID:10003106-1729424700-1729429200@fuusn.org
SUMMARY:Band Rehearsal
DESCRIPTION:
URL:https://fuusn.org/event/band-rehearsal/2024-10-20/
LOCATION:Sanctuary
CATEGORIES:Choir Rehearsals,Music Meetings
END:VEVENT
BEGIN:VEVENT
DTSTART;TZID=America/New_York:20241004T170000
DTEND;TZID=America/New_York:20241004T200000
DTSTAMP:20260422T014638
CREATED:20240813T155441Z
LAST-MODIFIED:20240813T155441Z
UID:10003127-1728061200-1728072000@fuusn.org
SUMMARY:Private Rehearsal
DESCRIPTION:
URL:https://fuusn.org/event/private-rehearsal/2024-10-04/
LOCATION:Sanctuary
CATEGORIES:Private Event
END:VEVENT
BEGIN:VEVENT
DTSTART;TZID=America/New_York:20241001T130000
DTEND;TZID=America/New_York:20241001T153000
DTSTAMP:20260422T014638
CREATED:20240813T155441Z
LAST-MODIFIED:20240813T155441Z
UID:10003126-1727787600-1727796600@fuusn.org
SUMMARY:Private Rehearsal
DESCRIPTION:
URL:https://fuusn.org/event/private-rehearsal/2024-10-01/
LOCATION:Sanctuary
CATEGORIES:Private Event
END:VEVENT
BEGIN:VEVENT
DTSTART;TZID=America/New_York:20240929T114500
DTEND;TZID=America/New_York:20240929T130000
DTSTAMP:20260422T014638
CREATED:20240812T145827Z
LAST-MODIFIED:20240812T145827Z
UID:10003101-1727610300-1727614800@fuusn.org
SUMMARY:Choir Rehearsal
DESCRIPTION:
URL:https://fuusn.org/event/choir-rehearsal-2/2024-09-29/
LOCATION:Sanctuary
CATEGORIES:Choir Rehearsals,Music Meetings
END:VEVENT
BEGIN:VEVENT
DTSTART;TZID=America/New_York:20240424T183000
DTEND;TZID=America/New_York:20240424T203000
DTSTAMP:20260422T014638
CREATED:20240402T155557Z
LAST-MODIFIED:20240402T160257Z
UID:10001465-1713983400-1713990600@fuusn.org
SUMMARY:FUUSN Band
DESCRIPTION:
URL:https://fuusn.org/event/fuusn-band-6/
LOCATION:Sanctuary
END:VEVENT
BEGIN:VEVENT
DTSTART;TZID=America/New_York:20240414T113000
DTEND;TZID=America/New_York:20240414T130000
DTSTAMP:20260422T014638
CREATED:20240402T165645Z
LAST-MODIFIED:20240402T165645Z
UID:10001467-1713094200-1713099600@fuusn.org
SUMMARY:FUUSN Band
DESCRIPTION:
URL:https://fuusn.org/event/fuusn-band-7/
LOCATION:Sanctuary
END:VEVENT
BEGIN:VEVENT
DTSTART;TZID=America/New_York:20240407T113000
DTEND;TZID=America/New_York:20240407T130000
DTSTAMP:20260422T014638
CREATED:20240402T155349Z
LAST-MODIFIED:20240402T155349Z
UID:10001463-1712489400-1712494800@fuusn.org
SUMMARY:FUUSN Band
DESCRIPTION:
URL:https://fuusn.org/event/fuusn-band-4/
LOCATION:Sanctuary
END:VEVENT
BEGIN:VEVENT
DTSTART;TZID=America/New_York:20240210T100000
DTEND;TZID=America/New_York:20240210T130000
DTSTAMP:20260422T014638
CREATED:20231204T164555Z
LAST-MODIFIED:20240205T161501Z
UID:10001039-1707559200-1707570000@fuusn.org
SUMMARY:FUUSN Band Rehearsal
DESCRIPTION:
URL:https://fuusn.org/event/fuusn-band-rehearsal-5/
LOCATION:Sanctuary
CATEGORIES:Music Meetings
END:VEVENT
BEGIN:VEVENT
DTSTART;TZID=America/New_York:20240204T113000
DTEND;TZID=America/New_York:20240204T133000
DTSTAMP:20260422T014638
CREATED:20231204T164458Z
LAST-MODIFIED:20231204T164458Z
UID:10001038-1707046200-1707053400@fuusn.org
SUMMARY:FUUSN Band Rehearsal
DESCRIPTION:
URL:https://fuusn.org/event/fuusn-band-rehearsal-4/
LOCATION:Sanctuary
END:VEVENT
BEGIN:VEVENT
DTSTART;TZID=America/New_York:20240203T100000
DTEND;TZID=America/New_York:20240203T140000
DTSTAMP:20260422T014638
CREATED:20231204T163557Z
LAST-MODIFIED:20240122T163355Z
UID:10001037-1706954400-1706968800@fuusn.org
SUMMARY:FUUSN Band Rehearsal
DESCRIPTION:
URL:https://fuusn.org/event/fuusn-band-rehearsal-3/
LOCATION:Sanctuary
END:VEVENT
BEGIN:VEVENT
DTSTART;TZID=America/New_York:20240128T113000
DTEND;TZID=America/New_York:20240128T130000
DTSTAMP:20260422T014638
CREATED:20231204T162956Z
LAST-MODIFIED:20231204T163200Z
UID:10001036-1706441400-1706446800@fuusn.org
SUMMARY:FUUSN Band Rehearsal
DESCRIPTION:
URL:https://fuusn.org/event/fuusn-band-rehearsal-2/2024-01-28/
LOCATION:Sanctuary
END:VEVENT
BEGIN:VEVENT
DTSTART;TZID=America/New_York:20240121T113000
DTEND;TZID=America/New_York:20240121T130000
DTSTAMP:20260422T014638
CREATED:20231204T162956Z
LAST-MODIFIED:20231204T163200Z
UID:10001035-1705836600-1705842000@fuusn.org
SUMMARY:FUUSN Band Rehearsal
DESCRIPTION:
URL:https://fuusn.org/event/fuusn-band-rehearsal-2/2024-01-21/
LOCATION:Sanctuary
END:VEVENT
BEGIN:VEVENT
DTSTART;TZID=America/New_York:20240114T113000
DTEND;TZID=America/New_York:20240114T130000
DTSTAMP:20260422T014638
CREATED:20231204T162956Z
LAST-MODIFIED:20231204T163200Z
UID:10001034-1705231800-1705237200@fuusn.org
SUMMARY:FUUSN Band Rehearsal
DESCRIPTION:
URL:https://fuusn.org/event/fuusn-band-rehearsal-2/2024-01-14/
LOCATION:Sanctuary
END:VEVENT
BEGIN:VEVENT
DTSTART;TZID=America/New_York:20240107T113000
DTEND;TZID=America/New_York:20240107T130000
DTSTAMP:20260422T014638
CREATED:20231204T162956Z
LAST-MODIFIED:20231204T163200Z
UID:10001033-1704627000-1704632400@fuusn.org
SUMMARY:FUUSN Band Rehearsal
DESCRIPTION:
URL:https://fuusn.org/event/fuusn-band-rehearsal-2/2024-01-07/
LOCATION:Sanctuary
END:VEVENT
BEGIN:VEVENT
DTSTART;TZID=America/New_York:20231231T101500
DTEND;TZID=America/New_York:20231231T110000
DTSTAMP:20260422T014638
CREATED:20231121T165001Z
LAST-MODIFIED:20231205T195902Z
UID:10001013-1704017700-1704020400@fuusn.org
SUMMARY:Quaker Service - 10:15 am
DESCRIPTION:Our annual Quaker-style service will be held on Sunday December 31\, 2023 at 10:15am in the Sanctuary. “…group silence is a type of communion\, using both the religious and secular meaning of the word. We are taking sustenance and solace from each other\, receiving a blessing of the spirit. We are also communing together\, experiencing community\, in silence with each other. We are all focused on becoming present to ourselves so that we can become present to others.” (Heather McRae-Wolf)
URL:https://fuusn.org/event/christmas-eve-service-1000-p-m/
LOCATION:Sanctuary
CATEGORIES:Sunday Services
END:VEVENT
BEGIN:VEVENT
DTSTART;TZID=America/New_York:20231224T220000
DTEND;TZID=America/New_York:20231224T230000
DTSTAMP:20260422T014638
CREATED:20231121T165426Z
LAST-MODIFIED:20231212T211151Z
UID:10001014-1703455200-1703458800@fuusn.org
SUMMARY:Christmas Eve Music and Candles
DESCRIPTION:This cherished service brings readings to celebrate Christmas\, winter\, and new birth alongside musical offerings spanning many genres. Join us for quiet beauty\, contemplation and spiritual grounding to ring in Christmas.
URL:https://fuusn.org/event/christmas-eve-service-1000-pm/
LOCATION:Sanctuary
CATEGORIES:Special Services,Sunday Services
END:VEVENT
BEGIN:VEVENT
DTSTART;TZID=America/New_York:20231224T190000
DTEND;TZID=America/New_York:20231224T200000
DTSTAMP:20260422T014638
CREATED:20231121T164827Z
LAST-MODIFIED:20231211T205103Z
UID:10001012-1703444400-1703448000@fuusn.org
SUMMARY:Christmas Eve Lessons and Carols
DESCRIPTION:Join us for a beautiful service of lessons and carols to recall the timeless Christmas story and let it enter our hearts anew. Our Sanctuary Choir will sing\, and we will end the service with candlelight and “Silent Night.” Come early to hear our Chime ring out holiday cheer (starts at 6:40).
URL:https://fuusn.org/event/christmas-eve-service/
LOCATION:Sanctuary
CATEGORIES:Sunday Services
END:VEVENT
BEGIN:VEVENT
DTSTART;TZID=America/New_York:20231221T183000
DTEND;TZID=America/New_York:20231221T193000
DTSTAMP:20260422T014638
CREATED:20230714T151259Z
LAST-MODIFIED:20231129T190354Z
UID:10000048-1703183400-1703187000@fuusn.org
SUMMARY:Solstice/Longest Night Celebration
DESCRIPTION:On the eve of the winter solstice\, we gather to reflect on the ways that the darkness nourishes us and the light beckons us. After readings and music from many traditions’ observances of this longest night\, we process outside and offer our hopes for the light to come.
URL:https://fuusn.org/event/longest-night-celebration/
LOCATION:Sanctuary
ORGANIZER;CN="Rev. Parisa Parsa":MAILTO:parisa@fuusn.org
END:VEVENT
BEGIN:VEVENT
DTSTART;TZID=America/New_York:20231216T093000
DTEND;TZID=America/New_York:20231216T113000
DTSTAMP:20260422T014638
CREATED:20231204T162652Z
LAST-MODIFIED:20231204T162652Z
UID:10001032-1702719000-1702726200@fuusn.org
SUMMARY:FUUSN Band Rehearsal
DESCRIPTION:
URL:https://fuusn.org/event/fuusn-band-rehearsal/
LOCATION:Sanctuary
CATEGORIES:Music Meetings
END:VEVENT
BEGIN:VEVENT
DTSTART;TZID=America/New_York:20231119T170000
DTEND;TZID=America/New_York:20231119T180000
DTSTAMP:20260422T014638
CREATED:20230714T150537Z
LAST-MODIFIED:20231106T195007Z
UID:10000047-1700413200-1700416800@fuusn.org
SUMMARY:Transgender Day of Remembrance Vigil
DESCRIPTION:We invite people of all faiths and identities to our annual vigil in memory of all those around the world whose lives were lost to violence due to their transgender identity. the ritual includes a litany of the names of those who were lost\, music\, prayers and candlelight.
URL:https://fuusn.org/event/transgender-day-of-remembrance-vigil/
LOCATION:Sanctuary
CATEGORIES:Public Events,Special Services
ORGANIZER;CN="Rev. Parisa Parsa":MAILTO:parisa@fuusn.org
END:VEVENT
BEGIN:VEVENT
DTSTART;TZID=America/New_York:20231028T150000
DTEND;TZID=America/New_York:20231028T170000
DTSTAMP:20260422T014638
CREATED:20230920T141852Z
LAST-MODIFIED:20230920T141852Z
UID:10000711-1698505200-1698512400@fuusn.org
SUMMARY:Creationdance
DESCRIPTION:
URL:https://fuusn.org/event/creationdance-3/
LOCATION:Sanctuary
CATEGORIES:Music Meetings
END:VEVENT
BEGIN:VEVENT
DTSTART;TZID=America/New_York:20231008T101500
DTEND;TZID=America/New_York:20231008T113000
DTSTAMP:20260422T014638
CREATED:20230830T213822Z
LAST-MODIFIED:20230830T221636Z
UID:10000594-1696760100-1696764600@fuusn.org
SUMMARY:Sunday Service
DESCRIPTION:Rev. Phyllis O’Connell Preaching
URL:https://fuusn.org/event/sunday/
LOCATION:Sanctuary
CATEGORIES:Online Services,Sunday Services
END:VEVENT
BEGIN:VEVENT
DTSTART;TZID=America/New_York:20230924T101500
DTEND;TZID=America/New_York:20230924T113000
DTSTAMP:20260422T014638
CREATED:20230830T221430Z
LAST-MODIFIED:20230913T150831Z
UID:10000595-1695550500-1695555000@fuusn.org
SUMMARY:What Makes You Come Back?
DESCRIPTION:Rev. Parisa Parsa \nDiving deep into the Christian Testament parable of the Prodigal Son\, this morning we explore the spiritual invitation to return. What does welcome look like and how do we open our arms and our hearts when we have been hurt? How can we learn to see and understand one another anew?
URL:https://fuusn.org/event/comeback/
LOCATION:Sanctuary
CATEGORIES:Online Services,Public Events,Sunday Services
END:VEVENT
BEGIN:VEVENT
DTSTART;TZID=America/New_York:20230917T114500
DTEND;TZID=America/New_York:20230917T234500
DTSTAMP:20260422T014638
CREATED:20230824T153509Z
LAST-MODIFIED:20230824T153509Z
UID:10000554-1694951100-1694994300@fuusn.org
SUMMARY:Band Practice
DESCRIPTION:
URL:https://fuusn.org/event/band-practice-2/
LOCATION:Sanctuary
CATEGORIES:Music Meetings
END:VEVENT
BEGIN:VEVENT
DTSTART;TZID=America/New_York:20230910T114500
DTEND;TZID=America/New_York:20230910T130000
DTSTAMP:20260422T014638
CREATED:20230824T153104Z
LAST-MODIFIED:20230824T154000Z
UID:10000551-1694346300-1694350800@fuusn.org
SUMMARY:Band Practice
DESCRIPTION:
URL:https://fuusn.org/event/band-practice/
LOCATION:Sanctuary
CATEGORIES:Music Meetings
END:VEVENT
END:VCALENDAR